Workbook

Sheet rt2
A1: GROUP | B1: CUST | C1: NAME | E1: RATE | F1: JUL 2010 $ | G1: JUL 2010 A | H1: AUG 2010 $ | I1: AUG 2010 A | J1: SEP 2010 $ | K1: SEP 2010 A | L1: OCT 2010 $ | M1: OCT 2010 A | N1: NOV 2010 $ | O1: NOV 2010 A | P1: DEC 2010 $ | Q1: DEC 2010 A | R1: JAN 2011 $ | S1: JAN 2011 A | T1: FEB 2011 $ | U1: FEB 2011 A | V1: MAR 2011 $ | W1: MAR 2011 A | X1: APR 2011 $ | Y1: APR 2011 A | Z1: MAY 2011 $ | AA1: MAY 2011 A | AB1: JUN 2011 $ | AC1: JUN 2011 A | AD1: JUL 2011 $ | AE1: JUL 2011 A | AF1: AUG 2011 $ | AG1: AUG 2011 A | AH1: SEP 2011 $ | AI1: SEP 2011 A | AJ1: OCT 2011 $ | AK1: OCT 2011 A | AL1: NOV 2011 $ | AM1: NOV 2011 A | AN1: DEC 2011 $ | AO1: DEC 2011 A | AP1: JAN 2012 $ | AQ1: JAN 2012 A | AR1: FEB 2012 $ | AS1: FEB 2012 A | AT1: MAR 2012 $ | AU1: MAR 2012 A | AV1: APR 2012 $ | AW1: APR 2012 A | AX1: MAY 2012 $ | AY1: MAY 2012 A | AZ1: JUN 2012 $ | BA1: JUN 2012 A | BB1: FY2012 | BC1: FY2011
C2: Starting Date for this period ---->>>> | D2: Rate Description | F2: 41114 | H2: 41145 | J2: 41176 | L2: 41205 | N2: 41236 | P2: 41266 | R2: 40934 | T2: 40963 | V2: 40991 | X2: 41025 | Z2: 41053 | AB2: 41083 | AD2: 41116 | AF2: 41144 | AH2: 41176 | AJ2: 41207 | AL2: 41236 | AN2: 41266 | AP2: 40934 | AR2: 40963 | AT2: 40991 | AV2: 41024 | AX2: 41052 | AZ2: 41083
A4: FLEX | B4: 16206 | C4: HENRICO COUNTY PUBLIC SCHOOLS | D4: Margin | E4: GFS2 | F4: =ROUND(Volume!E7*'rt2'!F$758,2)-F5 -> 0 | G4: 0 | H4: =ROUND(Volume!G7*'rt2'!H$758,2)-H5 -> 0 | I4: 0 | J4: =ROUND(Volume!I7*'rt2'!J$758,2)-J5 -> 341.52 | K4: 0 | L4: =ROUND(Volume!K7*'rt2'!L$758,2)-L5 -> 3590.54 | M4: 0 | N4: =ROUND(Volume!M7*'rt2'!N$758,2)-N5 -> 4232.98 | O4: 0 | P4: =ROUND(Volume!O7*'rt2'!P$758,2)-P5 -> 7712.34 | Q4: 0 | R4: =ROUND(Volume!Q7*'rt2'!R$758,2)-R5 -> 6838.7 | S4: 0 | T4: =ROUND(Volume!S7*'rt2'!T$758,2)-T5 -> 4553.95 | U4: 0 | V4: =ROUND(Volume!U7*'rt2'!V$758,2)-V5 -> 5001.96 | W4: 0 | X4: =ROUND(Volume!W7*'rt2'!X$758,2)-X5 -> 619.92 | Y4: 0 | Z4: =ROUND(Volume!Y7*'rt2'!Z$758,2)-Z5 -> 0.34 | AA4: 0 | AB4: =ROUND(Volume!AA7*'rt2'!AB$758,2)-AB5 -> 0 | AC4: 0 | AD4: =ROUND(Volume!AC7*'rt2'!AD$758,2)-AD5 -> 0 | AE4: 0 | AF4: 0 | AG4: 0 | AH4: 0 | AI4: 0 | AJ4: 0 | AK4: 0 | AL4: 0 | AM4: 0 | AN4: 0 | AO4: 0 | AP4: 0 | AQ4: 0 | AR4: 0 | AS4: 0 | AT4: 0 | AU4: 0 | AV4: 0 | AW4: 0 | AX4: 0 | AY4: 0 | AZ4: 0 | BA4: 0 | BB4: =SUM(AD4:BA4) -> 0 | BC4: =SUM(F4:AC4) -> 32892.25
A5: FLEX | B5: 16206 | C5: HENRICO COUNTY PUBLIC SCHOOLS | D5: Gas Cost | F5: =ROUND(Volume!E7*'rt2'!F$759,2) -> 0 | H5: =ROUND(Volume!G7*'rt2'!H$759,2) -> 0 | J5: =ROUND(Volume!I7*'rt2'!J$759,2) -> 307.11 | L5: =ROUND(Volume!K7*'rt2'!L$759,2) -> 2505.83 | N5: =ROUND(Volume!M7*'rt2'!N$759,2) -> 5246.93 | P5: =ROUND(Volume!O7*'rt2'!P$759,2) -> 9559.71 | R5: =ROUND(Volume!Q7*'rt2'!R$759,2) -> 8583.88 | T5: =ROUND(Volume!S7*'rt2'!T$759,2) -> 5841.62 | V5: =ROUND(Volume!U7*'rt2'!V$759,2) -> 5349.27 | X5: =ROUND(Volume!W7*'rt2'!X$759,2) -> 843.14 | Z5: =ROUND(Volume!Y7*'rt2'!Z$759,2) -> 0.48 | AB5: =ROUND(Volume!AA7*'rt2'!AB$759,2) -> 0 | AD5: =ROUND(Volume!AC7*'rt2'!AD$759,2) -> 0 | BB5: =SUM(AD5:BA5) -> 0 | BC5: =SUM(F5:AC5) -> 38237.97
A6: FLEX | B6: 16206 | C6: HENRICO COUNTY PUBLIC SCHOOLS | D6: Minimum | E6: + | F6: =IF(378>(F4+F5),378-(F4+F5),0) -> 378 | H6: =IF(378>(H4+H5),378-(H4+H5),0) -> 378 | J6: =IF(378>(J4+J5),378-(J4+J5),0) -> 0 | L6: =IF(378>(L4+L5),378-(L4+L5),0) -> 0 | N6: =IF(378>(N4+N5),378-(N4+N5),0) -> 0 | P6: =IF(378>(P4+P5),378-(P4+P5),0) -> 0 | R6: =IF(378>(R4+R5),378-(R4+R5),0) -> 0 | T6: =IF(378>(T4+T5),378-(T4+T5),0) -> 0 | V6: =IF(378>(V4+V5),378-(V4+V5),0) -> 0 | X6: =IF(378>(X4+X5),378-(X4+X5),0) -> 0 | Z6: =IF(378>(Z4+Z5),378-(Z4+Z5),0) -> 377.18 | AB6: =IF(378>(AB4+AB5),378-(AB4+AB5),0) -> 378 | AD6: =IF(378>(AD4+AD5),378-(AD4+AD5),0) -> 378 | BB6: =SUM(AD6:BA6) -> 378 | BC6: =SUM(F6:AC6) -> 1511.18
BB7: =SUM(AD7:BA7) -> 0 | BC7: =SUM(F7:AC7) -> 0
A8: FLEX | B8: 161306 | C8: ST JOSEPHS VILLA | D8: Margin | E8: GFS2 | F8: =ROUND(Volume!E11*'rt2'!F$758,2)-F9 -> 0 | G8: 0 | H8: =ROUND(Volume!G11*'rt2'!H$758,2)-H9 -> 0 | I8: 0 | J8: =ROUND(Volume!I11*'rt2'!J$758,2)-J9 -> 458.21 | K8: 0 | L8: =ROUND(Volume!K11*'rt2'!L$758,2)-L9 -> 1662.87 | M8: 0 | N8: =ROUND(Volume!M11*'rt2'!N$758,2)-N9 -> 4063.1 | O8: 0 | P8: =ROUND(Volume!O11*'rt2'!P$758,2)-P9 -> 9434.64 | Q8: 0 | R8: =ROUND(Volume!Q11*'rt2'!R$758,2)-R9 -> 9044.79 | S8: 0 | T8: =ROUND(Volume!S11*'rt2'!T$758,2)-T9 -> 7147.77 | U8: 0 | V8: =ROUND(Volume!U11*'rt2'!V$758,2)-V9 -> 6706.25 | W8: 0 | X8: =ROUND(Volume!W11*'rt2'!X$758,2)-X9 -> 2018.45 | Y8: 0 | Z8: =ROUND(Volume!Y11*'rt2'!Z$758,2)-Z9 -> 0 | AA8: 0 | AB8: =ROUND(Volume!AA11*'rt2'!AB$758,2)-AB9 -> 0 | AC8: 0 | AD8: =ROUND(Volume!AC11*'rt2'!AD$758,2)-AD9 -> 0 | AE8: 0 | AF8: =ROUND(Volume!AE11*'rt2'!AF$758,2)-AF9 -> 0 | AG8: 0 | AH8: =ROUND(Volume!AG11*'rt2'!AH$758,2)-AH9 -> 0 | AI8: 0 | AJ8: =ROUND(Volume!AI11*'rt2'!AJ$758,2)-AJ9 -> 95.3 | AK8: 0 | AL8: =ROUND(Volume!AK11*'rt2'!AL$758,2)-AL9 -> 5994.78 | AM8: 0 | AN8: =ROUND(Volume!AM11*'rt2'!AN$758,2)-AN9 -> 6845.56 | AO8: 0 | AP8: =ROUND(Volume!AO11*'rt2'!AP$758,2)-AP9 -> 8643.22 | AQ8: 0 | AR8: =ROUND(Volume!AQ11*'rt2'!AR$758,2)-AR9 -> 7775.38 | AS8: 0 | AT8: =ROUND(Volume!AS11*'rt2'!AT$758,2)-AT9 -> 4725.51 | AU8: 0 | AV8: =ROUND(Volume!AU11*'rt2'!AV$758,2)-AV9 -> 1695 | AW8: 0 | AX8: =ROUND(Volume!AW11*'rt2'!AX$758,2)-AX9 -> 8.58 | AY8: 0 | AZ8: =ROUND(Volume!AY11*'rt2'!AZ$758,2)-AZ9 -> 0 | BA8: 0 | BB8: =SUM(AD8:BA8) -> 35783.33 | BC8: =SUM(F8:AC8) -> 40536.08
A9: FLEX | B9: 161306 | C9: ST JOSEPHS VILLA | D9: Gas Cost | F9: =ROUND(Volume!E11*'rt2'!F$759,2) -> 0 | H9: =ROUND(Volume!G11*'rt2'!H$759,2) -> 0 | J9: =ROUND(Volume!I11*'rt2'!J$759,2) -> 412.05 | L9: =ROUND(Volume!K11*'rt2'!L$759,2) -> 1160.51 | N9: =ROUND(Volume!M11*'rt2'!N$759,2) -> 5036.37 | P9: =ROUND(Volume!O11*'rt2'!P$759,2) -> 11694.57 | R9: =ROUND(Volume!Q11*'rt2'!R$759,2) -> 11352.93 | T9: =ROUND(Volume!S11*'rt2'!T$759,2) -> 9168.85 | V9: =ROUND(Volume!U11*'rt2'!V$759,2) -> 7171.89 | X9: =ROUND(Volume!W11*'rt2'!X$759,2) -> 2745.3 | Z9: =ROUND(Volume!Y11*'rt2'!Z$759,2) -> 0 | AB9: =ROUND(Volume!AA11*'rt2'!AB$759,2) -> 0 | AD9: =ROUND(Volume!AC11*'rt2'!AD$759,2) -> 0 | AF9: =ROUND(Volume!AE11*'rt2'!AF$759,2) -> 0 | AH9: =ROUND(Volume!AG11*'rt2'!AH$759,2) -> 0 | AJ9: =ROUND(Volume!AI11*'rt2'!AJ$759,2) -> 96.13 | AL9: =ROUND(Volume!AK11*'rt2'!AL$759,2) -> 5328.02 | AN9: =ROUND(Volume!AM11*'rt2'!AN$759,2) -> 6257.96 | AP9: =ROUND(Volume!AO11*'rt2'!AP$759,2) -> 6777.77 | AR9: =ROUND(Volume!AQ11*'rt2'!AR$759,2) -> 4871.81 | AT9: =ROUND(Volume!AS11*'rt2'!AT$759,2) -> 2578.1 | AV9: =ROUND(Volume!AU11*'rt2'!AV$759,2) -> 926.22 | AX9: =ROUND(Volume!AW11*'rt2'!AX$759,2) -> 4.32 | AZ9: =ROUND(Volume!AY11*'rt2'!AZ$759,2) -> 0 | BB9: =SUM(AD9:BA9) -> 26840.33 | BC9: =SUM(F9:AC9) -> 48742.47
A10: FLEX | B10: 161306 | C10: ST JOSEPHS VILLA | D10: Minimum | E10: + | F10: =IF(378>(F8+F9),378-(F8+F9),0) -> 378 | H10: =IF(378>(H8+H9),378-(H8+H9),0) -> 378 | J10: =IF(378>(J8+J9),378-(J8+J9),0) -> 0 | L10: =IF(378>(L8+L9),378-(L8+L9),0) -> 0 | N10: =IF(378>(N8+N9),378-(N8+N9),0) -> 0 | P10: =IF(378>(P8+P9),378-(P8+P9),0) -> 0 | R10: =IF(378>(R8+R9),378-(R8+R9),0) -> 0 | T10: =IF(378>(T8+T9),378-(T8+T9),0) -> 0 | V10: =IF(378>(V8+V9),378-(V8+V9),0) -> 0 | X10: =IF(378>(X8+X9),378-(X8+X9),0) -> 0 | Z10: =IF(378>(Z8+Z9),378-(Z8+Z9),0) -> 378 | AB10: =IF(378>(AB8+AB9),378-(AB8+AB9),0) -> 378 | AD10: =IF(378>(AD8+AD9),378-(AD8+AD9),0) -> 378 | AF10: =IF(378>(AF8+AF9),378-(AF8+AF9),0) -> 378 | AH10: =IF(378>(AH8+AH9),378-(AH8+AH9),0) -> 378 | AJ10: =IF(378>(AJ8+AJ9),378-(AJ8+AJ9),0) -> 186.57 | AL10: =IF(378>(AL8+AL9),378-(AL8+AL9),0) -> 0 | AN10: =IF(378>(AN8+AN9),378-(AN8+AN9),0) -> 0 | AP10: =IF(378>(AP8+AP9),378-(AP8+AP9),0) -> 0 | AR10: =IF(378>(AR8+AR9),378-(AR8+AR9),0) -> 0 | AT10: =IF(378>(AT8+AT9),378-(AT8+AT9),0) -> 0 | AV10: =IF(378>(AV8+AV9),378-(AV8+AV9),0) -> 0 | AX10: =IF(378>(AX8+AX9),378-(AX8+AX9),0) -> 365.1 | AZ10: =IF(378>(AZ8+AZ9),378-(AZ8+AZ9),0) -> 378 | BB10: =SUM(AD10:BA10) -> 2063.67 | BC10: =SUM(F10:AC10) -> 1512
BB11: =SUM(AD11:BA11) -> 0 | BC11: =SUM(F11:AC11) -> 0
A12: FLEX | B12: 161561 | C12: THE GREENHOUSE | D12: Margin | E12: GFS2 | F12: =ROUND(Volume!E15*'rt2'!F$758,2)-F13 -> 0 | G12: 0 | H12: =ROUND(Volume!G15*'rt2'!H$758,2)-H13 -> 0 | I12: 0 | J12: =ROUND(Volume!I15*'rt2'!J$758,2)-J13 -> 244.82 | K12: 0 | L12: =ROUND(Volume!K15*'rt2'!L$758,2)-L13 -> 1976.16 | M12: 0 | N12: =ROUND(Volume!M15*'rt2'!N$758,2)-N13 -> 2724.95 | O12: 0 | P12: =ROUND(Volume!O15*'rt2'!P$758,2)-P13 -> 3172.8 | Q12: 0 | R12: =ROUND(Volume!Q15*'rt2'!R$758,2)-R13 -> 2674.98 | S12: 0 | T12: =ROUND(Volume!S15*'rt2'!T$758,2)-T13 -> 2577.91 | U12: 0 | V12: =ROUND(Volume!U15*'rt2'!V$758,2)-V13 -> 2335.23 | W12: 0 | X12: =ROUND(Volume!W15*'rt2'!X$758,2)-X13 -> 443.14 | Y12: 0 | Z12: =ROUND(Volume!Y15*'rt2'!Z$758,2)-Z13 -> 0 | AA12: 0 | AB12: =ROUND(Volume!AA15*'rt2'!AB$758,2)-AB13 -> 0 | AC12: 0 | AD12: =ROUND(Volume!AC15*'rt2'!AD$758,2)-AD13 -> 0 | AE12: 0 | AF12: =ROUND(Volume!AE15*'rt2'!AF$758,2)-AF13 -> 2.75 | AG12: 0 | AH12: =ROUND(Volume!AG15*'rt2'!AH$758,2)-AH13 -> 273.81 | AI12: 0 | AJ12: =ROUND(Volume!AI15*'rt2'!AJ$758,2)-AJ13 -> 1562.81 | AK12: 0 | AL12: =ROUND(Volume!AK15*'rt2'!AL$758,2)-AL13 -> 2766.82 | AM12: 0 | AN12: =ROUND(Volume!AM15*'rt2'!AN$758,2)-AN13 -> 2425.87 | AO12: 0 | AP12: =ROUND(Volume!AO15*'rt2'!AP$758,2)-AP13 -> 2133.85 | AQ12: 0 | AR12: =ROUND(Volume!AQ15*'rt2'!AR$758,2)-AR13 -> 2819.84 | AS12: 0 | AT12: =ROUND(Volume!AS15*'rt2'!AT$758,2)-AT13 -> 974.42 | AU12: 0 | AV12: =ROUND(Volume!AU15*'rt2'!AV$758,2)-AV13 -> 1190.71 | AW12: 0 | AX12: =ROUND(Volume!AW15*'rt2'!AX$758,2)-AX13 -> 155.32 | AY12: 0 | AZ12: =ROUND(Volume!AY15*'rt2'!AZ$758,2)-AZ13 -> 0 | BA12: 0 | BB12: =SUM(AD12:BA12) -> 14306.2 | BC12: =SUM(F12:AC12) -> 16149.99
A13: FLEX | B13: 161561 | C13: THE GREENHOUSE | D13: Gas Cost | F13: =ROUND(Volume!E15*'rt2'!F$759,2) -> 0 | H13: =ROUND(Volume!G15*'rt2'!H$759,2) -> 0 | J13: =ROUND(Volume!I15*'rt2'!J$759,2) -> 220.16 | L13: =ROUND(Volume!K15*'rt2'!L$759,2) -> 1379.15 | N13: =ROUND(Volume!M15*'rt2'!N$759,2) -> 3377.68 | P13: =ROUND(Volume!O15*'rt2'!P$759,2) -> 3932.81 | R13: =ROUND(Volume!Q15*'rt2'!R$759,2) -> 3357.61 | T13: =ROUND(Volume!S15*'rt2'!T$759,2) -> 3306.83 | V13: =ROUND(Volume!U15*'rt2'!V$759,2) -> 2497.37 | X13: =ROUND(Volume!W15*'rt2'!X$759,2) -> 602.72 | Z13: =ROUND(Volume!Y15*'rt2'!Z$759,2) -> 0 | AB13: =ROUND(Volume!AA15*'rt2'!AB$759,2) -> 0 | AD13: =ROUND(Volume!AC15*'rt2'!AD$759,2) -> 0 | AF13: =ROUND(Volume!AE15*'rt2'!AF$759,2) -> 3.88 | AH13: =ROUND(Volume!AG15*'rt2'!AH$759,2) -> 293.03 | AJ13: =ROUND(Volume!AI15*'rt2'!AJ$759,2) -> 1576.38 | AL13: =ROUND(Volume!AK15*'rt2'!AL$759,2) -> 2459.09 | AN13: =ROUND(Volume!AM15*'rt2'!AN$759,2) -> 2217.64 | AP13: =ROUND(Volume!AO15*'rt2'!AP$759,2) -> 1673.31 | AR13: =ROUND(Volume!AQ15*'rt2'!AR$759,2) -> 1766.82 | AT13: =ROUND(Volume!AS15*'rt2'!AT$759,2) -> 531.62 | AV13: =ROUND(Volume!AU15*'rt2'!AV$759,2) -> 650.66 | AX13: =ROUND(Volume!AW15*'rt2'!AX$759,2) -> 78.16 | AZ13: =ROUND(Volume!AY15*'rt2'!AZ$759,2) -> 0 | BB13: =SUM(AD13:BA13) -> 11250.59 | BC13: =SUM(F13:AC13) -> 18674.33
A14: FLEX | B14: 161561 | C14: THE GREENHOUSE | D14: Minimum | E14: + | F14: =IF(378>(F12+F13),378-(F12+F13),0) -> 378 | H14: =IF(378>(H12+H13),378-(H12+H13),0) -> 378 | J14: =IF(378>(J12+J13),378-(J12+J13),0) -> 0 | L14: =IF(378>(L12+L13),378-(L12+L13),0) -> 0 | N14: =IF(378>(N12+N13),378-(N12+N13),0) -> 0 | P14: =IF(378>(P12+P13),378-(P12+P13),0) -> 0 | R14: =IF(378>(R12+R13),378-(R12+R13),0) -> 0 | T14: =IF(378>(T12+T13),378-(T12+T13),0) -> 0 | V14: =IF(378>(V12+V13),378-(V12+V13),0) -> 0 | X14: =IF(378>(X12+X13),378-(X12+X13),0) -> 0 | Z14: =IF(378>(Z12+Z13),378-(Z12+Z13),0) -> 378 | AB14: =IF(378>(AB12+AB13),378-(AB12+AB13),0) -> 378 | AD14: =IF(378>(AD12+AD13),378-(AD12+AD13),0) -> 378 | AF14: =IF(378>(AF12+AF13),378-(AF12+AF13),0) -> 371.37 | AH14: =IF(378>(AH12+AH13),378-(AH12+AH13),0) -> 0 | AJ14: =IF(378>(AJ12+AJ13),378-(AJ12+AJ13),0) -> 0 | AL14: =IF(378>(AL12+AL13),378-(AL12+AL13),0) -> 0 | AN14: =IF(378>(AN12+AN13),378-(AN12+AN13),0) -> 0 | AP14: =IF(378>(AP12+AP13),378-(AP12+AP13),0) -> 0 | AR14: =IF(378>(AR12+AR13),378-(AR12+AR13),0) -> 0 | AT14: =IF(378>(AT12+AT13),378-(AT12+AT13),0) -> 0 | AV14: =IF(378>(AV12+AV13),378-(AV12+AV13),0) -> 0 | AX14: =IF(378>(AX12+AX13),378-(AX12+AX13),0) -> 144.52 | AZ14: =IF(378>(AZ12+AZ13),378-(AZ12+AZ13),0) -> 378 | BB14: =SUM(AD14:BA14) -> 1271.89 | BC14: =SUM(F14:AC14) -> 1512
BB15: =SUM(AD15:BA15) -> 0 | BC15: =SUM(F15:AC15) -> 0
A16: FLEX | B16: 166435 | C16: 5100 MONUMENT AVE. A CONDO | D16: Margin | E16: GFS2 | F16: =ROUND(Volume!E19*'rt2'!F$758,2)-F17 -> 0 | G16: 0 | H16: =ROUND(Volume!G19*'rt2'!H$758,2)-H17 -> 0 | I16: 0 | J16: =ROUND(Volume!I19*'rt2'!J$758,2)-J17 -> 0 | K16: 0 | L16: =ROUND(Volume!K19*'rt2'!L$758,2)-L17 -> 704.36 | M16: 0 | N16: =ROUND(Volume!M19*'rt2'!N$758,2)-N17 -> 1675.97 | O16: 0 | P16: =ROUND(Volume!O19*'rt2'!P$758,2)-P17 -> 3578.58 | Q16: 0 | R16: =ROUND(Volume!Q19*'rt2'!R$758,2)-R17 -> 3058 | S16: 0 | T16: =ROUND(Volume!S19*'rt2'!T$758,2)-T17 -> 1765.82 | U16: 0 | V16: =ROUND(Volume!U19*'rt2'!V$758,2)-V17 -> 1561.31 | W16: 0 | X16: =ROUND(Volume!W19*'rt2'!X$758,2)-X17 -> 59.04 | Y16: 0 | Z16: =ROUND(Volume!Y19*'rt2'!Z$758,2)-Z17 -> 0 | AA16: 0 | AB16: =ROUND(Volume!AA19*'rt2'!AB$758,2)-AB17 -> 0 | AC16: 0 | AD16: 0 | AE16: 0 | AF16: 0 | AG16: 0 | AH16: -241111.11 | AI16: 0 | AJ16: =ROUND(Volume!AI19*'rt2'!AJ$758,2)-AJ17 -> 1473.7 | AK16: 241165.81 | AL16: =ROUND(Volume!AK19*'rt2'!AL$758,2)-AL17 -> 2986.2 | AM16: 0 | AN16: =ROUND(Volume!AM19*'rt2'!AN$758,2)-AN17 -> 4253.31 | AO16: 0 | AP16: =ROUND(Volume!AO19*'rt2'!AP$758,2)-AP17 -> 4598.11 | AQ16: 0 | AR16: =ROUND(Volume!AQ19*'rt2'!AR$758,2)-AR17 -> 4528.01 | AS16: 0 | AT16: =ROUND(Volume!AS19*'rt2'!AT$758,2)-AT17 -> 1822.89 | AU16: 0 | AV16: =ROUND(Volume!AU19*'rt2'!AV$758,2)-AV17 -> 1041.92 | AW16: 0 | AX16: =ROUND(Volume!AW19*'rt2'!AX$758,2)-AX17 -> 118.29 | AY16: 0 | AZ16: =ROUND(Volume!AY19*'rt2'!AZ$758,2)-AZ17 -> 39.31 | BA16: 0 | BB16: =SUM(AD16:BA16) -> 20916.44 | BC16: =SUM(F16:AC16) -> 12403.08
A17: FLEX | B17: 166435 | C17: 5100 MONUMENT AVE. A CONDO | D17: Gas Cost | F17: =ROUND(Volume!E19*'rt2'!F$759,2) -> 0 | H17: =ROUND(Volume!G19*'rt2'!H$759,2) -> 0 | J17: =ROUND(Volume!I19*'rt2'!J$759,2) -> 0 | L17: =ROUND(Volume!K19*'rt2'!L$759,2) -> 491.57 | N17: =ROUND(Volume!M19*'rt2'!N$759,2) -> 2077.43 | P17: =ROUND(Volume!O19*'rt2'!P$759,2) -> 4435.77 | R17: =ROUND(Volume!Q19*'rt2'!R$759,2) -> 3838.37 | T17: =ROUND(Volume!S19*'rt2'!T$759,2) -> 2265.13 | V17: =ROUND(Volume!U19*'rt2'!V$759,2) -> 1669.71 | X17: =ROUND(Volume!W19*'rt2'!X$759,2) -> 80.3 | Z17: =ROUND(Volume!Y19*'rt2'!Z$759,2) -> 0 | AB17: =ROUND(Volume!AA19*'rt2'!AB$759,2) -> 0 | AJ17: =ROUND(Volume!AI19*'rt2'!AJ$759,2) -> 1486.49 | AL17: =ROUND(Volume!AK19*'rt2'!AL$759,2) -> 2654.07 | AN17: =ROUND(Volume!AM19*'rt2'!AN$759,2) -> 3888.21 | AP17: =ROUND(Volume!AO19*'rt2'!AP$759,2) -> 3605.71 | AR17: =ROUND(Volume!AQ19*'rt2'!AR$759,2) -> 2837.12 | AT17: =ROUND(Volume!AS19*'rt2'!AT$759,2) -> 994.52 | AV17: =ROUND(Volume!AU19*'rt2'!AV$759,2) -> 569.36 | AX17: =ROUND(Volume!AW19*'rt2'!AX$759,2) -> 59.53 | AZ17: =ROUND(Volume!AY19*'rt2'!AZ$759,2) -> 25.35 | BB17: =SUM(AD17:BA17) -> 16120.36 | BC17: =SUM(F17:AC17) -> 14858.28
A18: FLEX | B18: 166435 | C18: 5100 MONUMENT AVE. A CONDO | D18: Minimum | E18: + | F18: =IF(378>(F16+F17),378-(F16+F17),0) -> 378 | H18: =IF(378>(H16+H17),378-(H16+H17),0) -> 378 | J18: =IF(378>(J16+J17),378-(J16+J17),0) -> 378 | L18: =IF(378>(L16+L17),378-(L16+L17),0) -> 0 | N18: =IF(378>(N16+N17),378-(N16+N17),0) -> 0 | P18: =IF(378>(P16+P17),378-(P16+P17),0) -> 0 | R18: =IF(378>(R16+R17),378-(R16+R17),0) -> 0 | T18: =IF(378>(T16+T17),378-(T16+T17),0) -> 0 | V18: =IF(378>(V16+V17),378-(V16+V17),0) -> 0 | X18: =IF(378>(X16+X17),378-(X16+X17),0) -> 238.66 | Z18: =IF(378>(Z16+Z17),378-(Z16+Z17),0) -> 378 | AB18: =IF(378>(AB16+AB17),378-(AB16+AB17),0) -> 378 | AJ18: =IF(378>(AJ16+AJ17),378-(AJ16+AJ17),0) -> 0 | AL18: =IF(378>(AL16+AL17),378-(AL16+AL17),0) -> 0 | AN18: =IF(378>(AN16+AN17),378-(AN16+AN17),0) -> 0 | AP18: =IF(378>(AP16+AP17),378-(AP16+AP17),0) -> 0 | AR18: =IF(378>(AR16+AR17),378-(AR16+AR17),0) -> 0 | AT18: =IF(378>(AT16+AT17),378-(AT16+AT17),0) -> 0 | AV18: =IF(378>(AV16+AV17),378-(AV16+AV17),0) -> 0 | AX18: =IF(378>(AX16+AX17),378-(AX16+AX17),0) -> 200.18 | AZ18: =IF(378>(AZ16+AZ17),378-(AZ16+AZ17),0) -> 313.34 | BB18: =SUM(AD18:BA18) -> 513.52 | BC18: =SUM(F18:AC18) -> 2128.66
BB19: =SUM(AD19:BA19) -> 0 | BC19: =SUM(F19:AC19) -> 0
A20: FLEX | B20: 166507 | C20: THE TUCKAHOE A CONDO | D20: Margin | E20: GFS4 | F20: =ROUND(Volume!E23*'rt2'!F$758,2)-F21 -> 147.68 | G20: 0 | H20: =ROUND(Volume!G23*'rt2'!H$758,2)-H21 -> 219.69 | I20: 0 | J20: =ROUND(Volume!I23*'rt2'!J$758,2)-J21 -> 290.08 | K20: 0 | L20: =ROUND(Volume!K23*'rt2'!L$758,2)-L21 -> 904.7 | M20: 0 | N20: =ROUND(Volume!M23*'rt2'!N$758,2)-N21 -> 1982.91 | O20: 0 | P20: =ROUND(Volume!O23*'rt2'!P$758,2)-P21 -> 4598.98 | Q20: 0 | R20: =ROUND(Volume!Q23*'rt2'!R$758,2)-R21 -> 4046.79 | S20: 0 | T20: =ROUND(Volume!S23*'rt2'!T$758,2)-T21 -> 2480.57 | U20: 0 | V20: =ROUND(Volume!U23*'rt2'!V$758,2)-V21 -> 2493.65 | W20: 0 | X20: =ROUND(Volume!W23*'rt2'!X$758,2)-X21 -> 337.57 | Y20: 0 | Z20: =ROUND(Volume!Y23*'rt2'!Z$758,2)-Z21 -> 265.35 | AA20: 0 | AB20: =ROUND(Volume!AA23*'rt2'!AB$758,2)-AB21 -> 223.59 | AC20: 0 | AD20: =ROUND(Volume!AC23*'rt2'!AD$758,2)-AD21 -> 149.77 | AE20: 0 | AF20: =ROUND(Volume!AE23*'rt2'!AF$758,2)-AF21 -> 172.7 | AG20: 0 | AH20: =ROUND(Volume!AG23*'rt2'!AH$758,2)-AH21 -> 401.92 | AI20: 0 | AJ20: =ROUND(Volume!AI23*'rt2'!AJ$758,2)-AJ21 -> 1429.96 | AK20: 0 | AL20: =ROUND(Volume!AK23*'rt2'!AL$758,2)-AL21 -> 2658.88 | AM20: 0 | AN20: =ROUND(Volume!AM23*'rt2'!AN$758,2)-AN21 -> 3146.75 | AO20: 0 | AP20: =ROUND(Volume!AO23*'rt2'!AP$758,2)-AP21 -> 3497.79 | AQ20: 0 | AR20: =ROUND(Volume!AQ23*'rt2'!AR$758,2)-AR21 -> 4117.25 | AS20: 0 | AT20: =ROUND(Volume!AS23*'rt2'!AT$758,2)-AT21 -> 2041.56 | AU20: 0 | AV20: =ROUND(Volume!AU23*'rt2'!AV$758,2)-AV21 -> 1754.68 | AW20: 0 | AX20: =ROUND(Volume!AW23*'rt2'!AX$758,2)-AX21 -> 428.49 | AY20: 0 | AZ20: =ROUND(Volume!AY23*'rt2'!AZ$758,2)-AZ21 -> 241.27 | BA20: 0 | BB20: =SUM(AD20:BA20) -> 20041.02 | BC20: =SUM(F20:AC20) -> 17991.56
A21: FLEX | B21: 166507 | C21: THE TUCKAHOE A CONDO | D21: Gas Cost | F21: =ROUND(Volume!E23*'rt2'!F$759,2) -> 215.08 | H21: =ROUND(Volume!G23*'rt2'!H$759,2) -> 181.07 | J21: =ROUND(Volume!I23*'rt2'!J$759,2) -> 260.85 | L21: =ROUND(Volume!K23*'rt2'!L$759,2) -> 631.38 | N21: =ROUND(Volume!M23*'rt2'!N$759,2) -> 2457.88 | P21: =ROUND(Volume!O23*'rt2'!P$759,2) -> 5700.61 | R21: =ROUND(Volume!Q23*'rt2'!R$759,2) -> 5079.49 | T21: =ROUND(Volume!S23*'rt2'!T$759,2) -> 3181.96 | V21: =ROUND(Volume!U23*'rt2'!V$759,2) -> 2666.8 | X21: =ROUND(Volume!W23*'rt2'!X$759,2) -> 459.12 | Z21: =ROUND(Volume!Y23*'rt2'!Z$759,2) -> 383.8 | AB21: =ROUND(Volume!AA23*'rt2'!AB$759,2) -> 316.55 | AD21: =ROUND(Volume!AC23*'rt2'!AD$759,2) -> 210.72 | AF21: =ROUND(Volume!AE23*'rt2'!AF$759,2) -> 244.15 | AH21: =ROUND(Volume!AG23*'rt2'!AH$759,2) -> 430.11 | AJ21: =ROUND(Volume!AI23*'rt2'!AJ$759,2) -> 1442.38 | AL21: =ROUND(Volume!AK23*'rt2'!AL$759,2) -> 2363.16 | AN21: =ROUND(Volume!AM23*'rt2'!AN$759,2) -> 2876.65 | AP21: =ROUND(Volume!AO23*'rt2'!AP$759,2) -> 2742.87 | AR21: =ROUND(Volume!AQ23*'rt2'!AR$759,2) -> 2579.74 | AT21: =ROUND(Volume!AS23*'rt2'!AT$759,2) -> 1113.81 | AV21: =ROUND(Volume!AU23*'rt2'!AV$759,2) -> 958.84 | AX21: =ROUND(Volume!AW23*'rt2'!AX$759,2) -> 215.62 | AZ21: =ROUND(Volume!AY23*'rt2'!AZ$759,2) -> 155.61 | BB21: =SUM(AD21:BA21) -> 15333.66 | BC21: =SUM(F21:AC21) -> 21534.59
A22: FLEX | B22: 166507 | C22: THE TUCKAHOE A CONDO | D22: Minimum | E22: + | F22: =IF(378>(F20+F21),378-(F20+F21),0) -> 15.24 | H22: =IF(378>(H20+H21),378-(H20+H21),0) -> 0 | J22: =IF(378>(J20+J21),378-(J20+J21),0) -> 0 | L22: =IF(378>(L20+L21),378-(L20+L21),0) -> 0 | N22: =IF(378>(N20+N21),378-(N20+N21),0) -> 0 | P22: =IF(378>(P20+P21),378-(P20+P21),0) -> 0 | R22: =IF(378>(R20+R21),378-(R20+R21),0) -> 0 | T22: =IF(378>(T20+T21),378-(T20+T21),0) -> 0 | V22: =IF(378>(V20+V21),378-(V20+V21),0) -> 0 | X22: =IF(378>(X20+X21),378-(X20+X21),0) -> 0 | Z22: =IF(378>(Z20+Z21),378-(Z20+Z21),0) -> 0 | AB22: =IF(378>(AB20+AB21),378-(AB20+AB21),0) -> 0 | AD22: =IF(378>(AD20+AD21),378-(AD20+AD21),0) -> 17.51 | AF22: =IF(378>(AF20+AF21),378-(AF20+AF21),0) -> 0 | AH22: =IF(378>(AH20+AH21),378-(AH20+AH21),0) -> 0 | AJ22: =IF(378>(AJ20+AJ21),378-(AJ20+AJ21),0) -> 0 | AL22: =IF(378>(AL20+AL21),378-(AL20+AL21),0) -> 0 | AN22: =IF(378>(AN20+AN21),378-(AN20+AN21),0) -> 0 | AP22: =IF(378>(AP20+AP21),378-(AP20+AP21),0) -> 0 | AR22: =IF(378>(AR20+AR21),378-(AR20+AR21),0) -> 0 | AT22: =IF(378>(AT20+AT21),378-(AT20+AT21),0) -> 0 | AV22: =IF(378>(AV20+AV21),378-(AV20+AV21),0) -> 0 | AX22: =IF(378>(AX20+AX21),378-(AX20+AX21),0) -> 0 | AZ22: =IF(378>(AZ20+AZ21),378-(AZ20+AZ21),0) -> 0 | BB22: =SUM(AD22:BA22) -> 17.51 | BC22: =SUM(F22:AC22) -> 15.24
A23: FLEX | B23: 166507 | C23: THE TUCKAHOE A CONDO | D23: Tax | E23: TXIN | F23: 124.75 | G23: 0 | H23: 125.24 | I23: 0 | J23: 127.21 | K23: 0 | L23: 140.1 | M23: 0 | N23: 180.78 | O23: 0 | P23: 260.98 | Q23: 0 | R23: 244.92 | S23: 0 | T23: 197.51 | U23: 0 | V23: 194.51 | W23: 0 | X23: 131.5 | Y23: 0 | Z23: 129.37 | AA23: 0 | AB23: 127.8 | AC23: 0 | AD23: 125.15 | AE23: 0 | AF23: 125.95 | AG23: 0 | AH23: 131.88 | AI23: 0 | AJ23: 161.02 | AK23: 0 | AL23: 191.72 | AM23: 0 | AN23: 211.54 | AO23: 0 | AP23: 214.85 | AQ23: 0 | AR23: 221.78 | AS23: 0 | AT23: 167.96 | AU23: 0 | AV23: 167.32 | AW23: 0 | AX23: 131.23 | AY23: 0 | AZ23: 126.83 | BA23: 0 | BB23: =SUM(AD23:BA23) -> 1977.23 | BC23: =SUM(F23:AC23) -> 1984.67
BB24: =SUM(AD24:BA24) -> 0 | BC24: =SUM(F24:AC24) -> 0
A25: FLEX | B25: 166544 | C25: THE BERKSHIRE APTS | D25: Margin | E25: GFS2 | F25: =ROUND(Volume!E28*'rt2'!F$756,2)-F26 -> 530.57 | G25: 0 | H25: =ROUND(Volume!G28*'rt2'!H$756,2)-H26 -> 94.65 | I25: 0 | J25: =ROUND(Volume!I28*'rt2'!J$756,2)-J26 -> 0 | K25: 0 | L25: =ROUND(Volume!K28*'rt2'!L$756,2)-L26 -> 1361.77 | M25: 0 | N25: =ROUND(Volume!M28*'rt2'!N$756,2)-N26 -> 5293.9 | O25: 0 | P25: =ROUND(Volume!O28*'rt2'!P$756,2)-P26 -> 7985.29 | Q25: 0 | R25: =ROUND(Volume!Q28*'rt2'!R$756,2)-R26 -> 10626.46 | S25: 0 | T25: =ROUND(Volume!S28*'rt2'!T$756,2)-T26 -> 8383.04 | U25: 0 | V25: =ROUND(Volume!U28*'rt2'!V$756,2)-V26 -> 5322.1 | W25: 0 | X25: =ROUND(Volume!W28*'rt2'!X$756,2)-X26 -> 4430.04 | Y25: 0 | Z25: =ROUND(Volume!Y28*'rt2'!Z$756,2)-Z26 -> 512.95 | AA25: 0 | AB25: =ROUND(Volume!AA28*'rt2'!AB$756,2)-AB26 -> 170.21 | AC25: 0 | AD25: =ROUND(Volume!AC28*'rt2'!AD$756,2)-AD26 -> 59.04 | AE25: 0 | AF25: =ROUND(Volume!AE28*'rt2'!AF$756,2)-AF26 -> 18.94 | AG25: 0 | AH25: =ROUND(Volume!AG28*'rt2'!AH$756,2)-AH26 -> 458.69 | AI25: 0 | AJ25: =ROUND(Volume!AI28*'rt2'!AJ$756,2)-AJ26 -> 862.29 | AK25: 0 | AL25: =ROUND(Volume!AK28*'rt2'!AL$756,2)-AL26 -> 5034.18 | AM25: 0 | AN25: =ROUND(Volume!AM28*'rt2'!AN$756,2)-AN26 -> 6393.61 | AO25: 0 | AP25: =ROUND(Volume!AO28*'rt2'!AP$756,2)-AP26 -> 8152.67 | AQ25: 0 | AR25: =ROUND(Volume!AQ28*'rt2'!AR$756,2)-AR26 -> 7702.21 | AS25: 0 | AT25: =ROUND(Volume!AS28*'rt2'!AT$756,2)-AT26 -> 6407.11 | AU25: 0 | AV25: =ROUND(Volume!AU28*'rt2'!AV$756,2)-AV26 -> 3052.76 | AW25: 0 | AX25: =ROUND(Volume!AW28*'rt2'!AX$756,2)-AX26 -> 1253.91 | AY25: 0 | AZ25: =ROUND(Volume!AY28*'rt2'!AZ$756,2)-AZ26 -> 1112.07 | BA25: 0 | BB25: =SUM(AD25:BA25) -> 40507.48 | BC25: =SUM(F25:AC25) -> 44710.98
A26: FLEX | B26: 166544 | C26: THE BERKSHIRE APTS | D26: Gas Cost | F26: =ROUND(Volume!E28*'rt2'!F$757,2) -> 585.89 | H26: =ROUND(Volume!G28*'rt2'!H$757,2) -> 137.84 | J26: =ROUND(Volume!I28*'rt2'!J$757,2) -> 0 | L26: =ROUND(Volume!K28*'rt2'!L$757,2) -> 1224.6 | N26: =ROUND(Volume!M28*'rt2'!N$757,2) -> 3694.6 | P26: =ROUND(Volume!O28*'rt2'!P$757,2) -> 9898.06 | R26: =ROUND(Volume!Q28*'rt2'!R$757,2) -> 13171.89 | T26: =ROUND(Volume!S28*'rt2'!T$757,2) -> 10522.31 | V26: =ROUND(Volume!U28*'rt2'!V$757,2) -> 6826.96 | X26: =ROUND(Volume!W28*'rt2'!X$757,2) -> 4737.63 | Z26: =ROUND(Volume!Y28*'rt2'!Z$757,2) -> 697.66 | AB26: =ROUND(Volume!AA28*'rt2'!AB$757,2) -> 246.17 | AD26: =ROUND(Volume!AC28*'rt2'!AD$757,2) -> 83.58 | AF26: =ROUND(Volume!AE28*'rt2'!AF$757,2) -> 26.64 | AH26: =ROUND(Volume!AG28*'rt2'!AH$757,2) -> 648.48 | AJ26: =ROUND(Volume!AI28*'rt2'!AJ$757,2) -> 922.77 | AL26: =ROUND(Volume!AK28*'rt2'!AL$757,2) -> 5077.86 | AN26: =ROUND(Volume!AM28*'rt2'!AN$757,2) -> 5682.5 | AP26: =ROUND(Volume!AO28*'rt2'!AP$757,2) -> 7452.88 | AR26: =ROUND(Volume!AQ28*'rt2'!AR$757,2) -> 6039.86 | AT26: =ROUND(Volume!AS28*'rt2'!AT$757,2) -> 4014.5 | AV26: =ROUND(Volume!AU28*'rt2'!AV$757,2) -> 1665.5 | AX26: =ROUND(Volume!AW28*'rt2'!AX$757,2) -> 685.19 | AZ26: =ROUND(Volume!AY28*'rt2'!AZ$757,2) -> 559.62 | BB26: =SUM(AD26:BA26) -> 32859.38 | BC26: =SUM(F26:AC26) -> 51743.61
A27: FLEX | B27: 166544 | C27: THE BERKSHIRE APTS | D27: Minimum | E27: - | F27: =IF(378>(F25+F26),378-(F25+F26),0) -> 0 | H27: =IF(378>(H25+H26),378-(H25+H26),0) -> 145.51 | J27: =IF(378>(J25+J26),378-(J25+J26),0) -> 378 | L27: =IF(378>(L25+L26),378-(L25+L26),0) -> 0 | N27: =IF(378>(N25+N26),378-(N25+N26),0) -> 0 | P27: =IF(378>(P25+P26),378-(P25+P26),0) -> 0 | R27: =IF(378>(R25+R26),378-(R25+R26),0) -> 0 | T27: =IF(378>(T25+T26),378-(T25+T26),0) -> 0 | V27: =IF(378>(V25+V26),378-(V25+V26),0) -> 0 | X27: =IF(378>(X25+X26),378-(X25+X26),0) -> 0 | Z27: =IF(378>(Z25+Z26),378-(Z25+Z26),0) -> 0 | AB27: =IF(378>(AB25+AB26),378-(AB25+AB26),0) -> 0 | AD27: =IF(378>(AD25+AD26),378-(AD25+AD26),0) -> 235.38 | AF27: =IF(378>(AF25+AF26),378-(AF25+AF26),0) -> 332.42 | AH27: =IF(378>(AH25+AH26),378-(AH25+AH26),0) -> 0 | AJ27: =IF(378>(AJ25+AJ26),378-(AJ25+AJ26),0) -> 0 | AL27: =IF(378>(AL25+AL26),378-(AL25+AL26),0) -> 0 | AN27: =IF(378>(AN25+AN26),378-(AN25+AN26),0) -> 0 | AP27: =IF(378>(AP25+AP26),378-(AP25+AP26),0) -> 0 | AR27: =IF(378>(AR25+AR26),378-(AR25+AR26),0) -> 0 | AT27: =IF(378>(AT25+AT26),378-(AT25+AT26),0) -> 0 | AV27: =IF(378>(AV25+AV26),378-(AV25+AV26),0) -> 0 | AX27: =IF(378>(AX25+AX26),378-(AX25+AX26),0) -> 0 | AZ27: =IF(378>(AZ25+AZ26),378-(AZ25+AZ26),0) -> 0 | BB27: =SUM(AD27:BA27) -> 567.8 | BC27: =SUM(F27:AC27) -> 523.51
A28: FLEX | B28: 166544 | C28: THE BERKSHIRE APTS | D28: Tax | E28: TXIN | F28: 134.7 | G28: 0 | H28: 123.04 | I28: 0 | J28: 120 | K28: 0 | L28: 153.84 | M28: 0 | N28: 237.59 | O28: 0 | P28: 364.78 | Q28: 0 | R28: 445.75 | S28: 0 | T28: 378.77 | U28: 0 | V28: 286.29 | W28: 0 | X28: 252.37 | Y28: 0 | Z28: 137.48 | AA28: 0 | AB28: 126.01 | AC28: 0 | AD28: 122.06 | AE28: 0 | AF28: 120.65 | AG28: 0 | AH28: 135.81 | AI28: 0 | AJ28: 145.49 | AK28: 0 | AL28: 264.41 | AM28: 0 | AN28: 292.46 | AO28: 0 | AP28: 357.17 | AQ28: 0 | AR28: 328.85 | AS28: 0 | AT28: 278.39 | AU28: 0 | AV28: 191.71 | AW28: 0 | AX28: 153.81 | AY28: 0 | AZ28: 149.15 | BA28: 0 | BB28: =SUM(AD28:BA28) -> 2539.96 | BC28: =SUM(F28:AC28) -> 2760.62
BB29: =SUM(AD29:BA29) -> 0 | BC29: =SUM(F29:AC29) -> 0
A30: FLEX | B30: 250042 | C30: BENEDICTINE SCHOOL | D30: Margin | E30: GFS2 | F30: =ROUND(Volume!E33*'rt2'!F$758,2)-F31 -> 79.92 | G30: 0 | H30: =ROUND(Volume!G33*'rt2'!H$758,2)-H31 -> 0 | I30: 0 | J30: =ROUND(Volume!I33*'rt2'!J$758,2)-J31 -> 166.7 | K30: 0 | L30: =ROUND(Volume!K33*'rt2'!L$758,2)-L31 -> 13.32 | M30: 0 | N30: =ROUND(Volume!M33*'rt2'!N$758,2)-N31 -> 1139.71 | O30: 0 | P30: =ROUND(Volume!O33*'rt2'!P$758,2)-P31 -> 2052.01 | Q30: 0 | R30: =ROUND(Volume!Q33*'rt2'!R$758,2)-R31 -> 1546.64 | S30: 0 | T30: =ROUND(Volume!S33*'rt2'!T$758,2)-T31 -> 1208.66 | U30: 0 | V30: =ROUND(Volume!U33*'rt2'!V$758,2)-V31 -> 1336.34 | W30: 0 | X30: =ROUND(Volume!W33*'rt2'!X$758,2)-X31 -> 194.83 | Y30: 0 | Z30: =ROUND(Volume!Y33*'rt2'!Z$758,2)-Z31 -> 14.74 | AA30: 0 | AB30: =ROUND(Volume!AA33*'rt2'!AB$758,2)-AB31 -> 7.8 | AC30: 0 | AD30: =ROUND(Volume!AC33*'rt2'!AD$758,2)-AD31 -> 4.47 | AE30: 0 | AF30: =ROUND(Volume!AE33*'rt2'!AF$758,2)-AF31 -> 7.55 | AG30: 0 | AH30: =ROUND(Volume!AG33*'rt2'!AH$758,2)-AH31 -> 22.02 | AI30: 0 | AJ30: =ROUND(Volume!AI33*'rt2'!AJ$758,2)-AJ31 -> 211.65 | AK30: 0 | AL30: =ROUND(Volume!AK33*'rt2'!AL$758,2)-AL31 -> 1767.76 | AM30: 0 | AN30: =ROUND(Volume!AM33*'rt2'!AN$758,2)-AN31 -> 1251.38 | AO30: 0 | AP30: =ROUND(Volume!AO33*'rt2'!AP$758,2)-AP31 -> 1064.97 | AQ30: 0 | AR30: =ROUND(Volume!AQ33*'rt2'!AR$758,2)-AR31 -> 1301.72 | AS30: 0 | AT30: =ROUND(Volume!AS33*'rt2'!AT$758,2)-AT31 -> 1026.32 | AU30: 0 | AV30: =ROUND(Volume!AU33*'rt2'!AV$758,2)-AV31 -> 447.66 | AW30: 0 | AX30: =ROUND(Volume!AW33*'rt2'!AX$758,2)-AX31 -> 46.51 | AY30: 0 | AZ30: =ROUND(Volume!AY33*'rt2'!AZ$758,2)-AZ31 -> 40.56 | BA30: 0 | BB30: =SUM(AD30:BA30) -> 7192.57 | BC30: =SUM(F30:AC30) -> 7760.67
A31: FLEX | B31: 250042 | C31: BENEDICTINE SCHOOL | D31: Gas Cost | F31: =ROUND(Volume!E33*'rt2'!F$759,2) -> 116.39 | H31: =ROUND(Volume!G33*'rt2'!H$759,2) -> 0 | J31: =ROUND(Volume!I33*'rt2'!J$759,2) -> 149.92 | L31: =ROUND(Volume!K33*'rt2'!L$759,2) -> 9.3 | N31: =ROUND(Volume!M33*'rt2'!N$759,2) -> 1412.71 | P31: =ROUND(Volume!O33*'rt2'!P$759,2) -> 2543.55 | R31: =ROUND(Volume!Q33*'rt2'!R$759,2) -> 1941.32 | T31: =ROUND(Volume!S33*'rt2'!T$759,2) -> 1550.41 | V31: =ROUND(Volume!U33*'rt2'!V$759,2) -> 1429.13 | X31: =ROUND(Volume!W33*'rt2'!X$759,2) -> 264.99 | Z31: =ROUND(Volume!Y33*'rt2'!Z$759,2) -> 21.32 | AB31: =ROUND(Volume!AA33*'rt2'!AB$759,2) -> 11.05 | AD31: =ROUND(Volume!AC33*'rt2'!AD$759,2) -> 6.3 | AF31: =ROUND(Volume!AE33*'rt2'!AF$759,2) -> 10.68 | AH31: =ROUND(Volume!AG33*'rt2'!AH$759,2) -> 23.56 | AJ31: =ROUND(Volume!AI33*'rt2'!AJ$759,2) -> 213.48 | AL31: =ROUND(Volume!AK33*'rt2'!AL$759,2) -> 1571.15 | AN31: =ROUND(Volume!AM33*'rt2'!AN$759,2) -> 1143.96 | AP31: =ROUND(Volume!AO33*'rt2'!AP$759,2) -> 835.11 | AR31: =ROUND(Volume!AQ33*'rt2'!AR$759,2) -> 815.62 | AT31: =ROUND(Volume!AS33*'rt2'!AT$759,2) -> 559.93 | AV31: =ROUND(Volume!AU33*'rt2'!AV$759,2) -> 244.63 | AX31: =ROUND(Volume!AW33*'rt2'!AX$759,2) -> 23.4 | AZ31: =ROUND(Volume!AY33*'rt2'!AZ$759,2) -> 26.16 | BB31: =SUM(AD31:BA31) -> 5473.98 | BC31: =SUM(F31:AC31) -> 9450.09
A32: FLEX | B32: 250042 | C32: BENEDICTINE SCHOOL | D32: Minimum | E32: + | F32: =IF(378>(F30+F31),378-(F30+F31),0) -> 181.69 | H32: =IF(378>(H30+H31),378-(H30+H31),0) -> 378 | J32: =IF(378>(J30+J31),378-(J30+J31),0) -> 61.38 | L32: =IF(378>(L30+L31),378-(L30+L31),0) -> 355.38 | N32: =IF(378>(N30+N31),378-(N30+N31),0) -> 0 | P32: =IF(378>(P30+P31),378-(P30+P31),0) -> 0 | R32: =IF(378>(R30+R31),378-(R30+R31),0) -> 0 | T32: =IF(378>(T30+T31),378-(T30+T31),0) -> 0 | V32: =IF(378>(V30+V31),378-(V30+V31),0) -> 0 | X32: =IF(378>(X30+X31),378-(X30+X31),0) -> 0 | Z32: =IF(378>(Z30+Z31),378-(Z30+Z31),0) -> 341.94 | AB32: =IF(378>(AB30+AB31),378-(AB30+AB31),0) -> 359.15 | AD32: =IF(378>(AD30+AD31),378-(AD30+AD31),0) -> 367.23 | AF32: =IF(378>(AF30+AF31),378-(AF30+AF31),0) -> 359.77 | AH32: =IF(378>(AH30+AH31),378-(AH30+AH31),0) -> 332.42 | AJ32: =IF(378>(AJ30+AJ31),378-(AJ30+AJ31),0) -> 0 | AL32: =IF(378>(AL30+AL31),378-(AL30+AL31),0) -> 0 | AN32: =IF(378>(AN30+AN31),378-(AN30+AN31),0) -> 0 | AP32: =IF(378>(AP30+AP31),378-(AP30+AP31),0) -> 0 | AR32: =IF(378>(AR30+AR31),378-(AR30+AR31),0) -> 0 | AT32: =IF(378>(AT30+AT31),378-(AT30+AT31),0) -> 0 | AV32: =IF(378>(AV30+AV31),378-(AV30+AV31),0) -> 0 | AX32: =IF(378>(AX30+AX31),378-(AX30+AX31),0) -> 308.09 | AZ32: =IF(378>(AZ30+AZ31),378-(AZ30+AZ31),0) -> 311.28 | BB32: =SUM(AD32:BA32) -> 1678.79 | BC32: =SUM(F32:AC32) -> 1677.54
A33: FLEX | B33: 250042 | C33: BENEDICTINE SCHOOL | D33: Tax | E33: TXIN | F33: 122.57 | G33: 0 | H33: 120 | I33: 0 | J33: 124.14 | K33: 0 | L33: 120.3 | M33: 0 | N33: 154.94 | O33: 0 | P33: 182.9 | Q33: 0 | R33: 167.74 | S33: 0 | T33: 157.77 | U33: 0 | V33: 159.93 | W33: 0 | X33: 126.64 | Y33: 0 | Z33: 120.52 | AA33: 0 | AB33: 120.27 | AC33: 0 | AD33: 120.15 | AE33: 0 | AF33: 120.26 | AG33: 0 | AH33: 120.65 | AI33: 0 | AJ33: 126.07 | AK33: 0 | AL33: 167.68 | AM33: 0 | AN33: 156.4 | AO33: 0 | AP33: 148.88 | AQ33: 0 | AR33: 152.18 | AS33: 0 | AT33: 144.11 | AU33: 0 | AV33: 132.07 | AW33: 0 | AX33: 121.22 | AY33: 0 | AZ33: 121.15 | BA33: 0 | BB33: =SUM(AD33:BA33) -> 1630.82 | BC33: =SUM(F33:AC33) -> 1677.72
BB34: =SUM(AD34:BA34) -> 0 | BC34: =SUM(F34:AC34) -> 0
A35: FLEX | B35: 250106 | C35: CHILDREN'S HOSPITAL | D35: Margin | E35: GFS2 | F35: =ROUND(Volume!E38*'rt2'!F$758,2)-F36 -> 1399.84 | G35: 0 | H35: =ROUND(Volume!G38*'rt2'!H$758,2)-H36 -> 1788.21 | I35: 0 | J35: =ROUND(Volume!I38*'rt2'!J$758,2)-J36 -> 1830.46 | K35: 0 | L35: =ROUND(Volume!K38*'rt2'!L$758,2)-L36 -> 3721.08 | M35: 0 | N35: =ROUND(Volume!M38*'rt2'!N$758,2)-N36 -> 3804.82 | O35: 0 | P35: =ROUND(Volume!O38*'rt2'!P$758,2)-P36 -> 6803.11 | Q35: 0 | R35: =ROUND(Volume!Q38*'rt2'!R$758,2)-R36 -> 6454.16 | S35: 0 | T35: =ROUND(Volume!S38*'rt2'!T$758,2)-T36 -> 5223.24 | U35: 0 | V35: =ROUND(Volume!U38*'rt2'!V$758,2)-V36 -> 5470.12 | W35: 0 | X35: =ROUND(Volume!W38*'rt2'!X$758,2)-X36 -> 3339.54 | Y35: 0 | Z35: =ROUND(Volume!Y38*'rt2'!Z$758,2)-Z36 -> 1526.15 | AA35: 0 | AB35: =ROUND(Volume!AA38*'rt2'!AB$758,2)-AB36 -> 859.42 | AC35: 0 | AD35: =ROUND(Volume!AC38*'rt2'!AD$758,2)-AD36 -> 943.41 | AE35: 0 | AF35: =ROUND(Volume!AE38*'rt2'!AF$758,2)-AF36 -> 446.33 | AG35: 0 | AH35: =ROUND(Volume!AG38*'rt2'!AH$758,2)-AH36 -> 1459.97 | AI35: 0 | AJ35: =ROUND(Volume!AI38*'rt2'!AJ$758,2)-AJ36 -> 2895.42 | AK35: 0 | AL35: =ROUND(Volume!AK38*'rt2'!AL$758,2)-AL36 -> 4586.36 | AM35: 0 | AN35: =ROUND(Volume!AM38*'rt2'!AN$758,2)-AN36 -> 5660.9 | AO35: 0 | AP35: =ROUND(Volume!AO38*'rt2'!AP$758,2)-AP36 -> 6285.03 | AQ35: 0 | AR35: =ROUND(Volume!AQ38*'rt2'!AR$758,2)-AR36 -> 5729.2 | AS35: 0 | AT35: =ROUND(Volume!AS38*'rt2'!AT$758,2)-AT36 -> 5658.13 | AU35: 0 | AV35: =ROUND(Volume!AU38*'rt2'!AV$758,2)-AV36 -> 4804.53 | AW35: 0 | AX35: =ROUND(Volume!AW38*'rt2'!AX$758,2)-AX36 -> 4189.56 | AY35: 0 | AZ35: =ROUND(Volume!AY38*'rt2'!AZ$758,2)-AZ36 -> 2644.86 | BA35: 0 | BB35: =SUM(AD35:BA35) -> 45303.7 | BC35: =SUM(F35:AC35) -> 42220.15
A36: FLEX | B36: 250106 | C36: CHILDREN'S HOSPITAL | D36: Gas Cost | F36: =ROUND(Volume!E38*'rt2'!F$759,2) -> 2038.7 | H36: =ROUND(Volume!G38*'rt2'!H$759,2) -> 1473.92 | J36: =ROUND(Volume!I38*'rt2'!J$759,2) -> 1646.07 | L36: =ROUND(Volume!K38*'rt2'!L$759,2) -> 2596.93 | N36: =ROUND(Volume!M38*'rt2'!N$759,2) -> 4716.21 | P36: =ROUND(Volume!O38*'rt2'!P$759,2) -> 8432.71 | R36: =ROUND(Volume!Q38*'rt2'!R$759,2) -> 8101.19 | T36: =ROUND(Volume!S38*'rt2'!T$759,2) -> 6700.15 | V36: =ROUND(Volume!U38*'rt2'!V$759,2) -> 5849.93 | X36: =ROUND(Volume!W38*'rt2'!X$759,2) -> 4542.12 | Z36: =ROUND(Volume!Y38*'rt2'!Z$759,2) -> 2207.31 | AB36: =ROUND(Volume!AA38*'rt2'!AB$759,2) -> 1216.73 | AD36: =ROUND(Volume!AC38*'rt2'!AD$759,2) -> 1327.28 | AF36: =ROUND(Volume!AE38*'rt2'!AF$759,2) -> 631.01 | AH36: =ROUND(Volume!AG38*'rt2'!AH$759,2) -> 1562.37 | AJ36: =ROUND(Volume!AI38*'rt2'!AJ$759,2) -> 2920.54 | AL36: =ROUND(Volume!AK38*'rt2'!AL$759,2) -> 4076.25 | AN36: =ROUND(Volume!AM38*'rt2'!AN$759,2) -> 5174.99 | AP36: =ROUND(Volume!AO38*'rt2'!AP$759,2) -> 4928.54 | AR36: =ROUND(Volume!AQ38*'rt2'!AR$759,2) -> 3589.74 | AT36: =ROUND(Volume!AS38*'rt2'!AT$759,2) -> 3086.9 | AV36: =ROUND(Volume!AU38*'rt2'!AV$759,2) -> 2625.42 | AX36: =ROUND(Volume!AW38*'rt2'!AX$759,2) -> 2108.28 | AZ36: =ROUND(Volume!AY38*'rt2'!AZ$759,2) -> 1705.73 | BB36: =SUM(AD36:BA36) -> 33737.05 | BC36: =SUM(F36:AC36) -> 49521.97
A37: FLEX | B37: 250106 | C37: CHILDREN'S HOSPITAL | D37: Tax | E37: TXIN | F37: 164.98 | G37: 0 | H37: 162.68 | I37: 0 | J37: 165.48 | K37: 0 | L37: 202.66 | M37: 0 | N37: 236.63 | O37: 0 | P37: 328.54 | Q37: 0 | R37: 319.23 | S37: 0 | T37: 283.2 | U37: 0 | V37: 283.45 | W37: 0 | X37: 233.81 | Y37: 0 | Z37: 173.91 | AA37: 0 | AB37: 149.98 | AC37: 0 | AD37: 152.43 | AE37: 0 | AF37: 135.39 | AG37: 0 | AH37: 163.16 | AI37: 0 | AJ37: 203.06 | AK37: 0 | AL37: 243.71 | AM37: 0 | AN37: 284.68 | AO37: 0 | AP37: 290.42 | AQ37: 0 | AR37: 261.63 | AS37: 0 | AT37: 252.91 | AU37: 0 | AV37: 249.56 | AW37: 0 | AX37: 229.82 | AY37: 0 | AZ37: 194.86 | BA37: 0 | BB37: =SUM(AD37:BA37) -> 2661.63 | BC37: =SUM(F37:AC37) -> 2704.55
BB38: =SUM(AD38:BA38) -> 0 | BC38: =SUM(F38:AC38) -> 0
A39: FLEX | B39: 250117 | C39: DOMESTIC LINEN SUPPLY | D39: Margin | E39: GFS6 | F39: =ROUND(Volume!E42*'rt2'!F$756,2)-F40 -> 3354.3 | G39: 0 | H39: =ROUND(Volume!G42*'rt2'!H$756,2)-H40 -> 2096.62 | I39: 0 | J39: =ROUND(Volume!I42*'rt2'!J$756,2)-J40 -> 3144.5 | K39: 0 | L39: =ROUND(Volume!K42*'rt2'!L$756,2)-L40 -> 2922.64 | M39: 0 | N39: =ROUND(Volume!M42*'rt2'!N$756,2)-N40 -> 3619.31 | O39: 0 | P39: =ROUND(Volume!O42*'rt2'!P$756,2)-P40 -> 2458.17 | Q39: 0 | R39: =ROUND(Volume!Q42*'rt2'!R$756,2)-R40 -> 2662.02 | S39: 0 | T39: =ROUND(Volume!S42*'rt2'!T$756,2)-T40 -> 2390.89 | U39: 0 | V39: =ROUND(Volume!U42*'rt2'!V$756,2)-V40 -> 2536.62 | W39: 0 | X39: =ROUND(Volume!W42*'rt2'!X$756,2)-X40 -> 2848.93 | Y39: 0 | Z39: =ROUND(Volume!Y42*'rt2'!Z$756,2)-Z40 -> 2405.68 | AA39: 0 | AB39: =ROUND(Volume!AA42*'rt2'!AB$756,2)-AB40 -> 2208.65 | AC39: 0 | AD39: =ROUND(Volume!AC42*'rt2'!AD$756,2)-AD40 -> 2128.36 | AE39: 0 | AF39: =ROUND(Volume!AE42*'rt2'!AF$756,2)-AF40 -> 1963.95 | AG39: 0 | AH39: =ROUND(Volume!AG42*'rt2'!AH$756,2)-AH40 -> 2392.67 | AI39: 0 | AJ39: =ROUND(Volume!AI42*'rt2'!AJ$756,2)-AJ40 -> 2809.05 | AK39: 0 | AL39: =ROUND(Volume!AK42*'rt2'!AL$756,2)-AL40 -> 3364.09 | AM39: 0 | AN39: =ROUND(Volume!AM42*'rt2'!AN$756,2)-AN40 -> 3356.52 | AO39: 0 | AP39: =ROUND(Volume!AO42*'rt2'!AP$756,2)-AP40 -> 3514.52 | AQ39: 0 | AR39: =ROUND(Volume!AQ42*'rt2'!AR$756,2)-AR40 -> 3396.53 | AS39: 0 | AT39: =ROUND(Volume!AS42*'rt2'!AT$756,2)-AT40 -> 4014.32 | AU39: 0 | AV39: =ROUND(Volume!AU42*'rt2'!AV$756,2)-AV40 -> 4750.2 | AW39: 0 | AX39: =ROUND(Volume!AW42*'rt2'!AX$756,2)-AX40 -> 3601.09 | AY39: 0 | AZ39: =ROUND(Volume!AY42*'rt2'!AZ$756,2)-AZ40 -> 3662.65 | BA39: 0 | BB39: =SUM(AD39:BA39) -> 38953.95 | BC39: =SUM(F39:AC39) -> 32648.33
A40: FLEX | B40: 250117 | C40: DOMESTIC LINEN SUPPLY | D40: Gas Cost | F40: =ROUND(Volume!E42*'rt2'!F$757,2) -> 3704.02 | H40: =ROUND(Volume!G42*'rt2'!H$757,2) -> 3053.5 | J40: =ROUND(Volume!I42*'rt2'!J$757,2) -> 2591.82 | L40: =ROUND(Volume!K42*'rt2'!L$757,2) -> 2628.23 | N40: =ROUND(Volume!M42*'rt2'!N$757,2) -> 2525.91 | P40: =ROUND(Volume!O42*'rt2'!P$757,2) -> 3046.99 | R40: =ROUND(Volume!Q42*'rt2'!R$757,2) -> 3299.67 | T40: =ROUND(Volume!S42*'rt2'!T$757,2) -> 3001.01 | V40: =ROUND(Volume!U42*'rt2'!V$757,2) -> 3253.87 | X40: =ROUND(Volume!W42*'rt2'!X$757,2) -> 3046.74 | Z40: =ROUND(Volume!Y42*'rt2'!Z$757,2) -> 3271.97 | AB40: =ROUND(Volume!AA42*'rt2'!AB$757,2) -> 3194.42 | AD40: =ROUND(Volume!AC42*'rt2'!AD$757,2) -> 3013.24 | AF40: =ROUND(Volume!AE42*'rt2'!AF$757,2) -> 2763.07 | AH40: =ROUND(Volume!AG42*'rt2'!AH$757,2) -> 3382.68 | AJ40: =ROUND(Volume!AI42*'rt2'!AJ$757,2) -> 3006.08 | AL40: =ROUND(Volume!AK42*'rt2'!AL$757,2) -> 3393.29 | AN40: =ROUND(Volume!AM42*'rt2'!AN$757,2) -> 2983.19 | AP40: =ROUND(Volume!AO42*'rt2'!AP$757,2) -> 3212.84 | AR40: =ROUND(Volume!AQ42*'rt2'!AR$757,2) -> 2663.47 | AT40: =ROUND(Volume!AS42*'rt2'!AT$757,2) -> 2515.25 | AV40: =ROUND(Volume!AU42*'rt2'!AV$757,2) -> 2591.57 | AX40: =ROUND(Volume!AW42*'rt2'!AX$757,2) -> 1967.81 | AZ40: =ROUND(Volume!AY42*'rt2'!AZ$757,2) -> 1843.13 | BB40: =SUM(AD40:BA40) -> 33335.62 | BC40: =SUM(F40:AC40) -> 36618.15
A41: FLEX | B41: 250117 | C41: DOMESTIC LINEN SUPPLY | D41: Tax | E41: TXIN | F41: 212.93 | G41: 0 | H41: 187.38 | I41: 0 | J41: 195.05 | K41: 0 | L41: 192.62 | M41: 0 | N41: 200.4 | O41: 0 | P41: 195.35 | Q41: 0 | R41: 201.6 | S41: 0 | T41: 193.8 | U41: 0 | V41: 199.26 | W41: 0 | X41: 205.13 | Y41: 0 | Z41: 201.98 | AA41: 0 | AB41: 198.02 | AC41: 0 | AD41: 194.24 | AE41: 0 | AF41: 187.51 | AG41: 0 | AH41: 202.48 | AI41: 0 | AJ41: 203.05 | AK41: 0 | AL41: 216.5 | AM41: 0 | AN41: 210.54 | AO41: 0 | AP41: 222.24 | AQ41: 0 | AR41: 212.1 | AS41: 0 | AT41: 219.24 | AU41: 0 | AV41: 231.58 | AW41: 0 | AX41: 217.11 | AY41: 0 | AZ41: 216.01 | BA41: 0 | BB41: =SUM(AD41:BA41) -> 2532.6 | BC41: =SUM(F41:AC41) -> 2383.52
...

Sheet Volume
A1: GROUP | B1: CUST | C1: NAME | D1: RATE | E1: JUL 2010 C | F1: JUL 2010 A | G1: AUG 2010 C | H1: AUG 2010 A | I1: SEP 2010 C | J1: SEP 2010 A | K1: OCT 2010 C | L1: OCT 2010 A | M1: NOV 2010 C | N1: NOV 2010 A | O1: DEC 2010 C | P1: DEC 2010 A | Q1: JAN 2011 C | R1: JAN 2011 A | S1: FEB 2011 C | T1: FEB 2011 A | U1: MAR 2011 C | V1: MAR 2011 A | W1: APR 2011 C | X1: APR 2011 A | Y1: MAY 2011 C | Z1: MAY 2011 A | AA1: JUN 2011 C | AB1: JUN 2011 A | AC1: JUL 2011 C | AD1: JUL 2011 A | AE1: AUG 2011 C | AF1: AUG 2011 A | AG1: SEP 2011 C | AH1: SEP 2011 A | AI1: OCT 2011 C | AJ1: OCT 2011 A | AK1: NOV 2011 C | AL1: NOV 2011 A | AM1: DEC 2011 C | AN1: DEC 2011 A | AO1: JAN 2012 C | AP1: JAN 2012 A | AQ1: FEB 2012 C | AR1: FEB 2012 A | AS1: MAR 2012 C | AT1: MAR 2012 A | AU1: APR 2012 C | AV1: APR 2012 A | AW1: MAY 2012 C | AX1: MAY 2012 A | AY1: JUN 2012 C | AZ1: JUN 2012 A
C2: Starting Date for this period ---->>>> | E2: 24-JUL | G2: 24-AUG | I2: 24-SEP | K2: 23-OCT | M2: 23-NOV | O2: 23-DEC | Q2: 26-JAN | S2: 24-FEB | U2: 23-MAR | W2: 26-APR | Y2: 24-MAY | AA2: 23-JUN | AC2: 26-JUL | AE2: 23-AUG | AG2: 24-SEP | AI2: 25-OCT | AK2: 23-NOV | AM2: 23-DEC | AO2: 26-JAN | AQ2: 24-FEB | AS2: 23-MAR | AU2: 25-APR | AW2: 23-MAY | AY2: 23-JUN
A3: CIS | B3: 0 | E3: 574160 | F3: 0 | G3: 608348 | H3: 0 | I3: 656584 | J3: 0 | K3: 933316 | L3: 0 | M3: 1627074 | N3: 0 | O3: 2741332 | P3: 0 | Q3: 2746826 | R3: 0 | S3: 1925314 | T3: -15041 | U3: 1857817 | V3: 0 | W3: 1066518 | X3: 0 | Y3: 859609 | Z3: 0 | AA3: 628061 | AB3: 843 | AC3: 555539 | AD3: 0 | AE3: 643814 | AF3: 0 | AG3: 94941 | AH3: 0 | AI3: 1050698 | AJ3: 0 | AK3: 1528596 | AL3: 0 | AM3: 2075201 | AN3: 0 | AO3: 2261534 | AP3: 0 | AQ3: 1998341 | AR3: -209 | AS3: 1454935 | AT3: 0 | AU3: 1100523 | AV3: 0 | AW3: 894130 | AX3: 0 | AY3: 699481 | AZ3: 0
A5: CM | B5: 0 | E5: 741645 | F5: 1456 | G5: 824983 | H5: -1023 | I5: 892160 | J5: 1168 | K5: 1316525 | L5: 2141 | M5: 2708940 | N5: -6067 | O5: 6180577 | P5: -2901 | Q5: 6492596 | R5: -6926 | S5: 4133294 | T5: 10298 | U5: 3568740 | V5: -2737 | W5: 1847187 | X5: -296 | Y5: 1088694 | Z5: -9644 | AA5: 1857306 | AB5: -985332 | AC5: 777580 | AD5: -17644 | AE5: 855386 | AF5: -4057 | AG5: 632731 | AH5: 286414 | AI5: 1362089 | AJ5: -52 | AK5: 2436572 | AL5: -21183 | AM5: 3541497 | AN5: -4825 | AO5: 4224483 | AP5: -20621 | AQ5: 3788579 | AR5: -2387 | AS5: 2109000 | AT5: 25526 | AU5: 1600827 | AV5: -97165 | AW5: 1077932 | AX5: 10312 | AY5: 874561 | AZ5: -10
A7: FLEX | B7: 16206 | C7: HENRICO COUNTY PUBLIC SCHOOLS | D7: GFS2 | E7: 0 | F7: 0 | G7: 0 | H7: 0 | I7: 717 | J7: 0 | K7: 6739 | L7: 0 | M7: 10964 | N7: 0 | O7: 19976 | P7: 0 | Q7: 17837 | R7: 0 | S7: 12023 | T7: 0 | U7: 12629 | V7: 0 | W7: 1785 | X7: 0 | Y7: 1 | Z7: 0 | AA7: 0 | AB7: 0 | AC7: 0 | AD7: 0 | AE7: 0 | AF7: 0 | AG7: 0 | AH7: 0 | AI7: 0 | AJ7: 0 | AK7: 0 | AL7: 0 | AM7: 0 | AN7: 0 | AO7: 0 | AP7: 0 | AQ7: 0 | AR7: 0 | AS7: 0 | AT7: 0 | AU7: 0 | AV7: 0 | AW7: 0 | AX7: 0 | AY7: 0 | AZ7: 0
A11: FLEX | B11: 161306 | C11: ST JOSEPHS VILLA | D11: GFS2 | E11: 0 | F11: 0 | G11: 0 | H11: 0 | I11: 962 | J11: 0 | K11: 3121 | L11: 0 | M11: 10524 | N11: 0 | O11: 24437 | P11: 0 | Q11: 23591 | R11: 0 | S11: 18871 | T11: 0 | U11: 16932 | V11: 0 | W11: 5812 | X11: 0 | Y11: 0 | Z11: 0 | AA11: 0 | AB11: 0 | AC11: 0 | AD11: 0 | AE11: 0 | AF11: 0 | AG11: 0 | AH11: 0 | AI11: 231 | AJ11: 0 | AK11: 13663 | AL11: 0 | AM11: 16827 | AN11: 0 | AO11: 19803 | AP11: 0 | AQ11: 16241 | AR11: 0 | AS11: 9379 | AT11: 0 | AU11: 3862 | AV11: 0 | AW11: 19 | AX11: 0 | AY11: 0 | AZ11: 0
A15: FLEX | B15: 161561 | C15: THE GREENHOUSE | D15: GFS2 | E15: 0 | F15: 0 | G15: 0 | H15: 0 | I15: 514 | J15: 0 | K15: 3709 | L15: 0 | M15: 7058 | N15: 0 | O15: 8218 | P15: 0 | Q15: 6977 | R15: 0 | S15: 6806 | T15: 0 | U15: 5896 | V15: 0 | W15: 1276 | X15: 0 | Y15: 0 | Z15: 0 | AA15: 0 | AB15: 0 | AC15: 0 | AD15: 0 | AE15: 8 | AF15: 0 | AG15: 684 | AH15: 0 | AI15: 3788 | AJ15: 0 | AK15: 6306 | AL15: 0 | AM15: 5963 | AN15: 0 | AO15: 4889 | AP15: 0 | AQ15: 5890 | AR15: 0 | AS15: 1934 | AT15: 0 | AU15: 2713 | AV15: 0 | AW15: 344 | AX15: 0 | AY15: 0 | AZ15: 0
A19: FLEX | B19: 166435 | C19: 5100 MONUMENT AVE. A CONDO | D19: GFS2 | E19: 0 | F19: 0 | G19: 0 | H19: 0 | I19: 0 | J19: 0 | K19: 1322 | L19: 0 | M19: 4341 | N19: 0 | O19: 9269 | P19: 0 | Q19: 7976 | R19: 0 | S19: 4662 | T19: 0 | U19: 3942 | V19: 0 | W19: 170 | X19: 0 | Y19: 0 | Z19: 0 | AA19: 0 | AB19: 0 | AC19: 0 | AD19: 0 | AE19: 0 | AF19: 0 | AG19: -290944 | AH19: 291010 | AI19: 3572 | AJ19: 0 | AK19: 6806 | AL19: 0 | AM19: 10455 | AN19: 0 | AO19: 10535 | AP19: 0 | AQ19: 9458 | AR19: 0 | AS19: 3618 | AT19: 0 | AU19: 2374 | AV19: 0 | AW19: 262 | AX19: 0 | AY19: 94 | AZ19: 0
A23: FLEX | B23: 166507 | C23: THE TUCKAHOE A CONDO | D23: GFS4 | E23: 401 | F23: 0 | G23: 443 | H23: 0 | I23: 609 | J23: 0 | K23: 1698 | L23: 0 | M23: 5136 | N23: 0 | O23: 11912 | P23: 0 | Q23: 10555 | R23: 0 | S23: 6549 | T23: 0 | U23: 6296 | V23: 0 | W23: 972 | X23: 0 | Y23: 792 | Z23: 0 | AA23: 659 | AB23: 0 | AC23: 435 | AD23: 0 | AE23: 503 | AF23: 0 | AG23: 1004 | AH23: 0 | AI23: 3466 | AJ23: 0 | AK23: 6060 | AL23: 0 | AM23: 7735 | AN23: 0 | AO23: 8014 | AP23: 0 | AQ23: 8600 | AR23: 0 | AS23: 4052 | AT23: 0 | AU23: 3998 | AV23: 0 | AW23: 949 | AX23: 0 | AY23: 577 | AZ23: 0
A28: FLEX | B28: 166544 | C28: THE BERKSHIRE APTS | D28: GFS2 | E28: 1242 | F28: 0 | G28: 257 | H28: 0 | I28: 0 | J28: 0 | K28: 2859 | L28: 0 | M28: 9936 | N28: 0 | O28: 20683 | P28: 0 | Q28: 27524 | R28: 0 | S28: 21865 | T28: 0 | U28: 14051 | V28: 0 | W28: 11185 | X28: 0 | Y28: 1477 | Z28: 0 | AA28: 508 | AB28: 0 | AC28: 174 | AD28: 0 | AE28: 55 | AF28: 0 | AG28: 1336 | AH28: 0 | AI28: 2154 | AJ28: 0 | AK28: 12202 | AL28: 0 | AM28: 14572 | AN28: 0 | AO28: 20040 | AP28: 0 | AQ28: 17647 | AR28: 0 | AS28: 13383 | AT28: 0 | AU28: 6059 | AV28: 0 | AW28: 2857 | AX28: 0 | AY28: 2463 | AZ28: 0
A33: FLEX | B33: 250042 | C33: BENEDICTINE SCHOOL | D33: GFS2 | E33: 217 | F33: 0 | G33: 0 | H33: 0 | I33: 350 | J33: 0 | K33: 25 | L33: 0 | M33: 2952 | N33: 0 | O33: 5315 | P33: 0 | Q33: 4034 | R33: 0 | S33: 3191 | T33: 0 | U33: 3374 | V33: 0 | W33: 561 | X33: 0 | Y33: 44 | Z33: 0 | AA33: 23 | AB33: 0 | AC33: 13 | AD33: 0 | AE33: 22 | AF33: 0 | AG33: 55 | AH33: 0 | AI33: 513 | AJ33: 0 | AK33: 4029 | AL33: 0 | AM33: 3076 | AN33: 0 | AO33: 2440 | AP33: 0 | AQ33: 2719 | AR33: 0 | AS33: 2037 | AT33: 0 | AU33: 1020 | AV33: 0 | AW33: 103 | AX33: 0 | AY33: 97 | AZ33: 0
A38: FLEX | B38: 250106 | C38: CHILDREN'S HOSPITAL | D38: GFS2 | E38: 3801 | F38: 0 | G38: 3606 | H38: 0 | I38: 3843 | J38: 0 | K38: 6984 | L38: 0 | M38: 9855 | N38: 0 | O38: 17621 | P38: 0 | Q38: 16834 | R38: 0 | S38: 13790 | T38: 0 | U38: 13811 | V38: 0 | W38: 9616 | X38: 0 | Y38: 4555 | Z38: 0 | AA38: 2533 | AB38: 0 | AC38: 2740 | AD38: 0 | AE38: 1300 | AF38: 0 | AG38: 3647 | AH38: 0 | AI38: 7018 | AJ38: 0 | AK38: 10453 | AL38: 0 | AM38: 13915 | AN38: 0 | AO38: 14400 | AP38: 0 | AQ38: 11967 | AR38: 0 | AS38: 11230 | AT38: 0 | AU38: 10947 | AV38: 0 | AW38: 9279 | AX38: 0 | AY38: 6325 | AZ38: 0
A42: FLEX | B42: 250117 | C42: DOMESTIC LINEN SUPPLY | D42: GFS6 | E42: 7852 | F42: 0 | G42: 5693 | H42: 0 | I42: 6341 | J42: 0 | K42: 6136 | L42: 0 | M42: 6793 | N42: 0 | O42: 6367 | P42: 0 | Q42: 6895 | R42: 0 | S42: 6236 | T42: 0 | U42: 6697 | V42: 0 | W42: 7193 | X42: 0 | Y42: 6927 | Z42: 0 | AA42: 6592 | AB42: 0 | AC42: 6273 | AD42: 0 | AE42: 5704 | AF42: 0 | AG42: 6969 | AH42: 0 | AI42: 7017 | AJ42: 0 | AK42: 8154 | AL42: 0 | AM42: 7650 | AN42: 0 | AO42: 8639 | AP42: 0 | AQ42: 7782 | AR42: 0 | AS42: 8385 | AT42: 0 | AU42: 9428 | AV42: 0 | AW42: 8205 | AX42: 0 | AY42: 8112 | AZ42: 0
A46: FLEX | B46: 250493 | C46: BANK OF AMERICA | D46: GFS2 | E46: 0 | F46: 0 | G46: 0 | H46: 0 | I46: 61 | J46: 0 | K46: 4855 | L46: 0 | M46: 10541 | N46: 0 | O46: 29179 | P46: 0 | Q46: 27418 | R46: 0 | S46: 17910 | T46: 0 | U46: 12601 | V46: 0 | W46: 5280 | X46: 0 | Y46: 3119 | Z46: 0 | AA46: 39 | AB46: 0 | AC46: 0 | AD46: 0 | AE46: 0 | AF46: 0 | AG46: 651 | AH46: 0 | AI46: 4080 | AJ46: 0 | AK46: 9702 | AL46: 0 | AM46: 15157 | AN46: 0 | AO46: 20247 | AP46: 0 | AQ46: 16716 | AR46: 0 | AS46: 9120 | AT46: 0 | AU46: 6571 | AV46: 0 | AW46: 2548 | AX46: 0 | AY46: 1197 | AZ46: 0
A50: FLEX | B50: 250494 | C50: CITY OF RICHMOND - GENERAL SER | D50: GFM2 | E50: 7094 | F50: 0 | G50: 2672 | H50: 0 | I50: 4570 | J50: 0 | K50: 20598 | L50: 0 | M50: 43370 | N50: 0 | O50: 60060 | P50: 0 | Q50: 65962 | R50: 0 | S50: 58336 | T50: 0 | U50: 50299 | V50: 0 | W50: 46817 | X50: 0 | Y50: 31662 | Z50: 0 | AA50: 14918 | AB50: 0 | AC50: 10290 | AD50: 0 | AE50: 7628 | AF50: 0 | AG50: 9144 | AH50: 0 | AI50: 20874 | AJ50: 0 | AK50: 50489 | AL50: 0 | AM50: 49054 | AN50: 0 | AO50: 64101 | AP50: 0 | AQ50: 53910 | AR50: 0 | AS50: 50401 | AT50: 0 | AU50: 34792 | AV50: 0 | AW50: 24815 | AX50: 0 | AY50: 0 | AZ50: 0
A55: FLEX | B55: 250494 | C55: CITY OF RICHMOND - GENERAL SER | D55: GFPW | E55: 0 | F55: 0 | G55: 0 | H55: 0 | I55: 0 | J55: 0 | K55: 0 | L55: 0 | M55: 0 | N55: 0 | O55: 0 | P55: 0 | Q55: 0 | R55: 0 | S55: 0 | T55: 0 | U55: 2614 | V55: 0 | W55: 0 | X55: 0 | Y55: 23652 | Z55: 34462 | AA55: 13256 | AB55: 0 | AC55: 11943 | AD55: 0 | AE55: 16978 | AF55: 0 | AG55: 10390 | AH55: 0 | AI55: 12227 | AJ55: 0 | AK55: 14027 | AL55: 0 | AM55: 14475 | AN55: 0 | AO55: 13619 | AP55: 0 | AQ55: 12195 | AR55: 0 | AS55: 13563 | AT55: 0 | AU55: 11992 | AV55: 0 | AW55: 16357 | AX55: 0 | AY55: 11842 | AZ55: 0
... A100: FLEX | B100: 385424 | C100: FIRST STATES INVESTORS 3500, L | D100: GFS2 | E100: 5003 | F100: 0 | G100: 3913 | H100: 0 | I100: 4483 | J100: 0 | K100: 9859 | L100: 0 | M100: 23098 | N100: 0 | O100: 39663 | P100: 0 | Q100: 54890 | R100: 0 | S100: 43295 | T100: 0 | U100: 31854 | V100: 0 | W100: 24709 | X100: 0 | Y100: 13885 | Z100: 0 | AA100: 6996 | AB100: 0 | AC100: 5111 | AD100: 0 | AE100: 0 | AF100: 0 | AG100: 0 | AH100: 0 | AI100: 0 | AJ100: 0 | AK100: 0 | AL100: 0 | AM100: 0 | AN100: 0 | AO100: 0 | AP100: 0 | AQ100: 0 | AR100: 0 | AS100: 0 | AT100: 0 | AU100: 0 | AV100: 0 | AW100: 0 | AX100: 0 | AY100: 0 | AZ100: 0
A101: FLEX | B101: 385424 | C101: FIRST STATES INVESTORS 3500, L | D101: GFS2 | AC101: 2539
A103: LVS | B103: 7974 | C103: STERILIZATION SERVICES | D103: GLVS | E103: 9751 | F103: 0 | G103: 8472 | H103: 0 | I103: 10727 | J103: 0 | K103: 13256 | L103: 0 | M103: 16446 | N103: 0 | O103: 21839 | P103: 0 | Q103: 29101 | R103: 0 | S103: 22630 | T103: 0 | U103: 19584 | V103: 0 | W103: 15366 | X103: 0 | Y103: 11370 | Z103: 0 | AA103: 9636 | AB103: 0 | AC103: 9524 | AD103: 0 | AE103: 7939 | AF103: 0 | AG103: 11807 | AH103: 0 | AI103: 11954 | AJ103: 0 | AK103: 15579 | AL103: 0 | AM103: 16170 | AN103: 0 | AO103: 20140 | AP103: 0 | AQ103: 17524 | AR103: 0 | AS103: 15313 | AT103: 0 | AU103: 11852 | AV103: 0 | AW103: 9686 | AX103: 0 | AY103: 9321 | AZ103: 0
A104: LVS | B104: 166300 | C104: CADMUS COMMUNICATIONS | D104: GLVS | E104: 27233 | F104: 0 | G104: 27168 | H104: 0 | I104: 32911 | J104: 0 | K104: 31800 | L104: 0 | M104: 41945 | N104: 0 | O104: 74637 | P104: 0 | Q104: 59341 | R104: 0 | S104: 50698 | T104: 0 | U104: 56337 | V104: 0 | W104: 40877 | X104: 0 | Y104: 34386 | Z104: 0 | AA104: 42663 | AB104: 0 | AC104: 29268 | AD104: 0 | AE104: 33209 | AF104: 0 | AG104: 42373 | AH104: 0 | AI104: 40443 | AJ104: 0 | AK104: 48087 | AL104: 0 | AM104: 45583 | AN104: 0 | AO104: 43516 | AP104: 0 | AQ104: 45246 | AR104: 0 | AS104: 41703 | AT104: 0 | AU104: 35490 | AV104: 0 | AW104: 41196 | AX104: 0 | AY104: 33660 | AZ104: 0
A105: LVS | B105: 166453 | C105: HOSPITAL CORP OF AMERICA T/A H | D105: GLV7 | E105: 0 | F105: 0 | G105: 0 | H105: 0 | I105: 0 | J105: 0 | K105: 0 | L105: 0 | M105: 61680 | N105: 0 | O105: 104682 | P105: 0 | Q105: 91683 | R105: 0 | S105: 75855 | T105: 0 | U105: 81689 | V105: 0 | W105: 0 | X105: 0 | Y105: 0 | Z105: 0 | AA105: 0 | AB105: 0 | AC105: 0 | AD105: 0 | AE105: 0 | AF105: 0 | AG105: 0 | AH105: 0 | AI105: 0 | AJ105: 0 | AK105: 0 | AL105: 0 | AM105: 0 | AN105: 0 | AO105: 0 | AP105: 0 | AQ105: 0 | AR105: 0 | AS105: 0 | AT105: 0 | AU105: 0 | AV105: 0 | AW105: 0 | AX105: 0 | AY105: 0 | AZ105: 0
A106: LVS | B106: 166453 | C106: HOSPITAL CORP OF AMERICA T/A H | D106: LV3F | E106: 0 | F106: 0 | G106: 0 | H106: 0 | I106: 0 | J106: 0 | K106: 0 | L106: 0 | M106: 0 | N106: 0 | O106: 0 | P106: 0 | Q106: 0 | R106: 0 | S106: 0 | T106: 0 | U106: 0 | V106: 0 | W106: 0 | X106: 0 | Y106: 0 | Z106: 0 | AA106: 0 | AB106: 0 | AC106: 0 | AD106: 0 | AE106: 0 | AF106: 0 | AG106: 0 | AH106: 0 | AI106: 0 | AJ106: 0 | AK106: 0 | AL106: 0 | AM106: 0 | AN106: 0 | AO106: 0 | AP106: 0 | AQ106: 0 | AR106: 0 | AS106: 0 | AT106: 0 | AU106: 0 | AV106: 0 | AW106: 67892 | AX106: 0 | AY106: 53758 | AZ106: 0
A107: LVS | B107: 166453 | C107: HOSPITAL CORP OF AMERICA T/A H | D107: LVD2 | E107: 39928 | F107: 0 | G107: 43261 | H107: 0 | I107: 49471 | J107: 0 | K107: 52426 | L107: 0 | M107: 0 | N107: 0 | O107: 0 | P107: 0 | Q107: 0 | R107: 0 | S107: 0 | T107: 0 | U107: 0 | V107: 0 | W107: 60111 | X107: 0 | Y107: 56900 | Z107: 0 | AA107: 56698 | AB107: 0 | AC107: 46685 | AD107: 0 | AE107: 54523 | AF107: 0 | AG107: 53176 | AH107: 0 | AI107: 59623 | AJ107: 0 | AK107: 79167 | AL107: 0 | AM107: 83020 | AN107: 0 | AO107: 79939 | AP107: 0 | AQ107: 79820 | AR107: 0 | AS107: 76553 | AT107: 0 | AU107: 75736 | AV107: 0 | AW107: 0 | AX107: 0 | AY107: 0 | AZ107: 0
A108: LVS | B108: 166592 | C108: OMNI HOTEL | D108: GLV2 | E108: 10791 | F108: 0 | G108: 7163 | H108: 0 | I108: 10662 | J108: 0 | K108: 12998 | L108: 0 | M108: 16792 | N108: 0 | O108: 20405 | P108: 0 | Q108: 23962 | R108: 0 | S108: 20416 | T108: 0 | U108: 18271 | V108: 0 | W108: 20166 | X108: 0 | Y108: 14381 | Z108: 0 | AA108: 10903 | AB108: 0 | AC108: 9579 | AD108: 0 | AE108: 7195 | AF108: 0 | AG108: 13233 | AH108: 0 | AI108: 13265 | AJ108: 0 | AK108: 16778 | AL108: 0 | AM108: 17820 | AN108: 0 | AO108: 21557 | AP108: 0 | AQ108: 18350 | AR108: 0 | AS108: 18763 | AT108: 0 | AU108: 15059 | AV108: 0 | AW108: 13316 | AX108: 0 | AY108: 14833 | AZ108: 0
A109: LVS | B109: 166630 | C109: HENRICO COUNTY BUILDINGS AND G | D109: GLV6 | E109: 0 | F109: 0 | G109: 0 | H109: 0 | I109: 0 | J109: 0 | K109: 0 | L109: 0 | M109: 17264 | N109: 0 | O109: 27461 | P109: 0 | Q109: 21258 | R109: 0 | S109: 21167 | T109: 0 | U109: 20679 | V109: 0 | W109: 0 | X109: 0 | Y109: 0 | Z109: 0 | AA109: 0 | AB109: 0 | AC109: 0 | AD109: 0 | AE109: 0 | AF109: 0 | AG109: 0 | AH109: 0 | AI109: 0 | AJ109: 0 | AK109: 0 | AL109: 0 | AM109: 0 | AN109: 0 | AO109: 0 | AP109: 0 | AQ109: 0 | AR109: 0 | AS109: 0 | AT109: 0 | AU109: 0 | AV109: 0 | AW109: 0 | AX109: 0 | AY109: 0 | AZ109: 0
A110: LVS | B110: 166630 | C110: HENRICO COUNTY BUILDINGS AND G | D110: GLV9 | E110: 0 | F110: 0 | G110: 0 | H110: 0 | I110: 0 | J110: 0 | K110: 0 | L110: 0 | M110: 0 | N110: 0 | O110: 0 | P110: 0 | Q110: 0 | R110: 0 | S110: 0 | T110: 0 | U110: 0 | V110: 0 | W110: 0 | X110: 0 | Y110: 0 | Z110: 0 | AA110: 0 | AB110: 0 | AC110: 0 | AD110: 0 | AE110: 0 | AF110: 0 | AG110: 0 | AH110: 0 | AI110: 0 | AJ110: 0 | AK110: 0 | AL110: 0 | AM110: 0 | AN110: 0 | AO110: 0 | AP110: 0 | AQ110: 0 | AR110: 0 | AS110: 0 | AT110: 0 | AU110: 0 | AV110: 0 | AW110: 11373 | AX110: 0 | AY110: 9056 | AZ110: 0
A111: LVS | B111: 166630 | C111: HENRICO COUNTY BUILDINGS AND G | D111: GLVS | E111: 6779 | F111: 0 | G111: 9766 | H111: 0 | I111: 16744 | J111: 0 | K111: 14136 | L111: 0 | M111: 0 | N111: 0 | O111: 0 | P111: 0 | Q111: 0 | R111: 0 | S111: 0 | T111: 0 | U111: 0 | V111: 0 | W111: 14722 | X111: 0 | Y111: 13198 | Z111: 0 | AA111: 9684 | AB111: 0 | AC111: 8319 | AD111: 0 | AE111: 8736 | AF111: 0 | AG111: 9276 | AH111: 0 | AI111: 10069 | AJ111: 0 | AK111: 14490 | AL111: 0 | AM111: 14449 | AN111: 0 | AO111: 15882 | AP111: 0 | AQ111: 15181 | AR111: 0 | AS111: 12364 | AT111: 0 | AU111: 11425 | AV111: 0 | AW111: 0 | AX111: 0 | AY111: 0 | AZ111: 0
A112: LVS | B112: 166631 | C112: HENRICO COUNTY SHERIFF'S OFFIC | D112: GLV6 | E112: 0 | F112: 0 | G112: 0 | H112: 0 | I112: 0 | J112: 0 | K112: 0 | L112: 0 | M112: 16026 | N112: 0 | O112: 20840 | P112: 0 | Q112: 18189 | R112: 0 | S112: 15028 | T112: 0 | U112: 15157 | V112: 0 | W112: 0 | X112: 0 | Y112: 0 | Z112: 0 | AA112: 0 | AB112: 0 | AC112: 0 | AD112: 0 | AE112: 0 | AF112: 0 | AG112: 0 | AH112: 0 | AI112: 0 | AJ112: 0 | AK112: 0 | AL112: 0 | AM112: 0 | AN112: 0 | AO112: 0 | AP112: 0 | AQ112: 0 | AR112: 0 | AS112: 0 | AT112: 0 | AU112: 0 | AV112: 0 | AW112: 0 | AX112: 0 | AY112: 0 | AZ112: 0
A113: LVS | B113: 166631 | C113: HENRICO COUNTY SHERIFF'S OFFIC | D113: GLV9 | E113: 0 | F113: 0 | G113: 0 | H113: 0 | I113: 0 | J113: 0 | K113: 0 | L113: 0 | M113: 0 | N113: 0 | O113: 0 | P113: 0 | Q113: 0 | R113: 0 | S113: 0 | T113: 0 | U113: 0 | V113: 0 | W113: 0 | X113: 0 | Y113: 0 | Z113: 0 | AA113: 0 | AB113: 0 | AC113: 0 | AD113: 0 | AE113: 0 | AF113: 0 | AG113: 0 | AH113: 0 | AI113: 0 | AJ113: 0 | AK113: 0 | AL113: 0 | AM113: 0 | AN113: 0 | AO113: 0 | AP113: 0 | AQ113: 0 | AR113: 0 | AS113: 0 | AT113: 0 | AU113: 0 | AV113: 0 | AW113: 8229 | AX113: 0 | AY113: 5969 | AZ113: 0
A114: LVS | B114: 166631 | C114: HENRICO COUNTY SHERIFF'S OFFIC | D114: GLVS | E114: 4660 | F114: 0 | G114: 4823 | H114: 0 | I114: 9146 | J114: 0 | K114: 9428 | L114: 0 | M114: 0 | N114: 0 | O114: 0 | P114: 0 | Q114: 0 | R114: 0 | S114: 0 | T114: 0 | U114: 0 | V114: 0 | W114: 8651 | X114: 0 | Y114: 8388 | Z114: 0 | AA114: 7497 | AB114: 0 | AC114: 4760 | AD114: 0 | AE114: 6778 | AF114: 0 | AG114: 7106 | AH114: 0 | AI114: 10173 | AJ114: 0 | AK114: 14358 | AL114: 0 | AM114: 15520 | AN114: 0 | AO114: 14398 | AP114: 0 | AQ114: 13969 | AR114: 0 | AS114: 9995 | AT114: 0 | AU114: 8193 | AV114: 0 | AW114: 0 | AX114: 0 | AY114: 0 | AZ114: 0
... A201: LVS | B201: 578582 | C201: FAREVA RICHMOND, INC | D201: LV3F | E201: 0 | F201: 0 | G201: 0 | H201: 0 | I201: 0 | J201: 0 | K201: 0 | L201: 0 | M201: 0 | N201: 0 | O201: 0 | P201: 0 | Q201: 0 | R201: 0 | S201: 0 | T201: 0 | U201: 0 | V201: 0 | W201: 0 | X201: 0 | Y201: 0 | Z201: 0 | AA201: 0 | AB201: 0 | AC201: 0 | AD201: 0 | AE201: 0 | AF201: 0 | AG201: 0 | AH201: 0 | AI201: 0 | AJ201: 0 | AK201: 125400 | AL201: 0 | AM201: 142490 | AN201: 0 | AO201: 183494 | AP201: 0 | AQ201: 147718 | AR201: 0 | AS201: 145108 | AT201: 0 | AU201: 133223 | AV201: 0 | AW201: 108832 | AX201: 0 | AY201: 115650 | AZ201: 0
A202: MN | B202: 0 | E202: 25728 | F202: 0 | G202: 41237 | H202: 0 | I202: 29056 | J202: 0 | K202: 101708 | L202: 0 | M202: 293568 | N202: 0 | O202: 624774 | P202: 0 | Q202: 669061 | R202: -387 | S202: 455017 | T202: -1954 | U202: 326287 | V202: 0 | W202: 173440 | X202: 0 | Y202: 64027 | Z202: 0 | AA202: 41589 | AB202: 0 | AC202: 33299 | AD202: 0 | AE202: 34507 | AF202: 0 | AG202: 49358 | AH202: 0 | AI202: 98788 | AJ202: 491 | AK202: 260335 | AL202: -5869 | AM202: 336654 | AN202: 19699 | AO202: 489984 | AP202: 0 | AQ202: 401945 | AR202: 0 | AS202: 203695 | AT202: 0 | AU202: 92924 | AV202: 1026 | AW202: 68409 | AX202: -3673 | AY202: 47766 | AZ202: 0
A203: RS | B203: 0 | E203: 1048361 | F203: -151 | G203: 1100197 | H203: -17247 | I203: 1262938 | J203: 2962 | K203: 2695419 | L203: 1270 | M203: 7182817 | N203: -1198 | O203: 16164423 | P203: -715 | Q203: 15677992 | R203: -8876 | S203: 9958826 | T203: -17068 | U203: 7657383 | V203: -12325 | W203: 3272900 | X203: -10045 | Y203: 1563123 | Z203: 28793 | AA203: 1260750 | AB203: -22564 | AC203: 1019251 | AD203: -2307 | AE203: 1262407 | AF203: -6928 | AG203: 1386478 | AH203: -15919 | AI203: 3059015 | AJ203: 615 | AK203: 6161617 | AL203: -16017 | AM203: 9456494 | AN203: -3285 | AO203: 10674006 | AP203: -5928 | AQ203: 9468786 | AR203: -3968 | AS203: 4299575 | AT203: -24723 | AU203: 2969760 | AV203: -11568 | AW203: 1676205 | AX203: -6927 | AY203: 1286692 | AZ203: -20518
