Workbook

Sheet June 2010 Metered Services
A3: Customer Count (Metered Services) as of June 30, 2010
A4: From Usage & Revenue Summary Report
B6: # of Custs | C6: % to Total | D6: % to Class | E6: Subtotals | F6: % to Total | G6: % to Subs
A7: Res | B7: =SUM('[4]Jun 10'!$C$44:$G$44) -> 96797 | C7: =B7/B$28 -> 0.89622703 | D7: =B7/E7 -> 1 | E7: =+B7 -> 96797 | F7: =E7/E$28 -> 0.89631831
A9: Comm Heat | B9: =SUM('[4]Jun 10'!$C$10:$G$10) -> 7585 | C9: =B9/B$28 -> 0.07022823 | D9: =B9/E$13 -> 0.71489161 | G9: =B9/E$13 -> 0.71489161
A10: Comm Non-Heat | B10: =SUM('[4]Jun 10'!$C$15:$G$15) -> 1206 | C10: =B10/B$28 -> 0.01116615 | D10: =B10/E$13 -> 0.11366635 | G10: =B10/E$13 -> 0.11366635
A11: Comm A/C | B11: =SUM('[4]Jun 10'!$C$9:$G$9) -> 2 | C11: =B11/B$28 -> 1.8517661e-05 | D11: =B11/E$13 -> 0.00018850141 | G11: =B11/E$13 -> 0.00018850141
A12: Comm - CIS | B12: =SUM('[4]Jun 10'!$C$12:$G$12) -> 1654 | C12: =B12/B$28 -> 0.015314106 | D12: =B12/E$13 -> 0.15589067 | G12: =B12/E$13 -> 0.15589067
A13: Comm - LVS | B13: =SUM('[4]Jun 10'!$C$14:$G$14) -> 163 | C13: =B13/B$28 -> 0.0015091894 | D13: =B13/E$13 -> 0.015362865 | E13: =SUM(B9:B13) -> 10610 | F13: =E13/E$28 -> 0.098246199 | G13: =B13/E$13 -> 0.015362865
A15: Comm - Tranp | B15: =SUM('[4]Jun 10'!$C$16:$G$16) -> 9 | C15: =B15/B$28 -> 8.3329475e-05 | D15: =B15/E$13 -> 0.00084825636
A17: Ind - Tranp | B17: =SUM('[4]Jun 10'!$C$25:$G$25) -> 1 | C17: =B17/B$28 -> 9.2588306e-06 | D17: =B17/E$19 -> 0.0026666667 | G17: =B17/E$19 -> 0.0026666667
A18: Ind - CIS | B18: =SUM('[4]Jun 10'!$C$23:$G$23) -> 329 | C18: =B18/B$28 -> 0.0030461553 | D18: =B18/E$19 -> 0.87733333 | G18: =B18/E$19 -> 0.87733333
A19: Ind- LVS | B19: =SUM('[4]Jun 10'!$C$24:$G$24) -> 45 | C19: =B19/B$28 -> 0.00041664738 | D19: =B19/E$19 -> 0.12 | E19: =SUM(B17:B19) -> 375 | F19: =E19/E$28 -> 0.0034724151 | G19: =B19/E$19 -> 0.12
A21: RPE | B21: =SUM('[4]Jun 10'!$C$27:$G$27) -> 2 | C21: =B21/B$28 -> 1.8517661e-05 | D21: =B21/E$19 -> 0.0053333333
A23: Mun | B23: =SUM('[4]Jun 10'!$C$30:$G$31) -> 186 | C23: =B23/B$28 -> 0.0017221425 | D23: =B23/E$23 -> 1 | E23: =+B23 -> 186 | F23: =E23/E$28 -> 0.0017223179
A25: Gas Light (GL) | B25: 0 | E25: 0 | H25: (unmetered customer)
A27: Flex | B27: =SUM('[4]Jun 10'!$C$20:$G$20) -> 26 | C27: =B27/B$28 -> 0.0002407296 | D27: =B27/E$27 -> 1 | E27: =+B27 -> 26 | F27: =E27/E$28 -> 0.00024075412
A28: Total | B28: =SUM(B7:B27) -> 108005 | C28: =B28/B$28 -> 1 | E28: =SUM(E7:E27) -> 107994 | F28: =E28/E$28 -> 1
A31: Total Percentages
A32: Res | C32: =C7 -> 0.89622703
A33: Comm | C33: =C9 -> 0.07022823
A34: CIS | C34: =C12+C18 -> 0.018360261
A35: LVS | C35: =C13+C19 -> 0.0019258368
A36: Trans | C36: =C17 -> 9.2588306e-06
A37: Mun | C37: =C23 -> 0.0017221425
A38: Flex | C38: =C27 -> 0.0002407296
C39: =SUM(C32:C38) -> 0.98871349

Sheet June 2011 Metered Services
A3: Customer Count (Metered Services) as of June 30, 2011
A4: From Usage & Revenue Summary Report
B6: # of Custs | C6: % to Total | D6: % to Class | E6: Subtotals | F6: % to Total | G6: % to Subs
A7: Res | B7: =SUM('[5]Jun 11'!$C$45:$G$45) -> 97770 | C7: =B7/B$28 -> 0.89907582 | D7: =B7/E7 -> 1 | E7: =+B7 -> 97770 | F7: =E7/E$28 -> 0.89916677
A9: Comm Heat | B9: =SUM('[5]Jun 11'!$C$10:$G$11) -> 7501 | C9: =B9/B$28 -> 0.068977884 | D9: =B9/E$13 -> 0.72208317 | G9: =B9/E$13 -> 0.72208317
A10: Comm Non-Heat | B10: =SUM('[5]Jun 11'!$C$15:$G$15) -> 1187 | C10: =B10/B$28 -> 0.010915444 | D10: =B10/E$13 -> 0.11426646 | G10: =B10/E$13 -> 0.11426646
A11: Comm A/C | B11: =SUM('[5]Jun 11'!$C$9:$G$9) -> 2 | C11: =B11/B$28 -> 1.839165e-05 | D11: =B11/E$13 -> 0.00019252984 | G11: =B11/E$13 -> 0.00019252984
A12: Comm - CIS | B12: =SUM('[5]Jun 11'!$C$12:$G$12) -> 1567 | C12: =B12/B$28 -> 0.014409858 | D12: =B12/E$13 -> 0.15084713 | G12: =B12/E$13 -> 0.15084713
A13: Comm - LVS | B13: =SUM('[5]Jun 11'!$C$14:$G$14) -> 131 | C13: =B13/B$28 -> 0.0012046531 | D13: =B13/E$13 -> 0.012610705 | E13: =SUM(B9:B13) -> 10388 | F13: =E13/E$28 -> 0.095535895 | G13: =B13/E$13 -> 0.012610705
A15: Comm - Tranp | B15: =SUM('[5]Jun 11'!$C$16:$G$16) -> 9 | C15: =B15/B$28 -> 8.2762426e-05 | D15: =B15/E$13 -> 0.00086638429
A17: Ind - Tranp | B17: =SUM('[5]Jun 11'!$C$26:$G$26) -> 0 | C17: =B17/B$28 -> 0 | D17: =B17/E$19 -> 0 | G17: =B17/E$19 -> 0
A18: Ind - CIS | B18: =SUM('[5]Jun 11'!$C$24:$G$24) -> 331 | C18: =B18/B$28 -> 0.0030438181 | D18: =B18/E$19 -> 0.89459459 | G18: =B18/E$19 -> 0.89459459
A19: Ind- LVS | B19: =SUM('[5]Jun 11'!$C$25:$G$25) -> 39 | C19: =B19/B$28 -> 0.00035863718 | D19: =B19/E$19 -> 0.10540541 | E19: =SUM(B17:B19) -> 370 | F19: =E19/E$28 -> 0.0034027995 | G19: =B19/E$19 -> 0.10540541
A21: RPE | B21: =SUM('[5]Jun 11'!$C$28:$G$28) -> 2 | C21: =B21/B$28 -> 1.839165e-05 | D21: =B21/E$13 -> 0.00019252984
A23: Mun | B23: =SUM('[5]Jun 11'!$C$31:$G$32) -> 183 | C23: =B23/B$28 -> 0.001682836 | D23: =B23/E$23 -> 1 | E23: =+B23 -> 183 | F23: =E23/E$28 -> 0.0016830062
A25: Gas Light (GL) | B25: 0 | E25: 0 | H25: (unmetered customer)
A27: Flex | B27: =SUM('[5]Jun 11'!$C$20:$G$20) -> 23 | C27: =B27/B$28 -> 0.00021150398 | D27: =B27/E$27 -> 1 | E27: =+B27 -> 23 | F27: =E27/E$28 -> 0.00021152537
A28: Total | B28: =SUM(B7:B27) -> 108745 | C28: =B28/B$28 -> 1 | E28: =SUM(E7:E27) -> 108734 | F28: =E28/E$28 -> 1
A31: Total Percentages
A32: Res | C32: =C7 -> 0.89907582
A33: Comm | C33: =C9 -> 0.068977884
A34: CIS | C34: =C12+C18 -> 0.017453676
A35: LVS | C35: =C13+C19 -> 0.0015632903
A36: Trans | C36: =C17 -> 0
A37: Mun | C37: =C23 -> 0.001682836
A38: Flex | C38: =C27 -> 0.00021150398
C39: =SUM(C32:C38) -> 0.98896501

Sheet June 2012 Metered Services
A3: Customer Count (Metered Services) as of June 30, 2012
A4: From Usage & Revenue Summary Report
B6: # of Custs | C6: % to Total | D6: % to Class | E6: Subtotals | F6: % to Total | G6: % to Subs
A7: Res | B7: =SUM('[6]Jun 12'!$C$45:$G$45) -> 98735 | C7: =B7/B$28 -> 0.89993073 | D7: =B7/E7 -> 1 | E7: =+B7 -> 98735 | F7: =E7/E$28 -> 0.90001276
A9: Comm Heat | B9: =SUM('[6]Jun 12'!$C$10:$G$11) -> 7476 | C9: =B9/B$28 -> 0.068140802 | D9: =B9/E$13 -> 0.71905357 | G9: =B9/E$13 -> 0.71905357
A10: Comm Non-Heat | B10: =SUM('[6]Jun 12'!$C$15:$G$15) -> 1165 | C10: =B10/B$28 -> 0.010618517 | D10: =B10/E$13 -> 0.11205155 | G10: =B10/E$13 -> 0.11205155
A11: Comm A/C | B11: =SUM('[6]Jun 12'!$C$9:$G$9) -> 2 | C11: =B11/B$28 -> 1.8229214e-05 | D11: =B11/E$13 -> 0.00019236318 | G11: =B11/E$13 -> 0.00019236318
A12: Comm - CIS | B12: =SUM('[6]Jun 12'!$C$12:$G$12) -> 1629 | C12: =B12/B$28 -> 0.014847695 | D12: =B12/E$13 -> 0.15667981 | G12: =B12/E$13 -> 0.15667981
A13: Comm - LVS | B13: =SUM('[6]Jun 12'!$C$14:$G$14) -> 125 | C13: =B13/B$28 -> 0.0011393259 | D13: =B13/E$13 -> 0.012022699 | E13: =SUM(B9:B13) -> 10397 | F13: =E13/E$28 -> 0.094773208 | G13: =B13/E$13 -> 0.012022699
A15: Comm - Tranp | B15: =SUM('[6]Jun 12'!$C$16:$G$16) -> 8 | C15: =B15/B$28 -> 7.2916857e-05 | D15: =B15/E$13 -> 0.00076945273
A17: Ind - Tranp | B17: =SUM('[6]Jun 12'!$C$26:$G$26) -> 0 | C17: =B17/B$28 -> 0 | D17: =B17/E$19 -> 0 | G17: =B17/E$19 -> 0
A18: Ind - CIS | B18: =SUM('[6]Jun 12'!$C$24:$G$24) -> 329 | C18: =B18/B$28 -> 0.0029987057 | D18: =B18/E$19 -> 0.89402174 | G18: =B18/E$19 -> 0.89402174
A19: Ind- LVS | B19: =SUM('[6]Jun 12'!$C$25:$G$25) -> 39 | C19: =B19/B$28 -> 0.00035546968 | D19: =B19/E$19 -> 0.10597826 | E19: =SUM(B17:B19) -> 368 | F19: =E19/E$28 -> 0.0033544811 | G19: =B19/E$19 -> 0.10597826
A21: RPE | B21: =SUM('[6]Jun 12'!$C$28:$G$28) -> 2 | C21: =B21/B$28 -> 1.8229214e-05 | D21: =B21/E$13 -> 0.00019236318
A23: Mun | B23: =SUM('[6]Jun 12'!$C$34:$G$34) -> 186 | C23: =B23/B$28 -> 0.0016953169 | D23: =B23/E$23 -> 1 | E23: =+B23 -> 186 | F23: =E23/E$28 -> 0.0016954715
A25: Gas Light (GL) | B25: 0 | E25: 0 | H25: (unmetered customer)
A27: Flex | B27: =SUM('[6]Jun 12'!$C$22:$G$22) -> 18 | C27: =B27/B$28 -> 0.00016406293 | D27: =B27/E$27 -> 1 | E27: =+B27 -> 18 | F27: =E27/E$28 -> 0.00016407788
A28: Total | B28: =SUM(B7:B27) -> 109714 | C28: =B28/B$28 -> 1 | E28: =SUM(E7:E27) -> 109704 | F28: =E28/E$28 -> 1
A31: Total Percentages
A32: Res | C32: =C7 -> 0.89993073
A33: Comm | C33: =C9 -> 0.068140802
A34: CIS | C34: =C12+C18 -> 0.017846401
A35: LVS | C35: =C13+C19 -> 0.0014947956
A36: Trans | C36: =C17 -> 0
A37: Mun | C37: =C23 -> 0.0016953169
A38: Flex | C38: =C27 -> 0.00016406293
C39: =SUM(C32:C38) -> 0.98927211

Sheet FY2010
A3: Customer Count (Metered) as of June 30, 2010
B5: # of Custs | C5: % to Total | D5: % to Class | E5: Subtotals | F5: % to Total | G5: % to Subs
A6: Res | B6: =E6 -> 96819 | C6: =B6/B$25 -> 0.89751018 | E6: ='[1]Jun 10'!$F$51 -> 96819 | F6: =E6/E$25 -> 0.89751101
A8: Comm Heat | B8: =ROUND(D8*E$12,1) -> 7477.1 | C8: =B8/B$25 -> 0.069312566 | D8: ='June 2010 Metered Services'!D9 -> 0.71489161 | G8: ='June 2010 Metered Services'!G9 -> 0.71489161
A9: Comm Non-Heat | B9: =ROUND(D9*E$12,1) -> 1188.8 | C9: =B9/B$25 -> 0.011020152 | D9: ='June 2010 Metered Services'!D10 -> 0.11366635 | G9: ='June 2010 Metered Services'!G10 -> 0.11366635
A10: Comm A/C | B10: =ROUND(D10*E$12,1) -> 2 | C10: =B10/B$25 -> 1.853996e-05 | D10: ='June 2010 Metered Services'!D11 -> 0.00018850141 | G10: ='June 2010 Metered Services'!G11 -> 0.00018850141
A11: Comm - CIS | B11: =ROUND(D11*E$12,1) -> 1630.5 | C11: =B11/B$25 -> 0.015114702 | D11: ='June 2010 Metered Services'!D12 -> 0.15589067 | G11: ='June 2010 Metered Services'!G12 -> 0.15589067
A12: Comm - LVS | B12: =ROUND(D12*E$12,1) -> 160.7 | C12: =B12/B$25 -> 0.0014896858 | D12: ='June 2010 Metered Services'!D13 -> 0.015362865 | E12: ='[1]Jun 10'!$F$52-E14 -> 10459 | F12: =E12/E$25 -> 0.096954809 | G12: ='June 2010 Metered Services'!G13 -> 0.015362865
A14: Comm - Tranp | B14: ='June 2010 Metered Services'!B15 -> 9 | C14: =B14/B$25 -> 8.3429818e-05 | E14: ='June 2010 Metered Services'!B15 -> 9
A16: Ind - Tranp | B16: =ROUND(D16*E$18,1) -> 1 | C16: =B16/B$25 -> 9.2699798e-06 | D16: ='June 2010 Metered Services'!D17 -> 0.0026666667 | G16: ='June 2010 Metered Services'!G17 -> 0.0026666667
A17: Ind - CIS | B17: =ROUND(D17*E$18,1) -> 329 | C17: =B17/B$25 -> 0.0030498234 | D17: ='June 2010 Metered Services'!D18 -> 0.87733333 | G17: ='June 2010 Metered Services'!G18 -> 0.87733333
A18: Ind- LVS | B18: =ROUND(D18*E$18,1) -> 45 | C18: =B18/B$25 -> 0.00041714909 | D18: ='June 2010 Metered Services'!D19 -> 0.12 | E18: ='[1]Jun 10'!$F$53 -> 375 | F18: =E18/E$25 -> 0.0034762457 | G18: ='June 2010 Metered Services'!G19 -> 0.12
A20: Mun | B20: =E20 -> 187 | C20: =B20/B$25 -> 0.0017334862 | E20: ='[1]Jun 10'!$F$54 -> 187 | F20: =E20/E$25 -> 0.0017334878
A22: Gas Light (GL) | B22: 0 | E22: 0 | H22: (unmetered customer)
A24: Flex | B24: =E24 -> 26 | C24: =B24/B$25 -> 0.00024101948 | E24: ='[1]Jun 10'!$F$56 -> 26 | F24: =E24/E$25 -> 0.0002410197
A25: Total | B25: =SUM(B6:B24) -> 107875.1 | C25: =B25/B$25 -> 1 | E25: =SUM(E6:E24) -> 107875 | F25: =E25/E$25 -> 1
A28: Total Percentages
A29: Res | C29: =C6 -> 0.89751018
A30: Comm | C30: =C8 -> 0.069312566
A31: CIS | C31: =C11+C17 -> 0.018164525
A32: LVS | C32: =C12+C18 -> 0.0019068348
A33: Trans | C33: =C16 -> 9.2699798e-06
A34: Mun | C34: =C20 -> 0.0017334862
A35: Flex | C35: =C24 -> 0.00024101948
C36: =SUM(C29:C35) -> 0.98887788

Sheet FY2011
A3: Customer Count (Metered) as of June 30, 2011
B5: # of Custs | C5: % to Total | D5: % to Class | E5: Subtotals | F5: % to Total | G5: % to Subs
A6: Res | B6: =E6 -> 97829 | C6: =B6/B$25 -> 0.89925452 | E6: ='[2]Jun 11'!$F$51 -> 97829 | F6: =E6/E$25 -> 0.89925452
A8: Comm Heat | B8: =ROUND(D8*E$12,1) -> 7490.9 | C8: =B8/B$25 -> 0.068857145 | D8: ='June 2011 Metered Services'!D9 -> 0.72208317 | G8: ='June 2010 Metered Services'!G9 -> 0.71489161
A9: Comm Non-Heat | B9: =ROUND(D9*E$12,1) -> 1185.4 | C9: =B9/B$25 -> 0.010896322 | D9: ='June 2011 Metered Services'!D10 -> 0.11426646 | G9: ='June 2010 Metered Services'!G10 -> 0.11366635
A10: Comm A/C | B10: =ROUND(D10*E$12,1) -> 2 | C10: =B10/B$25 -> 1.8384212e-05 | D10: ='June 2011 Metered Services'!D11 -> 0.00019252984 | G10: ='June 2010 Metered Services'!G11 -> 0.00018850141
A11: Comm - CIS | B11: =ROUND(D11*E$12,1) -> 1564.9 | C11: =B11/B$25 -> 0.014384726 | D11: ='June 2011 Metered Services'!D12 -> 0.15084713 | G11: ='June 2010 Metered Services'!G12 -> 0.15589067
A12: Comm - LVS | B12: =ROUND(D12*E$12,1) -> 130.8 | C12: =B12/B$25 -> 0.0012023274 | D12: ='June 2011 Metered Services'!D13 -> 0.012610705 | E12: ='[2]Jun 11'!$F$52-E14 -> 10374 | F12: =E12/E$25 -> 0.095358906 | G12: ='June 2010 Metered Services'!G13 -> 0.015362865
A14: Comm - Tranp | B14: ='June 2011 Metered Services'!B15 -> 9 | C14: =B14/B$25 -> 8.2728952e-05 | E14: ='June 2010 Metered Services'!B15 -> 9
A16: Ind - Tranp | B16: =ROUND(D16*E$18,1) -> 0 | C16: =B16/B$25 -> 0 | D16: ='June 2011 Metered Services'!D17 -> 0 | G16: ='June 2010 Metered Services'!G17 -> 0.0026666667
A17: Ind - CIS | B17: =ROUND(D17*E$18,1) -> 331 | C17: =B17/B$25 -> 0.003042587 | D17: ='June 2011 Metered Services'!D18 -> 0.89459459 | G17: ='June 2010 Metered Services'!G18 -> 0.87733333
A18: Ind- LVS | B18: =ROUND(D18*E$18,1) -> 39 | C18: =B18/B$25 -> 0.00035849213 | D18: ='June 2011 Metered Services'!D19 -> 0.10540541 | E18: ='[2]Jun 11'!$F$53 -> 370 | F18: =E18/E$25 -> 0.0034010792 | G18: ='June 2010 Metered Services'!G19 -> 0.12
A20: Mun | B20: =E20 -> 184 | C20: =B20/B$25 -> 0.0016913475 | E20: ='[2]Jun 11'!$F$54 -> 184 | F20: =E20/E$25 -> 0.0016913475
A22: Gas Light (GL) | B22: 0 | E22: 0 | H22: (unmetered customer)
A24: Flex | B24: =E24 -> 23 | C24: =B24/B$25 -> 0.00021141843 | E24: ='[2]Jun 11'!$F$56 -> 23 | F24: =E24/E$25 -> 0.00021141843
A25: Total | B25: =SUM(B6:B24) -> 108789 | C25: =B25/B$25 -> 1 | E25: =SUM(E6:E24) -> 108789 | F25: =E25/E$25 -> 1
A28: Total Percentages
A29: Res | C29: =C6 -> 0.89925452
A30: Comm | C30: =C8 -> 0.068857145
A31: CIS | C31: =C11+C17 -> 0.017427313
A32: LVS | C32: =C12+C18 -> 0.0015608196
A33: Trans | C33: =C16 -> 0
A34: Mun | C34: =C20 -> 0.0016913475
A35: Flex | C35: =C24 -> 0.00021141843
C36: =SUM(C29:C35) -> 0.98900256

Sheet FY2012
A3: Customer Count (Metered) as of June 30, 2012
B5: # of Custs | C5: % to Total | D5: % to Class | E5: Subtotals | F5: % to Total | G5: % to Subs
A6: Res | B6: =E6 -> 98785 | C6: =B6/B$25 -> 0.90055883 | E6: ='[3]Jun 12'!$F$51 -> 98785 | F6: =E6/E$25 -> 0.90055883
A8: Comm Heat | B8: =ROUND(D8*E$12,1) -> 7455.5 | C8: =B8/B$25 -> 0.067966962 | D8: ='June 2011 Metered Services'!D9 -> 0.72208317 | G8: ='June 2010 Metered Services'!G9 -> 0.71489161
A9: Comm Non-Heat | B9: =ROUND(D9*E$12,1) -> 1179.8 | C9: =B9/B$25 -> 0.010755472 | D9: ='June 2011 Metered Services'!D10 -> 0.11426646 | G9: ='June 2010 Metered Services'!G10 -> 0.11366635
A10: Comm A/C | B10: =ROUND(D10*E$12,1) -> 2 | C10: =B10/B$25 -> 1.8232704e-05 | D10: ='June 2011 Metered Services'!D11 -> 0.00019252984 | G10: ='June 2010 Metered Services'!G11 -> 0.00018850141
A11: Comm - CIS | B11: =ROUND(D11*E$12,1) -> 1557.5 | C11: =B11/B$25 -> 0.014198718 | D11: ='June 2011 Metered Services'!D12 -> 0.15084713 | G11: ='June 2010 Metered Services'!G12 -> 0.15589067
A12: Comm - LVS | B12: =ROUND(D12*E$12,1) -> 130.2 | C12: =B12/B$25 -> 0.001186949 | D12: ='June 2011 Metered Services'!D13 -> 0.012610705 | E12: ='[3]Jun 12'!$F$52-E14 -> 10325 | F12: =E12/E$25 -> 0.094126334 | G12: ='June 2010 Metered Services'!G13 -> 0.015362865
A14: Comm - Tranp | B14: ='June 2011 Metered Services'!B15 -> 9 | C14: =B14/B$25 -> 8.2047168e-05 | E14: ='June 2010 Metered Services'!B15 -> 9
A16: Ind - Tranp | B16: =ROUND(D16*E$18,1) -> 0 | C16: =B16/B$25 -> 0 | D16: ='June 2011 Metered Services'!D17 -> 0 | G16: ='June 2010 Metered Services'!G17 -> 0.0026666667
A17: Ind - CIS | B17: =ROUND(D17*E$18,1) -> 331 | C17: =B17/B$25 -> 0.0030175125 | D17: ='June 2011 Metered Services'!D18 -> 0.89459459 | G17: ='June 2010 Metered Services'!G18 -> 0.87733333
A18: Ind- LVS | B18: =ROUND(D18*E$18,1) -> 39 | C18: =B18/B$25 -> 0.00035553773 | D18: ='June 2011 Metered Services'!D19 -> 0.10540541 | E18: ='[3]Jun 12'!$F$53 -> 370 | F18: =E18/E$25 -> 0.0033730502 | G18: ='June 2010 Metered Services'!G19 -> 0.12
A20: Mun | B20: =E20 -> 186 | C20: =B20/B$25 -> 0.0016956415 | E20: ='[3]Jun 12'!$F$54 -> 186 | F20: =E20/E$25 -> 0.0016956415
A22: Gas Light (GL) | B22: 0 | E22: 0 | H22: (unmetered customer)
A24: Flex | B24: =E24 -> 18 | C24: =B24/B$25 -> 0.00016409434 | E24: ='[3]Jun 12'!$F$56 -> 18 | F24: =E24/E$25 -> 0.00016409434
A25: Total | B25: =SUM(B6:B24) -> 109693 | C25: =B25/B$25 -> 1 | E25: =SUM(E6:E24) -> 109693 | F25: =E25/E$25 -> 1
A28: Total Percentages
A29: Res | C29: =C6 -> 0.90055883
A30: Comm | C30: =C8 -> 0.067966962
A31: CIS | C31: =C11+C17 -> 0.017216231
A32: LVS | C32: =C12+C18 -> 0.0015424868
A33: Trans | C33: =C16 -> 0
A34: Mun | C34: =C20 -> 0.0016956415
A35: Flex | C35: =C24 -> 0.00016409434
C36: =SUM(C29:C35) -> 0.98914425

Sheet Sheet3
