Workbook

Sheet COL GATE TOTALS
B1: 831001-1 | C1: 831001-2 | D1: 831001-3 | E1: 831003-1 | F1: 831038 | G1: 831071 | H1: 831002 | I1: 831080
A2: 40544 | B2: 9109 | C2: 4063.7 | D2: 0 | E2: 14206.2 | F2: 6330.3 | G2: 720.2 | H2: 0 | I2: 3036.7 | J2: =SUM(B2:I2) -> 37466.1
A3: 40545 | B3: 13459.2 | C3: 11059.2 | D3: 4916 | E3: 19358.8 | F3: 10302.8 | G3: 1545.5 | H3: 512.3 | I3: 4862.1 | J3: =SUM(B3:I3) -> 66015.9
A4: 40546 | B4: 13778.8 | C4: 13414.4 | D4: 15720.5 | E4: 22101.1 | F4: 11461 | G4: 3162.1 | H4: 1182.6 | I4: 6943.8 | J4: =SUM(B4:I4) -> 87764.3
A5: 40547 | B5: 13364.4 | C5: 13008.4 | D5: 15246.1 | E5: 21997.4 | F5: 11046.3 | G5: 2818.1 | H5: 865.2 | I5: 6630 | J5: =SUM(B5:I5) -> 84975.9
A6: 40548 | B6: 12958.1 | C6: 12614 | D6: 14784.5 | E6: 21545.7 | F6: 10807.4 | G6: 2697.5 | H6: 1002.8 | I6: 6014.6 | J6: =SUM(B6:I6) -> 82424.6
A7: 40549 | B7: 12407.8 | C7: 12081.2 | D7: 14161.5 | E7: 21428.1 | F7: 10661.7 | G7: 2365.6 | H7: 805.8 | I7: 5048.6 | J7: =SUM(B7:I7) -> 78960.3
A8: 40550 | B8: 12818.2 | C8: 12477.4 | D8: 14624.9 | E8: 21153.7 | F8: 10638.3 | G8: 2581.1 | H8: 922.3 | I8: 6335.8 | J8: =SUM(B8:I8) -> 81551.7
A9: 40551 | B9: 16002.5 | C9: 15572.1 | D9: 18239.8 | E9: 22850.8 | F9: 11625 | G9: 4012.2 | H9: 2335.1 | I9: 9015.4 | J9: =SUM(B9:I9) -> 99652.9
A10: 40552 | B10: 16140.4 | C10: 15708.4 | D10: 18398.2 | E10: 22891.9 | F10: 11590.2 | G10: 4228.1 | H10: 2296.4 | I10: 9393.5 | J10: =SUM(B10:I10) -> 100647.1
A11: 40553 | B11: 15072.9 | C11: 14666.6 | D11: 17179.8 | E11: 22703.9 | F11: 11372.1 | G11: 3695.7 | H11: 1711.3 | I11: 9078.6 | J11: =SUM(B11:I11) -> 95480.9
A12: 40554 | B12: 15198.1 | C12: 14789.3 | D12: 17325.2 | E12: 22939.1 | F12: 11503.9 | G12: 3691.2 | H12: 1749.4 | I12: 9179.4 | J12: =SUM(B12:I12) -> 96375.6
A13: 40555 | B13: 15387.2 | C13: 14973.5 | D13: 17540.5 | E13: 23093.8 | F13: 11529.3 | G13: 3772.1 | H13: 1760.3 | I13: 9292.1 | J13: =SUM(B13:I13) -> 97348.8
... A32: 40574 | B32: 14168.8 | C32: 13786.8 | D32: 16156.1 | E32: 21204.7 | F32: 11210.2 | G32: 3059 | H32: 801.8 | I32: 7280.8 | J32: =SUM(B32:I32) -> 87668.2
B34: =SUM(B2:B32) -> 427065.2 | C34: =SUM(C2:C32) -> 409245.8 | D34: =SUM(D2:D32) -> 439199.2 | E34: =SUM(E2:E32) -> 654993.3 | F34: =SUM(F2:F32) -> 330510.2 | G34: =SUM(G2:G32) -> 85461.6 | H34: =SUM(H3:H32) -> 34274.1 | I34: =SUM(I2:I32) -> 211659.1 | J34: =SUM(J2:J32) -> 2592408.5
A36: 40575 | B36: 11623 | C36: 11413.2 | D36: 6809.1 | E36: 18113.9 | F36: 9306.4 | G36: 1078.3 | H36: 56.2 | I36: 4222.7 | J36: =SUM(B36:I36) -> 62622.8
A37: 40576 | B37: 12524.5 | C37: 9206.2 | D37: 4099.8 | E37: 17081.4 | F37: 8867.7 | G37: 1277 | H37: 419.9 | I37: 4388.1 | J37: =SUM(B37:I37) -> 57864.6
A38: 40577 | B38: 12774.4 | C38: 12435.4 | D38: 14576 | E38: 20268 | F38: 10348.5 | G38: 2191.1 | H38: 396.2 | I38: 5737.3 | J38: =SUM(B38:I38) -> 78726.9
A39: 40578 | B39: 11902.4 | C39: 11589.5 | D39: 13588.7 | E39: 19626.1 | F39: 9841.4 | G39: 1830.7 | H39: 147.9 | I39: 5353.3 | J39: =SUM(B39:I39) -> 73880
A40: 40579 | B40: 11171 | C40: 10879.4 | D40: 12759.8 | E40: 18650.1 | F40: 9172.2 | G40: 1466.7 | H40: 223.3 | I40: 4448.8 | J40: =SUM(B40:I40) -> 68771.3
A41: 40580 | B41: 12856.1 | C41: 12650.8 | D41: 5649.4 | E41: 18457.6 | F41: 9308.3 | G41: 1321.4 | H41: 274 | I41: 4494.7 | J41: =SUM(B41:I41) -> 65012.3
A42: 40581 | B42: 11700 | C42: 11537.2 | D42: 3697.9 | E42: 17790.1 | F42: 9104 | G42: 954.5 | H42: 41.9 | I42: 3833.1 | J42: =SUM(B42:I42) -> 58658.7
A43: 40582 | B43: 13875.8 | C43: 13538.3 | D43: 13713.3 | E43: 20783.7 | F43: 10436.2 | G43: 2379.5 | H43: 877.7 | I43: 6234.1 | J43: =SUM(B43:I43) -> 81838.6
A44: 40583 | B44: 14320.1 | C44: 13936.1 | D44: 16329.3 | E44: 20991.1 | F44: 10817.9 | G44: 3059.8 | H44: 769 | I44: 6737.2 | J44: =SUM(B44:I44) -> 86960.5
A45: 40584 | B45: 14125 | C45: 13750.2 | D45: 16110.6 | E45: 20907 | F45: 10873 | G45: 3164.9 | H45: 999.7 | I45: 7027.3 | J45: =SUM(B45:I45) -> 86957.7
A46: 40585 | B46: 12409 | C46: 12080 | D46: 14162.2 | E46: 19806.3 | F46: 10095.1 | G46: 2088.7 | H46: 1137.8 | I46: 5334.3 | J46: =SUM(B46:I46) -> 77113.4
A47: 40586 | B47: 13337.8 | C47: 13134.7 | D47: 5077.6 | E47: 18218.2 | F47: 8958.8 | G47: 1144.8 | H47: 372.2 | I47: 4061.6 | J47: =SUM(B47:I47) -> 64305.7
... A63: 40602 | B63: 7524.5 | C63: 7399.6 | D63: 4576.2 | E63: 13241.5 | F63: 7139.1 | G63: 851.1 | H63: 517.1 | I63: 3268.4 | J63: =SUM(B63:I63) -> 44517.5
B65: =SUM(B36:B63) -> 316324.2 | C65: =SUM(C36:C63) -> 267299.9 | D65: =SUM(D36:D63) -> 200587.7 | E65: =SUM(E36:E63) -> 477899.5 | F65: =SUM(F36:F63) -> 246544.1 | G65: =SUM(G36:G63) -> 38585.8 | H65: =SUM(H36:H63) -> 17728.5 | I65: =SUM(I36:I63) -> 122303.3 | J65: =SUM(J36:J63) -> 1687273
A67: 40603 | B67: 13108.6 | C67: 12897 | D67: 5835 | E67: 17387.7 | F67: 9318.2 | G67: 1181.7 | H67: 1574.2 | I67: 3018.6 | J67: =SUM(B67:I67) -> 64321
A68: 40604 | B68: 12017 | C68: 11829.9 | D68: 4991.8 | E68: 15753.6 | F68: 8714.4 | G68: 1196.7 | H68: 963.3 | I68: 2899.5 | J68: =SUM(B68:I68) -> 58366.2
A69: 40605 | B69: 12757 | C69: 12417.5 | D69: 14551.4 | E69: 18766.6 | F69: 10198 | G69: 1648.6 | H69: 2318.7 | I69: 4370.4 | J69: =SUM(B69:I69) -> 77028.2
A70: 40606 | B70: 13495.7 | C70: 13293.5 | D70: 4733.3 | E70: 15342.5 | F70: 9640.6 | G70: 779.7 | H70: 651 | I70: 3186.8 | J70: =SUM(B70:I70) -> 61123.1
A71: 40607 | B71: 9718.9 | C71: 5861.7 | D71: 579.3 | E71: 10975.9 | F71: 5570.8 | G71: 762.1 | H71: 2.5 | I71: 2612.9 | J71: =SUM(B71:I71) -> 36084.1
A72: 40608 | B72: 11854.1 | C72: 11682.4 | D72: 4006.8 | E72: 14639.4 | F72: 8729.3 | G72: 997.8 | H72: 837.5 | I72: 3475 | J72: =SUM(B72:I72) -> 56222.3
A73: 40609 | B73: 11815 | C73: 11503.1 | D73: 13479.2 | E73: 17823.2 | F73: 11116.8 | G73: 1199.4 | H73: 1611.5 | I73: 4563.2 | J73: =SUM(B73:I73) -> 73111.4
A74: 40610 | B74: 11240.2 | C74: 10944.6 | D74: 12826.7 | E74: 16951.5 | F74: 10511.9 | G74: 947.7 | H74: 1161.1 | I74: 3917 | J74: =SUM(B74:I74) -> 68500.7
A75: 40611 | B75: 10089 | C75: 9825.9 | D75: 11516.9 | E75: 15767.1 | F75: 8877.4 | G75: 741.4 | H75: 478.6 | I75: 3375.8 | J75: =SUM(B75:I75) -> 60672.1
A76: 40612 | B76: 12067.5 | C76: 11899.5 | D76: 3672.2 | E76: 14752.5 | F76: 8444.7 | G76: 795.3 | H76: 487.2 | I76: 1094.5 | J76: =SUM(B76:I76) -> 53213.4
A77: 40613 | B77: 11998.7 | C77: 11680.5 | D77: 13688.6 | E77: 17198.5 | F77: 10749.8 | G77: 980.9 | H77: 1574.3 | I77: 4887.6 | J77: =SUM(B77:I77) -> 72758.9
A78: 40614 | B78: 10281 | C78: 10150.7 | D78: 2175.5 | E78: 12359.9 | F78: 6683.3 | G78: 733.2 | H78: 205 | I78: 2958.1 | J78: =SUM(B78:I78) -> 45546.7
... A97: 40633 | B97: 9964.8 | C97: 9715.4 | D97: 11393.1 | E97: 18335.8 | F97: 11069.6 | G97: 909.8 | H97: 1444.8 | I97: 4386.7 | J97: =SUM(B97:I97) -> 67220
B99: =SUM(B67:B97) -> 354741.1 | C99: =SUM(C67:C97) -> 290579.9 | D99: =SUM(D67:D97) -> 190969.4 | E99: =SUM(E67:E97) -> 456694.6 | F99: =SUM(F67:F97) -> 272015.5 | G99: =SUM(G67:G97) -> 28786.1 | H99: =SUM(H68:H97) -> 25106 | I99: =SUM(I67:I97) -> 110101.2 | J99: =SUM(J67:J97) -> 1730568
A101: 40634 | B101: 9193.5 | C101: 8964.3 | D101: 10518.8 | E101: 17491.1 | F101: 10679.2 | G101: 865.6 | H101: 1427.3 | I101: 3960.1 | J101: =SUM(B101:I101) -> 63099.9
A102: 40635 | B102: 11212.4 | C102: 11088.6 | D102: 1732.5 | E102: 15574.4 | F102: 8599.3 | G102: 799.2 | H102: 746 | I102: 3547.7 | J102: =SUM(B102:I102) -> 53300.1
A103: 40636 | B103: 11138.7 | C103: 4016.2 | D103: 224.6 | E103: 13689 | F103: 6677.4 | G103: 746.9 | H103: 95.3 | I103: 3168.2 | J103: =SUM(B103:I103) -> 39756.3
A104: 40637 | B104: 6736.4 | C104: 0 | D104: 0 | E104: 11050.2 | F104: 3364.2 | G104: 726.9 | H104: 0 | I104: 2789.2 | J104: =SUM(B104:I104) -> 24666.9
A105: 40638 | B105: 12149.6 | C105: 2974.5 | D105: 1342.4 | E105: 9375.3 | F105: 9011 | G105: 917.8 | H105: 382.9 | I105: 3417.4 | J105: =SUM(B105:I105) -> 39570.9
A106: 40639 | B106: 10323.9 | C106: 3076 | D106: 0 | E106: 7750.3 | F106: 7519.2 | G106: 775.9 | H106: 38.8 | I106: 2973.3 | J106: =SUM(B106:I106) -> 32457.4
A107: 40640 | B107: 9232.2 | C107: 1351.3 | D107: 0 | E107: 6318.1 | F107: 6588.3 | G107: 760.9 | H107: 6.8 | I107: 2935.6 | J107: =SUM(B107:I107) -> 27193.2
A108: 40641 | B108: 8514.8 | C108: 8451.9 | D108: 0 | E108: 8070.1 | F108: 8226.4 | G108: 736.3 | H108: 182.6 | I108: 3013.7 | J108: =SUM(B108:I108) -> 37195.8
A109: 40642 | B109: 8665.4 | C109: 8597.5 | D109: 0 | E109: 7493.4 | F109: 7451.5 | G109: 731.4 | H109: 151.8 | I109: 3047.3 | J109: =SUM(B109:I109) -> 36138.3
A110: 40643 | B110: 8719.3 | C110: 1234.1 | D110: 0 | E110: 5036.8 | F110: 5422.7 | G110: 747.6 | H110: 1.1 | I110: 2806.5 | J110: =SUM(B110:I110) -> 23968.1
A111: 40644 | B111: 10077 | C111: 3166.6 | D111: 0 | E111: 5489.1 | F111: 5777.1 | G111: 760.3 | I111: 2664.1 | J111: =SUM(B111:I111) -> 27934.2
A112: 40645 | B112: 9063.4 | C112: 5407.4 | D112: 0 | E112: 6008.2 | F112: 6353.3 | G112: 777.7 | I112: 2550.6 | J112: =SUM(B112:I112) -> 30160.6
A113: 40646 | B113: 8812.4 | C113: 8727.9 | D113: 1262.9 | E113: 6531.7 | F113: 7468 | G113: 761.3 | H113: 70.8 | I113: 2562.8 | J113: =SUM(B113:I113) -> 36197.8
A114: 40647 | B114: 9708.2 | C114: 7257 | D114: 0 | E114: 5594.5 | F114: 6734.3 | G114: 751.1 | H114: 20.8 | I114: 2709 | J114: =SUM(B114:I114) -> 32774.9
A115: 40648 | B115: 9143 | C115: 5550.1 | D115: 0 | E115: 4934.2 | F115: 5929.8 | G115: 695.4 | I115: 2754.4 | J115: =SUM(B115:I115) -> 29006.9
A116: 40649 | B116: 9956.9 | C116: 6697.4 | D116: 0 | E116: 5271.1 | F116: 5748.1 | G116: 682.5 | I116: 2936 | J116: =SUM(B116:I116) -> 31292
A117: 40650 | B117: 9574.2 | C117: 6027.7 | D117: 0 | E117: 5139.2 | F117: 5876.1 | G117: 711.7 | I117: 2779 | J117: =SUM(B117:I117) -> 30107.9
A118: 40651 | B118: 9911 | C118: 3119.1 | D118: 0 | E118: 4578.8 | F118: 5342.8 | G118: 731.7 | I118: 2468.9 | J118: =SUM(B118:I118) -> 26152.3
A119: 40652 | B119: 9855.1 | C119: 129.6 | D119: 0 | E119: 4908.9 | F119: 5874.2 | G119: 763.6 | H119: 128.7 | I119: 2397.2 | J119: =SUM(B119:I119) -> 24057.3
A120: 40653 | B120: 10353.9 | C120: 0 | D120: 0 | E120: 4890 | F120: 5865.8 | G120: 764.5 | I120: 2379.1 | J120: =SUM(B120:I120) -> 24253.3
A121: 40654 | B121: 12636.6 | C121: 1878.2 | D121: 0 | E121: 5774.6 | F121: 6886.4 | G121: 703 | I121: 2710 | J121: =SUM(B121:I121) -> 30588.8
A122: 40655 | B122: 10967.1 | C122: 10875 | D122: 0 | E122: 7184.9 | F122: 7796.8 | G122: 739.7 | I122: 3014.9 | J122: =SUM(B122:I122) -> 40578.4
A123: 40656 | B123: 9576.7 | C123: 2048.4 | D123: 0 | E123: 4599.7 | F123: 5016.4 | G123: 746.2 | I123: 2581 | J123: =SUM(B123:I123) -> 24568.4
A124: 40657 | B124: 9079.4 | C124: 0 | D124: 0 | E124: 4064.9 | F124: 4713.1 | G124: 729.9 | I124: 17444.8 | J124: =SUM(B124:I124) -> 36032.1
A125: 40658 | B125: 9562.8 | C125: 0 | D125: 0 | E125: 4477 | F125: 5330.3 | G125: 729.6 | I125: 46061.1 | J125: =SUM(B125:I125) -> 66160.8
A126: 40659 | B126: 9237.7 | C126: 489.9 | D126: 0 | E126: 4715.6 | F126: 5622.5 | G126: 726.3 | I126: 50463.4 | J126: =SUM(B126:I126) -> 71255.4
A127: 40660 | B127: 9367.5 | C127: 0 | D127: 0 | E127: 4569.1 | F127: 5568.9 | G127: 744 | I127: 52428.1 | J127: =SUM(B127:I127) -> 72677.6
A128: 40661 | B128: 10276.1 | C128: 0 | D128: 0 | E128: 4910.9 | F128: 5757.5 | G128: 740.1 | I128: 37637.1 | J128: =SUM(B128:I128) -> 59321.7
A129: 40662 | B129: 10852.2 | C129: 0 | D129: 0 | E129: 4855.1 | F129: 5848.2 | G129: 748.8 | I129: 2709.4 | J129: =SUM(B129:I129) -> 25013.7
A130: 40663 | B130: 10993.8 | C130: 0 | D130: 0 | E130: 4692.2 | F130: 5485.9 | G130: 736.2 | I130: 2674.4 | J130: =SUM(B130:I130) -> 24582.5
B132: =SUM(B101:B130) -> 294891.2 | C132: =SUM(C101:C130) -> 111128.7 | D132: =SUM(D101:D130) -> 15081.2 | E132: =SUM(E101:E130) -> 205038.4 | F132: =SUM(F101:F130) -> 192534.7 | G132: =SUM(G101:G130) -> 22552.1 | H132: =SUM(H101:H130) -> 3252.9 | I132: =SUM(I101:I130) -> 275584.3 | J132: =SUM(J101:J130) -> 1120063.5
A134: 40664 | B134: 10527.3 | C134: 1128 | E134: 5016.5 | F134: 5900.5 | G134: 738.7 | H134: 0 | I134: 2641.1 | J134: =SUM(B134:I134) -> 25952.1
A135: 40665 | B135: 9149.7 | C135: 611 | E135: 4673.4 | F135: 5605.3 | G135: 748.1 | H135: 0 | I135: 13334 | J135: =SUM(B135:I135) -> 34121.5
A136: 40666 | B136: 9188.8 | C136: 981.8 | E136: 4851.7 | F136: 5736.2 | G136: 742.4 | H136: 0 | I136: 30960.9 | J136: =SUM(B136:I136) -> 52461.8
A137: 40667 | B137: 11681.3 | C137: 4421.1 | E137: 6365.4 | F137: 7561.1 | G137: 749.8 | H137: 0 | I137: 2722.8 | J137: =SUM(B137:I137) -> 33501.5
A138: 40668 | B138: 11134.5 | C138: 3747 | E138: 5776.1 | F138: 7003.4 | G138: 748.6 | H138: 0 | I138: 2673.7 | J138: =SUM(B138:I138) -> 31083.3
A139: 40669 | B139: 10385.7 | C139: 2299 | E139: 5134.4 | F139: 6020.3 | G139: 718.6 | H139: 0 | I139: 1436.6 | J139: =SUM(B139:I139) -> 25994.6
A140: 40670 | B140: 9258.9 | C140: 858.2 | E140: 4308.3 | F140: 4799.2 | G140: 734.9 | H140: 0 | I140: 1323 | J140: =SUM(B140:I140) -> 21282.5
A141: 40671 | B141: 9746.6 | C141: 1065.8 | E141: 4730 | F141: 5475 | G141: 739.1 | H141: 0 | I141: 1418.5 | J141: =SUM(B141:I141) -> 23175
A142: 40672 | B142: 9457 | C142: 1736.7 | E142: 5026.1 | F142: 6180.7 | G142: 744.8 | H142: 0 | I142: 2304.7 | J142: =SUM(B142:I142) -> 25450
A143: 40673 | B143: 9030 | C143: 1771.6 | E143: 4871 | F143: 6067.5 | G143: 762.1 | H143: 0 | I143: 2550.9 | J143: =SUM(B143:I143) -> 25053.1
A144: 40674 | B144: 9442.3 | C144: 2022.1 | E144: 5129.6 | F144: 6285.6 | G144: 744.2 | H144: 0 | I144: 2445.6 | J144: =SUM(B144:I144) -> 26069.4
A145: 40675 | B145: 9684.6 | C145: 1062.7 | E145: 4878.9 | F145: 5968.6 | G145: 764.2 | H145: 0 | I145: 2429.7 | J145: =SUM(B145:I145) -> 24788.7
A146: 40676 | B146: 10471.6 | E146: 4737.2 | F146: 5787.6 | G146: 766.2 | H146: 0 | I146: 2577.7 | J146: =SUM(B146:I146) -> 24340.3
A147: 40677 | B147: 9509 | E147: 4306.5 | F147: 4908.7 | G147: 721.2 | H147: 0 | I147: 2488.3 | J147: =SUM(B147:I147) -> 21933.7
A148: 40678 | B148: 9704 | E148: 4463.6 | F148: 5265 | G148: 724.8 | H148: 0 | I148: 2514.6 | J148: =SUM(B148:I148) -> 22672
A149: 40679 | B149: 10043.4 | E149: 4743.3 | F149: 5655.5 | G149: 730.7 | H149: 0 | I149: 2492.1 | J149: =SUM(B149:I149) -> 23665
A150: 40680 | B150: 10543 | E150: 4905.7 | F150: 5922.3 | G150: 763.7 | H150: 0 | I150: 3072.6 | J150: =SUM(B150:I150) -> 25207.3
A151: 40681 | B151: 10506.2 | E151: 4856.1 | F151: 5883.9 | G151: 735.6 | H151: 0 | I151: 2543.5 | J151: =SUM(B151:I151) -> 24525.3
A152: 40682 | B152: 10236.1 | E152: 4817.2 | F152: 5734.3 | G152: 732.2 | H152: 0 | I152: 2504.3 | J152: =SUM(B152:I152) -> 24024.1
A153: 40683 | B153: 9419.4 | E153: 4483.2 | F153: 5333.2 | G153: 738.2 | H153: 0 | I153: 2807.4 | J153: =SUM(B153:I153) -> 22781.4
A154: 40684 | B154: 8447.3 | E154: 4063.3 | F154: 4631.8 | G154: 709.5 | H154: 0 | I154: 2772.8 | J154: =SUM(B154:I154) -> 20624.7
A155: 40685 | B155: 8522.3 | E155: 4281.2 | F155: 4892.9 | G155: 685.5 | H155: 0 | I155: 11886.2 | J155: =SUM(B155:I155) -> 30268.1
A156: 40686 | B156: 8914.3 | E156: 4597.8 | F156: 5437.2 | G156: 681.4 | H156: 0 | I156: 51742.7 | J156: =SUM(B156:I156) -> 71373.4
A157: 40687 | B157: 8992.9 | E157: 4647.5 | F157: 5531.8 | G157: 728.3 | H157: 0 | I157: 50653.4 | J157: =SUM(B157:I157) -> 70553.9
... A164: 40694 | B164: 8213.5 | E164: 3683.9 | F164: 5318.5 | G164: 746.7 | H164: 0 | I164: 52142.5 | J164: =SUM(B164:I164) -> 70105.1
B166: =SUM(B134:B164) -> 290557.4 | C166: =SUM(C134:C164) -> 21705 | D166: =SUM(D134:D164) -> 0 | E166: =SUM(E134:E164) -> 141580.4 | F166: =SUM(F134:F164) -> 171889.9 | G166: =SUM(G134:G164) -> 22815.1 | I166: =SUM(I134:I164) -> 440333.1 | J166: =SUM(J134:J164) -> 1088880.9
...

Sheet HEATING MONTH REGRESSIONS
A1: DESIGN DEGREE DAYS | B1: 55 | F1: NRML DD | N1: NRML DD | V1: NRML DD | AD1: NRML DD | AL1: NRML DD | AT1: NRML DD | BB1: NRML DD | BJ1: NRML DD | BM1: DD TOTAL
F2: 204 | N2: 442 | V2: 745 | AD2: 836 | AL2: 675 | AT2: 524 | BB2: 247 | BJ2: 78 | BM2: =SUM(F2,N2,V2,AD2,AL2,AT2,BB2,BJ2) -> 3751
B4: INTCPT | C4: SLOPE | D4: RSQ | E4: DESIGN DAY | F4: MTHDD | G4: HEAT MDQ | J4: INTCPT | K4: SLOPE | L4: RSQ | M4: DESIGN DAY | N4: MTHDD | O4: HEAT MDQ | R4: INTCPT | S4: SLOPE | T4: RSQ | U4: DESIGN DAY | V4: MTHDD | W4: HEAT MDQ | Z4: INTCPT | AA4: SLOPE | AB4: RSQ | AC4: DESIGN DAY | AD4: MTHDD | AE4: HEAT MDQ | AH4: INTCPT | AI4: SLOPE | AJ4: RSQ | AK4: DESIGN DAY | AL4: MTHDD | AM4: HEAT MDQ | AP4: INTCPT | AQ4: SLOPE | AR4: RSQ | AS4: DESIGN DAY | AT4: MTHDD | AU4: HEAT MDQ | AX4: INTCPT | AY4: SLOPE | AZ4: RSQ | BA4: DESIGN DAY | BB4: MTHDD | BC4: HEAT MDQ | BF4: INTCPT | BG4: SLOPE | BH4: RSQ | BI4: DESIGN DAY | BJ4: MTHDD | BK4: HEAT MDQ | BM4: DD TOTAL | BO4: MAX INTCPT | BP4: MAX SLOPE | BQ4: MAX PEAKDAY
A5: 34973 | B5: 27908.995 | C5: 1208.0819 | D5: 0.72561918 | E5: =B5+(C5*$B$1) -> 94353.498 | F5: 189 | G5: =(C5*F5)/31 -> 7365.4024 | I5: 35004 | J5: 33093.534 | K5: 2108.1212 | L5: 0.86978598 | M5: =J5+(K5*$B$1) -> 149040.2 | N5: 629 | O5: =(K5*N5)/30 -> 44200.275 | Q5: 35034 | R5: 27424.819 | S5: 2521.6065 | T5: 0.88167486 | U5: =R5+(S5*$B$1) -> 166113.18 | V5: 904 | W5: =(S5*V5)/31 -> 73533.3 | Y5: 35065 | Z5: 45655.318 | AA5: 2052.4913 | AB5: 0.9398151 | AC5: =Z5+(AA5*$B$1) -> 158542.34 | AD5: 953 | AE5: =(AA5*AD5)/31 -> 63097.555 | AG5: 35096 | AH5: 34808.651 | AI5: 2505.4362 | AJ5: 0.966062 | AK5: =AH5+(AI5*$B$1) -> 172607.64 | AL5: 779 | AM5: =(AI5*AL5)/28 -> 69704.814 | AO5: 35125 | AP5: 31479.864 | AQ5: 2285.7303 | AR5: 0.90338053 | AS5: =AP5+(AQ5*$B$1) -> 157195.03 | AT5: 683 | AU5: =(AQ5*AT5)/31 -> 50359.799 | AW5: 35156 | AX5: 30730.762 | AY5: 1952.7707 | AZ5: 0.84320134 | BA5: =AX5+(AY5*$B$1) -> 138133.15 | BB5: 253 | BC5: =(AY5*BB5)/30 -> 16468.366 | BE5: 35186 | BF5: 26751.821 | BG5: 1226.2605 | BH5: 0.61234241 | BI5: =BF5+(BG5*$B$1) -> 94196.15 | BJ5: 126 | BK5: =(BG5*BJ5)/31 -> 4984.1557 | BM5: =SUM(F5,N5,V5,AD5,AL5,AT5,BB5,BJ5) -> 4516 | BN5: 95-96 | BO5: =MAX(B5,J5,R5,Z5,AH5,AP5,AX5,BF5) -> 45655.318 | BP5: =MAX(C5,K5,S5,AA5,AI5,AQ5,AY5,BG5) -> 2521.6065 | BQ5: =MAX(E5,M5,U5,AC5,AK5,AS5,BA5,BI5) -> 172607.64
A6: 35339 | B6: 32715.485 | C6: 1100.319 | D6: 0.78628752 | E6: =B6+(C6*$B$1) -> 93233.03 | F6: 219 | G6: =(C6*F6)/31 -> 7773.2213 | I6: 35370 | J6: 29295.852 | K6: 2376.0082 | L6: 0.89553222 | M6: =J6+(K6*$B$1) -> 159976.3 | N6: 666 | O6: =(K6*N6)/30 -> 52747.381 | Q6: 35400 | R6: 30485.872 | S6: 2420.9403 | T6: 0.85219419 | U6: =R6+(S6*$B$1) -> 163637.59 | V6: 689 | W6: =(S6*V6)/31 -> 53807.35 | Y6: 35431 | Z6: 31595.989 | AA6: 2570.7588 | AB6: 0.94920634 | AC6: =Z6+(AA6*$B$1) -> 172987.72 | AD6: 869 | AE6: =(AA6*AD6)/31 -> 72064.174 | AG6: 35462 | AH6: 34351.358 | AI6: 2451.9318 | AJ6: 0.91690109 | AK6: =AH6+(AI6*$B$1) -> 169207.61 | AL6: 611 | AM6: =(AI6*AL6)/28 -> 53504.655 | AO6: 35490 | AP6: 31538.327 | AQ6: 2263.3743 | AR6: 0.89719727 | AS6: =AP6+(AQ6*$B$1) -> 156023.92 | AT6: 486 | AU6: =(AQ6*AT6)/31 -> 35483.869 | AW6: 35521 | AX6: 29332.608 | AY6: 2175.3682 | AZ6: 0.90823555 | BA6: =AX6+(AY6*$B$1) -> 148977.86 | BB6: 341 | BC6: =(AY6*BB6)/30 -> 24726.685 | BE6: 35551 | BF6: 29118.382 | BG6: 919.21317 | BH6: 0.44012974 | BI6: =BF6+(BG6*$B$1) -> 79675.106 | BJ6: 122 | BK6: =(BG6*BJ6)/31 -> 3617.5486 | BM6: =SUM(F6,N6,V6,AD6,AL6,AT6,BB6,BJ6) -> 4003 | BN6: 96-97 | BO6: =MAX(B6,J6,R6,Z6,AH6,AP6,AX6,BF6) -> 34351.358 | BP6: =MAX(C6,K6,S6,AA6,AI6,AQ6,AY6,BG6) -> 2570.7588 | BQ6: =MAX(E6,M6,U6,AC6,AK6,AS6,BA6,BI6) -> 172987.72
A7: 35704 | B7: 26506.793 | C7: 919.21317 | D7: 0.44012974 | E7: =B7+(C7*$B$1) -> 77063.517 | F7: 264 | G7: =(C7*F7)/31 -> 7828.138 | I7: 35735 | J7: 26742.575 | K7: 2592.4469 | L7: 0.93821183 | M7: =J7+(K7*$B$1) -> 169327.16 | N7: 566 | O7: =(K7*N7)/30 -> 48910.832 | Q7: 35765 | R7: 24849.567 | S7: 2706.0313 | T7: 0.75890256 | U7: =R7+(S7*$B$1) -> 173681.29 | V7: 805 | W7: =(S7*V7)/31 -> 70269.523 | Y7: 35796 | Z7: 33571.594 | AA7: 2562.7235 | AB7: 0.91216972 | AC7: =Z7+(AA7*$B$1) -> 174521.39 | AD7: 676 | AE7: =(AA7*AD7)/31 -> 55883.907 | AG7: 35827 | AH7: 36959.268 | AI7: 2462.338 | AJ7: 0.8433532 | AK7: =AH7+(AI7*$B$1) -> 172387.86 | AL7: 584 | AM7: =(AI7*AL7)/28 -> 51357.336 | AO7: 35855 | AP7: 33012.977 | AQ7: 2536.4284 | AR7: 0.97470695 | AS7: =AP7+(AQ7*$B$1) -> 172516.54 | AT7: 543 | AU7: =(AQ7*AT7)/31 -> 44428.407 | AW7: 35886 | AX7: 33788.579 | AY7: 1486.5179 | AZ7: 0.91297067 | BA7: =AX7+(AY7*$B$1) -> 115547.06 | BB7: 245 | BC7: =(AY7*BB7)/30 -> 12139.896 | BE7: 35916 | BF7: 29733.042 | BG7: 1507.159 | BH7: 0.65861244 | BI7: =BF7+(BG7*$B$1) -> 112626.79 | BJ7: 63 | BK7: =(BG7*BJ7)/31 -> 3062.936 | BM7: =SUM(F7,N7,V7,AD7,AL7,AT7,BB7,BJ7) -> 3746 | BN7: 97-98 | BO7: =MAX(B7,J7,R7,Z7,AH7,AP7,AX7,BF7) -> 36959.268 | BP7: =MAX(C7,K7,S7,AA7,AI7,AQ7,AY7,BG7) -> 2706.0313 | BQ7: =MAX(E7,M7,U7,AC7,AK7,AS7,BA7,BI7) -> 174521.39
A8: 36069 | B8: 28006.426 | C8: 1626.8072 | D8: 0.72951591 | E8: =B8+(C8*$B$1) -> 117480.82 | F8: 209 | G8: =(C8*F8)/31 -> 10967.829 | I8: 36100 | J8: 33642.558 | K8: 2060.7798 | L8: 0.88258156 | M8: =J8+(K8*$B$1) -> 146985.45 | N8: 451 | O8: =(K8*N8)/30 -> 30980.39 | Q8: 36130 | R8: 31261.647 | S8: 2555.7394 | T8: 0.94951326 | U8: =R8+(S8*$B$1) -> 171827.31 | V8: 662 | W8: =(S8*V8)/31 -> 54577.403 | Y8: 36161 | Z8: 32428.37 | AA8: 2793.611 | AB8: 0.91824497 | AC8: =Z8+(AA8*$B$1) -> 186076.97 | AD8: 720 | AE8: =(AA8*AD8)/31 -> 64883.868 | AG8: 36192 | AH8: 29265.856 | AI8: 2718.5187 | AJ8: 0.94400556 | AK8: =AH8+(AI8*$B$1) -> 178784.39 | AL8: 654 | AM8: =(AI8*AL8)/28 -> 63496.83 | AO8: 36220 | AP8: 31943.747 | AQ8: 2679.9522 | AR8: 0.92242667 | AS8: =AP8+(AQ8*$B$1) -> 179341.12 | AT8: 633 | AU8: =(AQ8*AT8)/31 -> 54722.895 | AW8: 36251 | AX8: 33960.677 | AY8: 1425.7137 | AZ8: 0.66522391 | BA8: =AX8+(AY8*$B$1) -> 112374.93 | BB8: 252 | BC8: =(AY8*BB8)/30 -> 11975.995 | BE8: 36281 | BF8: 29897.347 | BG8: 1283.3415 | BH8: 0.58915285 | BI8: =BF8+(BG8*$B$1) -> 100481.13 | BJ8: 71 | BK8: =(BG8*BJ8)/31 -> 2939.2661 | BM8: =SUM(F8,N8,V8,AD8,AL8,AT8,BB8,BJ8) -> 3652 | BN8: 98-99 | BO8: =MAX(B8,J8,R8,Z8,AH8,AP8,AX8,BF8) -> 33960.677 | BP8: =MAX(C8,K8,S8,AA8,AI8,AQ8,AY8,BG8) -> 2793.611 | BQ8: =MAX(E8,M8,U8,AC8,AK8,AS8,BA8,BI8) -> 186076.97
A9: 36434 | B9: 27622.754 | C9: 1283.3415 | D9: 0.58915285 | E9: =B9+(C9*$B$1) -> 98206.538 | F9: 274 | G9: =(C9*F9)/31 -> 11343.083 | I9: 36465 | J9: 27367.706 | K9: 2610.8726 | L9: 0.89962956 | M9: =J9+(K9*$B$1) -> 170965.7 | N9: 378 | O9: =(K9*N9)/30 -> 32896.994 | Q9: 36495 | R9: 31538.638 | S9: 2606.7234 | T9: 0.85540328 | U9: =R9+(S9*$B$1) -> 174908.43 | V9: 697 | W9: =(S9*V9)/31 -> 58609.233 | Y9: 36526 | Z9: 34607.938 | AA9: 2796.6141 | AB9: 0.95505889 | AC9: =Z9+(AA9*$B$1) -> 188421.71 | AD9: 902 | AE9: =(AA9*AD9)/31 -> 81372.449 | AG9: 36557 | AH9: 30037.25 | AI9: 2925.4089 | AJ9: 0.91611105 | AK9: =AH9+(AI9*$B$1) -> 190934.74 | AL9: 631 | AM9: =(AI9*AL9)/28 -> 65926.178 | AO9: 36586 | AP9: 33237.041 | AQ9: 2397.2656 | AR9: 0.88594132 | AS9: =AP9+(AQ9*$B$1) -> 165086.65 | AT9: 417 | AU9: =(AQ9*AT9)/31 -> 32247.088 | AW9: 36617 | AX9: 33740.344 | AY9: 1987.9512 | AZ9: 0.79690567 | BA9: =AX9+(AY9*$B$1) -> 143077.66 | BB9: 273 | BC9: =(AY9*BB9)/30 -> 18090.356 | BE9: 36647 | BF9: 31562.07 | BG9: 647.84405 | BH9: 0.19301452 | BI9: =BF9+(BG9*$B$1) -> 67193.493 | BJ9: 46 | BK9: =(BG9*BJ9)/31 -> 961.31698 | BM9: =SUM(F9,N9,V9,AD9,AL9,AT9,BB9,BJ9) -> 3618 | BN9: 99-00 | BO9: =MAX(B9,J9,R9,Z9,AH9,AP9,AX9,BF9) -> 34607.938 | BP9: =MAX(C9,K9,S9,AA9,AI9,AQ9,AY9,BG9) -> 2925.4089 | BQ9: =MAX(E9,M9,U9,AC9,AK9,AS9,BA9,BI9) -> 190934.74
A10: 36800 | B10: 30723.22 | C10: 1649.2818 | D10: 0.83270398 | E10: =B10+(C10*$B$1) -> 121433.72 | F10: 242 | G10: =(C10*F10)/31 -> 12875.038 | I10: 36831 | J10: 26368.869 | K10: 2725.0426 | L10: 0.91100222 | M10: =J10+(K10*$B$1) -> 176246.21 | N10: 586 | O10: =(K10*N10)/30 -> 53229.165 | Q10: 36861 | R10: 57206.591 | S10: 2126.6003 | T10: 0.77030727 | U10: =R10+(S10*$B$1) -> 174169.61 | V10: 989 | W10: =(S10*V10)/31 -> 67845.409 | Y10: 36892 | Z10: 29358.345 | AA10: 2857.1275 | AB10: 0.93828953 | AC10: =Z10+(AA10*$B$1) -> 186500.36 | AD10: 881 | AE10: =(AA10*AD10)/31 -> 81197.719 | AG10: 36923 | AH10: 33920.978 | AI10: 2387.1459 | AJ10: 0.92889542 | AK10: =AH10+(AI10*$B$1) -> 165214 | AL10: 628 | AM10: =(AI10*AL10)/28 -> 53540.272 | AO10: 36951 | AP10: 25850.489 | AQ10: 2610.9236 | AR10: 0.79484974 | AS10: =AP10+(AQ10*$B$1) -> 169451.28 | AT10: 645.16667 | AU10: =(AQ10*AT10)/31 -> 54338.092 | AW10: 36982 | AX10: 27317.307 | AY10: 2092.4481 | AZ10: 0.83367334 | BA10: =AX10+(AY10*$B$1) -> 142401.95 | BB10: 245 | BC10: =(AY10*BB10)/30 -> 17088.326 | BE10: 37012 | BF10: 26404.064 | BG10: 893.05359 | BH10: 0.68128481 | BI10: =BF10+(BG10*$B$1) -> 75522.012 | BJ10: 75 | BK10: =(BG10*BJ10)/31 -> 2160.6135 | BM10: =SUM(F10,N10,V10,AD10,AL10,AT10,BB10,BJ10) -> 4291.1667 | BN10: 00-01 | BO10: =MAX(B10,J10,R10,Z10,AH10,AP10,AX10,BF10) -> 57206.591 | BP10: =MAX(C10,K10,S10,AA10,AI10,AQ10,AY10,BG10) -> 2857.1275 | BQ10: =MAX(E10,M10,U10,AC10,AK10,AS10,BA10,BI10) -> 186500.36
A11: 37165 | B11: 27623.399 | C11: 1813.0319 | D11: 0.90705097 | E11: =B11+(C11*$B$1) -> 127340.15 | F11: 239 | G11: =(C11*F11)/31 -> 13977.891 | I11: 37196 | J11: 30949.902 | K11: 1982.598 | L11: 0.95133226 | M11: =J11+(K11*$B$1) -> 139992.79 | N11: 326 | O11: =(K11*N11)/30 -> 21544.231 | Q11: 37226 | R11: 26023.86 | S11: 2519.6065 | T11: 0.94413359 | U11: =R11+(S11*$B$1) -> 164602.22 | V11: 609 | W11: =(S11*V11)/31 -> 49498.076 | Y11: 37257 | Z11: 32151.506 | AA11: 2686.7396 | AB11: 0.94577558 | AC11: =Z11+(AA11*$B$1) -> 179922.18 | AD11: 690 | AE11: =(AA11*AD11)/31 -> 59801.624 | AG11: 37288 | AH11: 28636.143 | AI11: 2623.9255 | AJ11: 0.89573465 | AK11: =AH11+(AI11*$B$1) -> 172952.04 | AL11: 644 | AM11: =(AI11*AL11)/28 -> 60350.286 | AO11: 37316 | AP11: 27921.246 | AQ11: 2575.6119 | AR11: 0.88651074 | AS11: =AP11+(AQ11*$B$1) -> 169579.9 | AT11: 486 | AU11: =(AQ11*AT11)/31 -> 40378.948 | AW11: 37347 | AX11: 27763.559 | AY11: 1834.8806 | AZ11: 0.87851542 | BA11: =AX11+(AY11*$B$1) -> 128681.99 | BB11: 216 | BC11: =(AY11*BB11)/30 -> 13211.141 | BE11: 37377 | BF11: 25641.571 | BG11: 1054.4762 | BH11: 0.79979093 | BI11: =BF11+(BG11*$B$1) -> 83637.765 | BJ11: 114 | BK11: =(BG11*BJ11)/31 -> 3877.7513 | BM11: =SUM(F11,N11,V11,AD11,AL11,AT11,BB11,BJ11) -> 3324 | BN11: 01-02 | BO11: =MAX(B11,J11,R11,Z11,AH11,AP11,AX11,BF11) -> 32151.506 | BP11: =MAX(C11,K11,S11,AA11,AI11,AQ11,AY11,BG11) -> 2686.7396 | BQ11: =MAX(E11,M11,U11,AC11,AK11,AS11,BA11,BI11) -> 179922.18
A12: 37530 | B12: 22420.956 | C12: 2343.3557 | D12: 0.90843176 | E12: =B12+(C12*$B$1) -> 151305.52 | F12: 240 | G12: =(C12*F12)/31 -> 18142.109 | I12: 37561 | J12: 30745.55 | K12: 2335.7064 | L12: 0.94592216 | M12: =J12+(K12*$B$1) -> 159209.4 | N12: 533 | O12: =(K12*N12)/30 -> 41497.717 | Q12: 37591 | R12: 28084.418 | S12: 2835.3245 | T12: 0.90463017 | U12: =R12+(S12*$B$1) -> 184027.26 | V12: 823 | W12: =(S12*V12)/31 -> 75273.292 | Y12: 37622 | Z12: 29568.434 | AA12: 2946.642 | AB12: 0.94088377 | AC12: =Z12+(AA12*$B$1) -> 191633.75 | AD12: 993 | AE12: =(AA12*AD12)/31 -> 94387.598 | AG12: 37653 | AH12: 30228.927 | AI12: 3014.6053 | AJ12: 0.9496418 | AK12: =AH12+(AI12*$B$1) -> 196032.22 | AL12: 798 | AM12: =(AI12*AL12)/28 -> 85916.251 | AO12: 37681 | AP12: 24418.691 | AQ12: 2773.286 | AR12: 0.94832124 | AS12: =AP12+(AQ12*$B$1) -> 176949.42 | AT12: 495 | AU12: =(AQ12*AT12)/31 -> 44283.115 | AW12: 37712 | AX12: 25257.709 | AY12: 2557.2545 | AZ12: 0.87475472 | BA12: =AX12+(AY12*$B$1) -> 165906.71 | BB12: 274 | BC12: =(AY12*BB12)/30 -> 23356.258 | BE12: 37742 | BF12: 26659.449 | BG12: 1583.8221 | BH12: 0.92405766 | BI12: =BF12+(BG12*$B$1) -> 113769.66 | BJ12: 32 | BK12: =(BG12*BJ12)/31 -> 1634.9131 | BM12: =SUM(F12,N12,V12,AD12,AL12,AT12,BB12,BJ12) -> 4188 | BN12: 02-03 | BO12: =MAX(B12,J12,R12,Z12,AH12,AP12,AX12,BF12) -> 30745.55 | BP12: =MAX(C12,K12,S12,AA12,AI12,AQ12,AY12,BG12) -> 3014.6053 | BQ12: =MAX(E12,M12,U12,AC12,AK12,AS12,BA12,BI12) -> 196032.22
A13: 37895 | B13: 26949.237 | C13: 1562.8679 | D13: 0.8169573 | E13: =B13+(C13*$B$1) -> 112906.97 | F13: 245 | G13: =(C13*F13)/31 -> 12351.698 | I13: 37926 | J13: 29956.303 | K13: 2196.1207 | L13: 0.92633484 | M13: =J13+(K13*$B$1) -> 150742.94 | N13: 364 | O13: =(K13*N13)/30 -> 26646.265 | Q13: 37956 | R13: 26186.299 | S13: 2877.8714 | T13: 0.91413103 | U13: =R13+(S13*$B$1) -> 184469.22 | V13: 795 | W13: =(S13*V13)/31 -> 73803.475 | Y13: 37987 | Z13: 24364.777 | AA13: 3057.0737 | AB13: 0.97257363 | AC13: =Z13+(AA13*$B$1) -> 192503.83 | AD13: 989 | AE13: =(AA13*AD13)/31 -> 97530.514 | AG13: 38018 | AH13: 21250.084 | AI13: 3163.0047 | AJ13: 0.93079524 | AK13: =AH13+(AI13*$B$1) -> 195215.34 | AL13: 766 | AM13: =(AI13*AL13)/28 -> 86530.77 | AO13: 38047 | AP13: 27568.647 | AQ13: 2575.3797 | AR13: 0.95373315 | AS13: =AP13+(AQ13*$B$1) -> 169214.53 | AT13: 466 | AU13: =(AQ13*AT13)/31 -> 38713.773 | AW13: 38078 | AX13: 25477.72 | AY13: 2653.8447 | AZ13: 0.9272006 | BA13: =AX13+(AY13*$B$1) -> 171439.18 | BB13: 255 | BC13: =(AY13*BB13)/30 -> 22557.68 | BE13: 38108 | BF13: 26659.449 | BG13: 1583.8221 | BH13: 0.92405766 | BI13: =BF13+(BG13*$B$1) -> 113769.66 | BJ13: 32 | BK13: =(BG13*BJ13)/31 -> 1634.9131 | BM13: =SUM(F13,N13,V13,AD13,AL13,AT13,BB13,BJ13) -> 3912 | BN13: 03-04 | BO13: =MAX(B13,J13,R13,Z13,AH13,AP13,AX13,BF13) -> 29956.303 | BP13: =MAX(C13,K13,S13,AA13,AI13,AQ13,AY13,BG13) -> 3163.0047 | BQ13: =MAX(E13,M13,U13,AC13,AK13,AS13,BA13,BI13) -> 195215.34
A14: 38261 | B14: 27519.584 | C14: 1661.0636 | D14: 0.80415079 | E14: =B14+(C14*$B$1) -> 118878.08 | F14: 187 | G14: =(C14*F14)/31 -> 10019.964 | I14: 38292 | J14: 29001.675 | K14: 2447.8633 | L14: 0.9480869 | M14: =J14+(K14*$B$1) -> 163634.15 | N14: 382 | O14: =(K14*N14)/30 -> 31169.459 | Q14: 38322 | R14: 28377.441 | S14: 2857.512 | T14: 0.95787582 | U14: =R14+(S14*$B$1) -> 185540.6 | V14: 692 | W14: =(S14*V14)/31 -> 63787.043 | Y14: 38353 | Z14: 26903.409 | AA14: 3171.701 | AB14: 0.97434112 | AC14: =Z14+(AA14*$B$1) -> 201346.97 | AD14: 785 | AE14: =(AA14*AD14)/31 -> 80315.655 | AG14: 38384 | AH14: 31637.669 | AI14: 2862.1746 | AJ14: 0.95465126 | AK14: =AH14+(AI14*$B$1) -> 189057.27 | AL14: 643 | AM14: =(AI14*AL14)/28 -> 65727.795 | AO14: 38412 | AP14: 21388.104 | AQ14: 3159.8607 | AR14: 0.94720098 | AS14: =AP14+(AQ14*$B$1) -> 195180.44 | AT14: 619 | AU14: =(AQ14*AT14)/31 -> 63095.283 | AW14: 38443 | AX14: 30674.165 | AY14: 1958.3034 | AZ14: 0.84789653 | BA14: =AX14+(AY14*$B$1) -> 138380.85 | BB14: 221 | BC14: =(AY14*BB14)/30 -> 14426.168 | BE14: 38473 | BF14: 25836.724 | BG14: 1770.7837 | BH14: 0.86684252 | BI14: =BF14+(BG14*$B$1) -> 123229.83 | BJ14: 113 | BK14: =(BG14*BJ14)/31 -> 6454.7923 | BM14: =SUM(F14,N14,V14,AD14,AL14,AT14,BB14,BJ14) -> 3642 | BN14: 04-05 | BO14: =MAX(B14,J14,R14,Z14,AH14,AP14,AX14,BF14) -> 31637.669 | BP14: =MAX(C14,K14,S14,AA14,AI14,AQ14,AY14,BG14) -> 3171.701 | BQ14: =MAX(E14,M14,U14,AC14,AK14,AS14,BA14,BI14) -> 201346.97
A15: 38626 | B15: 24936.988 | C15: 2201.6688 | D15: 0.91338595 | E15: =B15+(C15*$B$1) -> 146028.77 | F15: 174 | G15: =(C15*F15)/31 -> 12357.754 | I15: 38657 | J15: 29630.604 | K15: 2139.0958 | L15: 0.95752307 | M15: =J15+(K15*$B$1) -> 147280.87 | N15: 364 | O15: =(K15*N15)/30 -> 25954.362 | Q15: 38687 | R15: 21121.935 | S15: 2938.3174 | T15: 0.9098767 | U15: =R15+(S15*$B$1) -> 182729.39 | V15: 835 | W15: =(S15*V15)/31 -> 79145 | Y15: 38718 | Z15: 28932.971 | AA15: 2610.3623 | AB15: 0.92618471 | AC15: =Z15+(AA15*$B$1) -> 172502.9 | AD15: 618 | AE15: =(AA15*AD15)/31 -> 52038.836 | AG15: 38749 | AH15: 30316.873 | AI15: 2635.4581 | AJ15: 0.97281486 | AK15: =AH15+(AI15*$B$1) -> 175267.07 | AL15: 678 | AM15: =(AI15*AL15)/28 -> 63815.735 | AO15: 38777 | AP15: 30454.538 | AQ15: 2372.2653 | AR15: 0.96059838 | AS15: =AP15+(AQ15*$B$1) -> 160929.13 | AT15: 480 | AU15: =(AQ15*AT15)/31 -> 36731.849 | AW15: 38808 | AX15: 28819.28 | AY15: 1563.464 | AZ15: 0.81781773 | BA15: =AX15+(AY15*$B$1) -> 114809.8 | BB15: 173.84 | BC15: =(AY15*BB15)/30 -> 9059.753 | BE15: 38838 | BF15: 26716.602 | BG15: 1406.1586 | BH15: 0.73111225 | BI15: =BF15+(BG15*$B$1) -> 104055.33 | BJ15: 84 | BK15: =(BG15*BJ15)/31 -> 3810.2363 | BM15: =SUM(F15,N15,V15,AD15,AL15,AT15,BB15,BJ15) -> 3406.84 | BN15: 05-06 | BO15: =MAX(B15,J15,R15,Z15,AH15,AP15,AX15,BF15) -> 30454.538 | BP15: =MAX(C15,K15,S15,AA15,AI15,AQ15,AY15,BG15) -> 2938.3174 | BQ15: =MAX(E15,M15,U15,AC15,AK15,AS15,BA15,BI15) -> 182729.39
A16: 38991 | B16: 29033.324 | C16: 2071.0782 | D16: 0.82961184 | E16: =B16+(C16*$B$1) -> 142942.62 | F16: 204 | G16: =(C16*F16)/31 -> 13629.03 | I16: 39022 | J16: 34003.021 | K16: 2262.8681 | L16: 0.93739289 | M16: =J16+(K16*$B$1) -> 158460.77 | N16: 361 | O16: =(K16*N16)/30 -> 27229.846 | Q16: 39053 | R16: 26382.16 | S16: 2616.6709 | T16: 0.91995499 | U16: =R16+(S16*$B$1) -> 170299.06 | V16: 553 | W16: =(S16*V16)/31 -> 46678.033 | Y16: 39083 | Z16: 29777.911 | AA16: 2825.2334 | AB16: 0.97830766 | AC16: =Z16+(AA16*$B$1) -> 185165.75 | AD16: 663 | AE16: =(AA16*AD16)/31 -> 60423.54 | AG16: 39114 | AH16: 23316.697 | AI16: 3094.9762 | AJ16: 0.95023101 | AK16: =AH16+(AI16*$B$1) -> 193540.39 | AL16: 820 | AM16: =(AI16*AL16)/28 -> 90638.588 | AO16: 39142 | AP16: 28931.164 | AQ16: 2539.633 | AR16: 0.92948096 | AS16: =AP16+(AQ16*$B$1) -> 168610.98 | AT16: 417.1 | AU16: =(AQ16*AT16)/31 -> 34170.353 | AW16: 39173 | AX16: 28115.387 | AY16: 2189.1476 | AZ16: 0.94969168 | BA16: =AX16+(AY16*$B$1) -> 148518.5 | BB16: 267 | BC16: =(AY16*BB16)/30 -> 19483.413 | BE16: 39203 | BF16: 25698.672 | BG16: 1165.6542 | BH16: 0.74598325 | BI16: =BF16+(BG16*$B$1) -> 89809.654 | BJ16: 66 | BK16: =(BG16*BJ16)/31 -> 2481.7154 | BM16: =SUM(F16,N16,V16,AD16,AL16,AT16,BB16,BJ16) -> 3351.1 | BN16: 06-07 | BO16: =MAX(B16,J16,R16,Z16,AH16,AP16,AX16,BF16) -> 34003.021 | BP16: =MAX(C16,K16,S16,AA16,AI16,AQ16,AY16,BG16) -> 3094.9762 | BQ16: =MAX(E16,M16,U16,AC16,AK16,AS16,BA16,BI16) -> 193540.39
A17: 39362 | B17: 27611.707 | C17: 1569.2104 | D17: 0.8985769 | E17: =B17+(C17*$B$1) -> 113918.28 | F17: 86 | G17: =(C17*F17)/31 -> 4353.2933 | I17: 39387 | J17: 31860.807 | K17: 2079.0381 | L17: 0.93574236 | M17: 146207.9 | N17: 467 | O17: =(K17*N17)/30 -> 32363.693 | Q17: 39417 | R17: 27812.602 | S17: 2683.4952 | T17: 0.94230094 | U17: =R17+(S17*$B$1) -> 175404.84 | V17: 655 | W17: =(S17*V17)/31 -> 56699.656 | Y17: 39448 | Z17: 27535.018 | AA17: 2964.0794 | AB17: 0.96603259 | AC17: =Z17+(AA17*$B$1) -> 190559.38 | AD17: 774 | AE17: =(AA17*AD17)/31 -> 74006.369 | AG17: 39479 | AH17: 33123.583 | AI17: 2639.8644 | AJ17: 0.92578753 | AK17: =AH17+(AI17*$B$1) -> 178316.13 | AL17: 619 | AM17: =(AI17*AL17)/28 -> 58359.86 | AO17: 39508 | AP17: 34952.072 | AQ17: 2054.1279 | AR17: 0.86576242 | AS17: =AP17+(AQ17*$B$1) -> 147929.11 | AT17: 428 | AU17: =(AQ17*AT17)/31 -> 28360.218 | AW17: 39539 | AX17: 29122.553 | AY17: 2140.8809 | AZ17: 0.88737257 | BA17: =AX17+(AY17*$B$1) -> 146871 | BB17: 215 | BC17: =(AY17*BB17)/30 -> 15342.98 | BE17: 39569 | BF17: 26937.06 | BG17: 1573.0515 | BH17: 0.76526238 | BI17: 113454.89 | BJ17: 61 | BK17: =(BG17*BJ17)/31 -> 3095.3594 | BM17: =SUM(F17,N17,V17,AD17,AL17,AT17,BB17,BJ17) -> 3305 | BN17: 07-08 | BO17: =MAX(B17,J17,R17,Z17,AH17,AP17,AX17,BF17) -> 34952.072 | BP17: =MAX(C17,K17,S17,AA17,AI17,AQ17,AY17,BG17) -> 2964.0794 | BQ17: =MAX(E17,M17,U17,AC17,AK17,AS17,BA17,BI17) -> 190559.38
A18: 39722 | B18: 23527.782 | C18: 2184.3316 | D18: 0.87636837 | E18: =B18+(C18*$B$1) -> 143666.02 | F18: 252 | G18: =(C18*F18)/31 -> 17756.502 | I18: 39753 | J18: 25818.991 | K18: 2667.3502 | L18: 0.95177692 | M18: 172523.25 | N18: 495 | O18: =(K18*N18)/30 -> 44011.279 | Q18: 39783 | R18: 31970.921 | S18: 2565.7152 | T18: 0.94699387 | U18: 173085.26 | V18: 642 | W18: =(S18*V18)/31 -> 53135.134 | Y18: 39814 | Z18: 25041.016 | AA18: 2909.8877 | AB18: 0.90587903 | AC18: =Z18+(AA18*$B$1) -> 185084.84 | AD18: 919 | AE18: =(AA18*AD18)/31 -> 86264.091 | AG18: 39845 | AH18: 25365.289 | AI18: 2765.5644 | AJ18: 0.94211375 | AK18: =AH18+(AI18*$B$1) -> 177471.33 | AL18: 641 | AM18: =(AI18*AL18)/28 -> 63311.671 | AO18: 39873 | AP18: 24506 | AQ18: 2539 | AR18: 0.96 | AS18: =AP18+(AQ18*$B$1) -> 164151 | AT18: 565.075 | AU18: =(AQ18*AT18)/31 -> 46281.465 | AW18: 39904 | AX18: 23255 | AY18: 2084 | AZ18: 0.92 | BA18: =AX18+(AY18*$B$1) -> 137875 | BB18: 220 | BC18: =(AY18*BB18)/30 -> 15282.667 | BE18: 39934 | BF18: 22934.797 | BG18: 1141.379 | BH18: 0.68980525 | BI18: 85710.644 | BJ18: 65 | BK18: =(BG18*BJ18)/31 -> 2393.2141 | BM18: =SUM(F18,N18,V18,AD18,AL18,AT18,BB18,BJ18) -> 3799.075 | BN18: 08-09 | BO18: =MAX(B18,J18,R18,Z18,AH18,AP18,AX18,BF18) -> 31970.921 | BP18: =MAX(C18,K18,S18,AA18,AI18,AQ18,AY18,BG18) -> 2909.8877 | BQ18: =MAX(E18,M18,U18,AC18,AK18,AS18,BA18,BI18) -> 185084.84
A19: 40087 | B19: 22970 | C19: 1836 | D19: 0.89 | E19: =B19+(C19*$B$1) -> 123950 | F19: 205 | G19: =(C19*F19)/31 -> 12141.29 | I19: 40118 | J19: 25980.99 | K19: 2048.0701 | L19: 0.81395668 | M19: 138624.85 | N19: 376.6 | O19: =(K19*N19)/30 -> 25710.107 | Q19: 40148 | R19: 26382.16 | S19: 2616.6709 | T19: 0.91995499 | U19: 170299.06 | V19: 553 | W19: =(S19*V19)/31 -> 46678.033 | Y19: 40179 | Z19: 22680.82 | AA19: 2923.2657 | AB19: 0.95697252 | AC19: 183460.43 | AD19: 902 | AE19: =(AA19*AD19)/31 -> 85057.602 | AG19: 40210 | AH19: 21041.662 | AI19: 2987.8301 | AJ19: 0.88218538 | AK19: 185372.32 | AL19: 834 | AM19: =(AI19*AL19)/28 -> 88994.652 | AO19: 40238 | AP19: 21118.65 | AQ19: 2771.5865 | AR19: 0.95064177 | AS19: 173555.91 | AT19: 410 | AU19: =(AQ19*AT19)/31 -> 36656.466 | AW19: 40269 | AX19: 23724.789 | AY19: 1417.9179 | AZ19: 0.88208287 | BA19: 101710.27 | BB19: 142 | BC19: =(AY19*BB19)/30 -> 6711.4781 | BE19: 40299 | BF19: 20353.365 | BG19: 1054.8294 | BH19: 0.77500406 | BI19: 78368.981 | BJ19: 47 | BK19: =(BG19*BJ19)/31 -> 1599.2574 | BM19: =SUM(F19,N19,V19,AD19,AL19,AT19,BB19,BJ19) -> 3469.6 | BN19: 09-10 | BO19: =MAX(B19,J19,R19,Z19,AH19,AP19,AX19,BF19) -> 26382.16 | BP19: =MAX(C19,K19,S19,AA19,AI19,AQ19,AY19,BG19) -> 2987.8301 | BQ19: =MAX(E19,M19,U19,AC19,AK19,AS19,BA19,BI19) -> 185372.32
A20: 40452 | B20: 22740.95 | C20: 1169.5229 | D20: 0.85284979 | E20: =B20+(C20*$B$1) -> 87064.712 | F20: 171 | G20: =(C20*F20)/31 -> 6451.2395 | I20: 40483 | J20: 27249.763 | K20: 1856.0465 | L20: 0.86853147 | M20: 129332.32 | N20: 454 | O20: =(K20*N20)/30 -> 28088.17 | Q20: 40522 | R20: 3469.4914 | S20: 3380.2956 | T20: 0.92409787 | U20: 189385.75 | V20: 997 | W20: =(S20*V20)/31 -> 108714.67 | Y20: 40544 | Z20: 18894.202 | AA20: 2983.1506 | AB20: 0.94765373 | AC20: 182967.49 | AD20: 951 | AE20: =(AA20*AD20)/31 -> 91515.362 | AG20: 40575 | AH20: 28770.305 | AI20: 2409.7473 | AJ20: 0.9121244 | AK20: 161306.41 | AL20: 568 | AM20: =(AI20*AL20)/28 -> 48883.445 | AO20: 40603 | AP20: 25166.487 | AQ20: 2302.5058 | AR20: 0.79786084 | AS20: 151804.31 | AT20: 500 | AU20: =(AQ20*AT20)/31 -> 37137.19 | AW20: 40634 | AX20: 24486.304 | AY20: 1825.967 | AZ20: 0.71249287 | BA20: 124914.49 | BB20: 170 | BC20: =(AY20*BB20)/30 -> 10347.146 | BE20: 40664 | BF20: 21841.007 | BG20: 1030.0339 | BH20: 0.41035224 | BI20: 78492.87 | BJ20: 35.25 | BK20: =(BG20*BJ20)/31 -> 1171.2482 | BM20: =SUM(F20,N20,V20,AD20,AL20,AT20,BB20,BJ20) -> 3846.25 | BN20: 10-11 | BO20: =MAX(B20,J20,R20,Z20,AH20,AP20,AX20,BF20) -> 28770.305 | BP20: =MAX(C20,K20,S20,AA20,AI20,AQ20,AY20,BG20) -> 3380.2956 | BQ20: =MAX(E20,M20,U20,AC20,AK20,AS20,BA20,BI20) -> 189385.75
A21: 40817 | B21: 20817.644 | C21: 1888.9214 | D21: 0.85992199 | E21: =B21+(C21*$B$1) -> 124708.32 | F21: 197 | G21: =(C21*F21)/31 -> 12003.791 | I21: 40858 | J21: 25742.343 | K21: 2124.1397 | L21: 0.78041858 | M21: 142570.03 | N21: 340.08333 | O21: =(K21*N21)/30 -> 24079.484 | Q21: 40878 | R21: 24817.503 | S21: 2322.7431 | T21: 0.85089008 | U21: 152568.37 | V21: 573 | W21: =(S21*V21)/31 -> 42933.284 | Y21: 40909 | Z21: 25377.204 | AA21: 2583.8804 | AB21: 0.80862674 | AC21: 167490.63 | AD21: 685 | AE21: =(AA21*AD21)/31 -> 57095.421 | AG21: 40940 | AH21: 27935.721 | AI21: 2366.3371 | AJ21: 0.8039795 | AK21: 158084.26 | AL21: 578.33333 | AM21: =(AI21*AL21)/28 -> 48876.128 | AO21: 40969 | AP21: 23789.565 | AQ21: 2167.0244 | AR21: 0.86403503 | AS21: 142975.91 | AT21: 233 | AU21: =(AQ21*AT21)/31 -> 16287.635 | AW21: 41000 | AX21: 21947.647 | AY21: 1581.0463 | AZ21: 0.79721001 | BA21: 108905.19 | BB21: 222.16667 | BC21: =(AY21*BB21)/30 -> 11708.526 | BE21: 41041 | BF21: 21044.934 | BG21: 1040.8254 | BH21: 0.16426131 | BI21: 78290.329 | BJ21: 10 | BK21: =(BG21*BJ21)/31 -> 335.75012 | BM21: =SUM(F21,N21,V21,AD21,AL21,AT21,BB21,BJ21) -> 2838.5833 | BN21: 11-12 | BO21: =MAX(B21,J21,R21,Z21,AH21,AP21,AX21,BF21) -> 27935.721 | BP21: =MAX(C21,K21,S21,AA21,AI21,AQ21,AY21,BG21) -> 2583.8804 | BQ21: =MAX(E21,M21,U21,AC21,AK21,AS21,BA21,BI21) -> 167490.63
A23: MIN | B23: =MIN(B5:B21) -> 20817.644 | C23: =MIN(C5:C21) -> 919.21317 | E23: =MIN(E5:E21) -> 77063.517 | F23: =MIN(F5:F21) -> 86 | G23: =MIN(G5:G21) -> 4353.2933 | I23: MIN | J23: =MIN(J5:J21) -> 25742.343 | K23: =MIN(K5:K21) -> 1856.0465 | M23: =MIN(M5:M21) -> 129332.32 | N23: =MIN(N5:N21) -> 326 | O23: =MIN(O5:O20) -> 21544.231 | Q23: MIN | R23: =MIN(R5:R21) -> 3469.4914 | S23: =MIN(S5:S21) -> 2126.6003 | U23: =MIN(U5:U21) -> 152568.37 | V23: =MIN(V5:V21) -> 553 | W23: =MIN(W5:W20) -> 46678.033 | Y23: MIN | Z23: =MIN(Z5:Z21) -> 18894.202 | AA23: =MIN(AA5:AA21) -> 2052.4913 | AC23: =MIN(AC5:AC21) -> 158542.34 | AD23: =MIN(AD5:AD21) -> 618 | AE23: =MIN(AE5:AE21) -> 52038.836 | AG23: MIN | AH23: =MIN(AH5:AH21) -> 21041.662 | AI23: =MIN(AI5:AI21) -> 2366.3371 | AK23: =MIN(AK5:AK21) -> 158084.26 | AL23: =MIN(AL5:AL21) -> 568 | AM23: =MIN(AM5:AM21) -> 48876.128 | AO23: MIN | AP23: =MIN(AP5:AP21) -> 21118.65 | AQ23: =MIN(AQ5:AQ21) -> 2054.1279 | AS23: =MIN(AS5:AS21) -> 142975.91 | AW23: MIN | AX23: =MIN(AX5:AX21) -> 21947.647 | AY23: =MIN(AY5:AY21) -> 1417.9179 | BA23: =MIN(BA5:BA21) -> 101710.27 | BE23: MIN | BF23: =MIN(BF5:BF21) -> 20353.365 | BG23: =MIN(BG5:BG21) -> 647.84405 | BI23: =MIN(BI5:BI21) -> 67193.493 | BN23: MIN | BO23: =MIN(BO5:BO20) -> 26382.16 | BP23: =MIN(BP5:BP20) -> 2521.6065 | BQ23: =MIN(BQ5:BQ20) -> 172607.64
A24: MAX | B24: =MAX(B5:B21) -> 32715.485 | C24: =MAX(C5:C21) -> 2343.3557 | E24: =MAX(E5:E21) -> 151305.52 | F24: =MAX(F5:F21) -> 274 | G24: =MAX(G5:G21) -> 18142.109 | I24: MAX | J24: =MAX(J5:J21) -> 34003.021 | K24: =MAX(K5:K21) -> 2725.0426 | M24: =MAX(M5:M21) -> 176246.21 | N24: =MAX(N5:N21) -> 666 | O24: =MAX(O5:O20) -> 53229.165 | Q24: MAX | R24: =MAX(R5:R21) -> 57206.591 | S24: =MAX(S5:S21) -> 3380.2956 | U24: =MAX(U5:U21) -> 189385.75 | V24: =MAX(V5:V21) -> 997 | W24: =MAX(W5:W20) -> 108714.67 | Y24: MAX | Z24: =MAX(Z5:Z21) -> 45655.318 | AA24: =MAX(AA5:AA21) -> 3171.701 | AC24: =MAX(AC5:AC21) -> 201346.97 | AD24: =MAX(AD5:AD21) -> 993 | AE24: =MAX(AE5:AE21) -> 97530.514 | AG24: MAX | AH24: =MAX(AH5:AH21) -> 36959.268 | AI24: =MAX(AI5:AI21) -> 3163.0047 | AK24: =MAX(AK5:AK21) -> 196032.22 | AL24: =MAX(AL5:AL21) -> 834 | AM24: =MAX(AM5:AM21) -> 90638.588 | AO24: MAX | AP24: =MAX(AP5:AP21) -> 34952.072 | AQ24: =MAX(AQ5:AQ21) -> 3159.8607 | AS24: =MAX(AS5:AS21) -> 195180.44 | AW24: MAX | AX24: =MAX(AX5:AX21) -> 33960.677 | AY24: =MAX(AY5:AY21) -> 2653.8447 | BA24: =MAX(BA5:BA21) -> 171439.18 | BE24: MAX | BF24: =MAX(BF5:BF21) -> 31562.07 | BG24: =MAX(BG5:BG21) -> 1770.7837 | BI24: =MAX(BI5:BI21) -> 123229.83 | BN24: MAX | BO24: =MAX(BO5:BO20) -> 57206.591 | BP24: =MAX(BP5:BP20) -> 3380.2956 | BQ24: =MAX(BQ5:BQ20) -> 201346.97

Sheet DAILY DATA
F1: 831001 | G1: 831003 | H1: 831038 | I1: 831071 | J1: 831002 | K1: 831080 | L1: 22600
A2: DATE | B2: MTH | C2: DAY | D2: INT | E2: DD | F2: WEST | G2: SOUTH | H2: EAST | I2: HUGUENOT | J2: DIOCESE | K2: RPE | L2: NORTH | M2: CHARLES CITY | O2: TOTAL | P2: RPE PLANT | Q2: RPE COR | S2: COR TOT | T2: ADJ COR TOT | U2: DAY SWING | V2: COR COL | W2: COR COL% | X2: COR DTI | Y2: COR DTI% | AA2: INTCPT | AB2: SLOPE | AC2: RSQ | AD2: DESIGN DAY | AE2: MTHDD
A3: 34700 | B3: Jan | C3: =IF(WEEKDAY(A3)=1,"Sun",IF(WEEKDAY(A3)=2,"Mon",IF(WEEKDAY(A3)=3,"Tue",IF(WEEKDAY(A3)=4,"Wed",IF(WEEKDAY(A3)=5,"Thur",IF(WEEKDAY(A3)=6,"Fri",IF(WEEKDAY(A3)=7,"Sat"))))))) -> Sun | E3: 15 | F3: 17797 | G3: 16349 | H3: 13155 | I3: 3920 | J3: 104 | K3: 2272 | L3: 5860 | O3: =SUM(F3:M3) -> 59457 | P3: 2271.654 | Q3: =K3-P3 -> 0.346 | S3: =O3-P3 -> 57185.346 | T3: =SUM(S3,D3) -> 57185.346 | V3: =SUM(F3:K3)-P3 -> 51325.346 | W3: =V3/S3 -> 0.89752619 | X3: =SUM(L3:M3) -> 5860 | Y3: =X3/S3 -> 0.10247381 | AA3: =INTERCEPT(T3:T33,E3:E33) -> 29133.597 | AB3: =SLOPE(T3:T33,E3:E33) -> 2556.7109 | AC3: =RSQ(T3:T33,E3:E33) -> 0.92506463 | AD3: =AA3+(AB3*55) -> 169752.69 | AE3: =SUM(E3:E33) -> 770
A4: 34701 | B4: Jan | C4: =IF(WEEKDAY(A4)=1,"Sun",IF(WEEKDAY(A4)=2,"Mon",IF(WEEKDAY(A4)=3,"Tue",IF(WEEKDAY(A4)=4,"Wed",IF(WEEKDAY(A4)=5,"Thur",IF(WEEKDAY(A4)=6,"Fri",IF(WEEKDAY(A4)=7,"Sat"))))))) -> Mon | E4: 31 | F4: 37130 | G4: 23621 | H4: 17345 | I4: 5550 | J4: 209 | K4: 2433 | L4: 12510 | O4: =SUM(F4:M4) -> 98798 | P4: 2433.319 | Q4: =K4-P4 -> -0.319 | S4: =O4-P4 -> 96364.681 | T4: =SUM(S4,D4) -> 96364.681 | U4: =S4-S3 -> 39179.335 | V4: =SUM(F4:K4)-P4 -> 83854.681 | W4: =V4/S4 -> 0.87018065 | X4: =SUM(L4:M4) -> 12510 | Y4: =X4/S4 -> 0.12981935
A5: 34702 | B5: Jan | C5: =IF(WEEKDAY(A5)=1,"Sun",IF(WEEKDAY(A5)=2,"Mon",IF(WEEKDAY(A5)=3,"Tue",IF(WEEKDAY(A5)=4,"Wed",IF(WEEKDAY(A5)=5,"Thur",IF(WEEKDAY(A5)=6,"Fri",IF(WEEKDAY(A5)=7,"Sat"))))))) -> Tue | E5: 35 | F5: 45588 | G5: 27354 | H5: 20178 | I5: 6390 | J5: 208 | K5: 2503 | L5: 16718 | O5: =SUM(F5:M5) -> 118939 | P5: 2503.28 | Q5: =K5-P5 -> -0.28 | S5: =O5-P5 -> 116435.72 | T5: =SUM(S5,D5) -> 116435.72 | U5: =S5-S4 -> 20071.039 | V5: =SUM(F5:K5)-P5 -> 99717.72 | W5: =V5/S5 -> 0.85641863 | X5: =SUM(L5:M5) -> 16718 | Y5: =X5/S5 -> 0.14358137
A6: 34703 | B6: Jan | C6: =IF(WEEKDAY(A6)=1,"Sun",IF(WEEKDAY(A6)=2,"Mon",IF(WEEKDAY(A6)=3,"Tue",IF(WEEKDAY(A6)=4,"Wed",IF(WEEKDAY(A6)=5,"Thur",IF(WEEKDAY(A6)=6,"Fri",IF(WEEKDAY(A6)=7,"Sat"))))))) -> Wed | D6: 17000 | E6: 35 | F6: 38908 | G6: 23741 | H6: 17612 | I6: 5699 | J6: 208 | K6: 28262 | L6: 18417 | O6: =SUM(F6:M6) -> 132847 | P6: 15377.2 | Q6: =K6-P6 -> 12884.8 | S6: =O6-P6 -> 117469.8 | T6: =SUM(S6,D6) -> 134469.8 | U6: =S6-S5 -> 1034.08 | V6: =SUM(F6:K6)-P6 -> 99052.8 | W6: =V6/S6 -> 0.84321928 | X6: =SUM(L6:M6) -> 18417 | Y6: =X6/S6 -> 0.15678072
A7: 34704 | B7: Jan | C7: =IF(WEEKDAY(A7)=1,"Sun",IF(WEEKDAY(A7)=2,"Mon",IF(WEEKDAY(A7)=3,"Tue",IF(WEEKDAY(A7)=4,"Wed",IF(WEEKDAY(A7)=5,"Thur",IF(WEEKDAY(A7)=6,"Fri",IF(WEEKDAY(A7)=7,"Sat"))))))) -> Thur | D7: 17000 | E7: 45 | F7: 42538 | G7: 21499 | H7: 16293 | I7: 5678 | J7: 208 | K7: 20706 | L7: 21298 | O7: =SUM(F7:M7) -> 128220 | P7: 1343.427 | Q7: =K7-P7 -> 19362.573 | S7: =O7-P7 -> 126876.57 | T7: =SUM(S7,D7) -> 143876.57 | U7: =S7-S6 -> 9406.773 | V7: =SUM(F7:K7)-P7 -> 105578.57 | W7: =V7/S7 -> 0.83213607 | X7: =SUM(L7:M7) -> 21298 | Y7: =X7/S7 -> 0.16786393
A8: 34705 | B8: Jan | C8: =IF(WEEKDAY(A8)=1,"Sun",IF(WEEKDAY(A8)=2,"Mon",IF(WEEKDAY(A8)=3,"Tue",IF(WEEKDAY(A8)=4,"Wed",IF(WEEKDAY(A8)=5,"Thur",IF(WEEKDAY(A8)=6,"Fri",IF(WEEKDAY(A8)=7,"Sat"))))))) -> Fri | D8: 17000 | E8: 29 | F8: 32467 | G8: 20800 | H8: 15184 | I8: 5156 | J8: 208 | K8: 18977 | L8: 20865 | O8: =SUM(F8:M8) -> 113657 | P8: 1445.249 | Q8: =K8-P8 -> 17531.751 | S8: =O8-P8 -> 112211.75 | T8: =SUM(S8,D8) -> 129211.75 | U8: =S8-S7 -> -14664.822 | V8: =SUM(F8:K8)-P8 -> 91346.751 | W8: =V8/S8 -> 0.81405691 | X8: =SUM(L8:M8) -> 20865 | Y8: =X8/S8 -> 0.18594309
A9: 34706 | B9: Jan | C9: =IF(WEEKDAY(A9)=1,"Sun",IF(WEEKDAY(A9)=2,"Mon",IF(WEEKDAY(A9)=3,"Tue",IF(WEEKDAY(A9)=4,"Wed",IF(WEEKDAY(A9)=5,"Thur",IF(WEEKDAY(A9)=6,"Fri",IF(WEEKDAY(A9)=7,"Sat"))))))) -> Sat | E9: 23 | F9: 21766 | G9: 16931 | H9: 13070 | I9: 4283 | J9: 104 | K9: 15247 | L9: 17944 | O9: =SUM(F9:M9) -> 89345 | P9: 2402.168 | Q9: =K9-P9 -> 12844.832 | S9: =O9-P9 -> 86942.832 | T9: =SUM(S9,D9) -> 86942.832 | U9: =S9-S8 -> -25268.919 | V9: =SUM(F9:K9)-P9 -> 68998.832 | W9: =V9/S9 -> 0.79361151 | X9: =SUM(L9:M9) -> 17944 | Y9: =X9/S9 -> 0.20638849
A10: 34707 | B10: Jan | C10: =IF(WEEKDAY(A10)=1,"Sun",IF(WEEKDAY(A10)=2,"Mon",IF(WEEKDAY(A10)=3,"Tue",IF(WEEKDAY(A10)=4,"Wed",IF(WEEKDAY(A10)=5,"Thur",IF(WEEKDAY(A10)=6,"Fri",IF(WEEKDAY(A10)=7,"Sat"))))))) -> Sun | E10: 30 | F10: 27814 | G10: 19577 | H10: 14366 | I10: 4761 | J10: 104 | K10: 15903 | L10: 18009 | O10: =SUM(F10:M10) -> 100534 | P10: 2364.96 | Q10: =K10-P10 -> 13538.04 | S10: =O10-P10 -> 98169.04 | T10: =SUM(S10,D10) -> 98169.04 | U10: =S10-S9 -> 11226.208 | V10: =SUM(F10:K10)-P10 -> 80160.04 | W10: =V10/S10 -> 0.81655112 | X10: =SUM(L10:M10) -> 18009 | Y10: =X10/S10 -> 0.18344888
A11: 34708 | B11: Jan | C11: =IF(WEEKDAY(A11)=1,"Sun",IF(WEEKDAY(A11)=2,"Mon",IF(WEEKDAY(A11)=3,"Tue",IF(WEEKDAY(A11)=4,"Wed",IF(WEEKDAY(A11)=5,"Thur",IF(WEEKDAY(A11)=6,"Fri",IF(WEEKDAY(A11)=7,"Sat"))))))) -> Mon | E11: 28 | F11: 31063 | G11: 21446 | H11: 15970 | I11: 5067 | J11: 208 | K11: 15637 | L11: 15333 | O11: =SUM(F11:M11) -> 104724 | P11: 2030.08 | Q11: =K11-P11 -> 13606.92 | S11: =O11-P11 -> 102693.92 | T11: =SUM(S11,D11) -> 102693.92 | U11: =S11-S10 -> 4524.88 | V11: =SUM(F11:K11)-P11 -> 87360.92 | W11: =V11/S11 -> 0.85069223 | X11: =SUM(L11:M11) -> 15333 | Y11: =X11/S11 -> 0.14930777
A12: 34709 | B12: Jan | C12: =IF(WEEKDAY(A12)=1,"Sun",IF(WEEKDAY(A12)=2,"Mon",IF(WEEKDAY(A12)=3,"Tue",IF(WEEKDAY(A12)=4,"Wed",IF(WEEKDAY(A12)=5,"Thur",IF(WEEKDAY(A12)=6,"Fri",IF(WEEKDAY(A12)=7,"Sat"))))))) -> Tue | E12: 28 | F12: 30663 | G12: 21011 | H12: 15928 | I12: 5002 | J12: 208 | K12: 23773 | L12: 14852 | O12: =SUM(F12:M12) -> 111437 | P12: 10021.89 | Q12: =K12-P12 -> 13751.11 | S12: =O12-P12 -> 101415.11 | T12: =SUM(S12,D12) -> 101415.11 | U12: =S12-S11 -> -1278.81 | V12: =SUM(F12:K12)-P12 -> 86563.11 | W12: =V12/S12 -> 0.85355239 | X12: =SUM(L12:M12) -> 14852 | Y12: =X12/S12 -> 0.14644761
A13: 34710 | B13: Jan | C13: =IF(WEEKDAY(A13)=1,"Sun",IF(WEEKDAY(A13)=2,"Mon",IF(WEEKDAY(A13)=3,"Tue",IF(WEEKDAY(A13)=4,"Wed",IF(WEEKDAY(A13)=5,"Thur",IF(WEEKDAY(A13)=6,"Fri",IF(WEEKDAY(A13)=7,"Sat"))))))) -> Wed | E13: 18 | F13: 22196 | G13: 18691 | H13: 14379 | I13: 4404 | J13: 208 | K13: 12344 | L13: 12486 | O13: =SUM(F13:M13) -> 84708 | P13: 2260.864 | Q13: =K13-P13 -> 10083.136 | S13: =O13-P13 -> 82447.136 | T13: =SUM(S13,D13) -> 82447.136 | U13: =S13-S12 -> -18967.974 | V13: =SUM(F13:K13)-P13 -> 69961.136 | W13: =V13/S13 -> 0.8485575 | X13: =SUM(L13:M13) -> 12486 | Y13: =X13/S13 -> 0.1514425
A14: 34711 | B14: Jan | C14: =IF(WEEKDAY(A14)=1,"Sun",IF(WEEKDAY(A14)=2,"Mon",IF(WEEKDAY(A14)=3,"Tue",IF(WEEKDAY(A14)=4,"Wed",IF(WEEKDAY(A14)=5,"Thur",IF(WEEKDAY(A14)=6,"Fri",IF(WEEKDAY(A14)=7,"Sat"))))))) -> Thur | E14: 10 | F14: 13421 | G14: 17119 | H14: 13813 | I14: 3876 | J14: 208 | K14: 2708 | L14: 10373 | O14: =SUM(F14:M14) -> 61518 | P14: 2199.633 | Q14: =K14-P14 -> 508.367 | S14: =O14-P14 -> 59318.367 | T14: =SUM(S14,D14) -> 59318.367 | U14: =S14-S13 -> -23128.769 | V14: =SUM(F14:K14)-P14 -> 48945.367 | W14: =V14/S14 -> 0.82513005 | X14: =SUM(L14:M14) -> 10373 | Y14: =X14/S14 -> 0.17486995
A15: 34712 | B15: Jan | C15: =IF(WEEKDAY(A15)=1,"Sun",IF(WEEKDAY(A15)=2,"Mon",IF(WEEKDAY(A15)=3,"Tue",IF(WEEKDAY(A15)=4,"Wed",IF(WEEKDAY(A15)=5,"Thur",IF(WEEKDAY(A15)=6,"Fri",IF(WEEKDAY(A15)=7,"Sat"))))))) -> Fri | E15: 4 | F15: 6165 | G15: 13976 | H15: 12297 | I15: 3186 | J15: 166 | K15: 2086 | L15: 7613 | O15: =SUM(F15:M15) -> 45489 | P15: 2086.444 | Q15: =K15-P15 -> -0.444 | S15: =O15-P15 -> 43402.556 | T15: =SUM(S15,D15) -> 43402.556 | U15: =S15-S14 -> -15915.811 | V15: =SUM(F15:K15)-P15 -> 35789.556 | W15: =V15/S15 -> 0.82459558 | X15: =SUM(L15:M15) -> 7613 | Y15: =X15/S15 -> 0.17540442
A16: 34713 | B16: Jan | C16: =IF(WEEKDAY(A16)=1,"Sun",IF(WEEKDAY(A16)=2,"Mon",IF(WEEKDAY(A16)=3,"Tue",IF(WEEKDAY(A16)=4,"Wed",IF(WEEKDAY(A16)=5,"Thur",IF(WEEKDAY(A16)=6,"Fri",IF(WEEKDAY(A16)=7,"Sat"))))))) -> Sat | E16: 0 | F16: 1794 | G16: 10273 | H16: 11537 | I16: 2457 | J16: 104 | K16: 1971 | L16: 4448 | O16: =SUM(F16:M16) -> 32584 | P16: 1971.464 | Q16: =K16-P16 -> -0.464 | S16: =O16-P16 -> 30612.536 | T16: =SUM(S16,D16) -> 30612.536 | U16: =S16-S15 -> -12790.02 | V16: =SUM(F16:K16)-P16 -> 26164.536 | W16: =V16/S16 -> 0.85470005 | X16: =SUM(L16:M16) -> 4448 | Y16: =X16/S16 -> 0.14529995
A17: 34714 | B17: Jan | C17: =IF(WEEKDAY(A17)=1,"Sun",IF(WEEKDAY(A17)=2,"Mon",IF(WEEKDAY(A17)=3,"Tue",IF(WEEKDAY(A17)=4,"Wed",IF(WEEKDAY(A17)=5,"Thur",IF(WEEKDAY(A17)=6,"Fri",IF(WEEKDAY(A17)=7,"Sat"))))))) -> Sun | E17: 5 | F17: 3441 | G17: 12230 | H17: 11707 | I17: 2889 | J17: 104 | K17: 2037 | L17: 5713 | O17: =SUM(F17:M17) -> 38121 | P17: 2037.11 | Q17: =K17-P17 -> -0.11 | S17: =O17-P17 -> 36083.89 | T17: =SUM(S17,D17) -> 36083.89 | U17: =S17-S16 -> 5471.354 | V17: =SUM(F17:K17)-P17 -> 30370.89 | W17: =V17/S17 -> 0.8416745 | X17: =SUM(L17:M17) -> 5713 | Y17: =X17/S17 -> 0.1583255
A18: 34715 | B18: Jan | C18: =IF(WEEKDAY(A18)=1,"Sun",IF(WEEKDAY(A18)=2,"Mon",IF(WEEKDAY(A18)=3,"Tue",IF(WEEKDAY(A18)=4,"Wed",IF(WEEKDAY(A18)=5,"Thur",IF(WEEKDAY(A18)=6,"Fri",IF(WEEKDAY(A18)=7,"Sat"))))))) -> Mon | E18: 17 | F18: 19193 | G18: 18869 | H18: 14803 | I18: 4264 | J18: 167 | K18: 2113 | L18: 11419 | O18: =SUM(F18:M18) -> 70828 | P18: 2113.23 | Q18: =K18-P18 -> -0.23 | S18: =O18-P18 -> 68714.77 | T18: =SUM(S18,D18) -> 68714.77 | U18: =S18-S17 -> 32630.88 | V18: =SUM(F18:K18)-P18 -> 57295.77 | W18: =V18/S18 -> 0.8338203 | X18: =SUM(L18:M18) -> 11419 | Y18: =X18/S18 -> 0.1661797
A19: 34716 | B19: Jan | C19: =IF(WEEKDAY(A19)=1,"Sun",IF(WEEKDAY(A19)=2,"Mon",IF(WEEKDAY(A19)=3,"Tue",IF(WEEKDAY(A19)=4,"Wed",IF(WEEKDAY(A19)=5,"Thur",IF(WEEKDAY(A19)=6,"Fri",IF(WEEKDAY(A19)=7,"Sat"))))))) -> Tue | E19: 18 | F19: 22745 | G19: 19940 | H19: 15246 | I19: 4572 | J19: 166 | K19: 2142 | L19: 12623 | O19: =SUM(F19:M19) -> 77434 | P19: 2142.418 | Q19: =K19-P19 -> -0.418 | S19: =O19-P19 -> 75291.582 | T19: =SUM(S19,D19) -> 75291.582 | U19: =S19-S18 -> 6576.812 | V19: =SUM(F19:K19)-P19 -> 62668.582 | W19: =V19/S19 -> 0.83234514 | X19: =SUM(L19:M19) -> 12623 | Y19: =X19/S19 -> 0.16765486
A20: 34717 | B20: Jan | C20: =IF(WEEKDAY(A20)=1,"Sun",IF(WEEKDAY(A20)=2,"Mon",IF(WEEKDAY(A20)=3,"Tue",IF(WEEKDAY(A20)=4,"Wed",IF(WEEKDAY(A20)=5,"Thur",IF(WEEKDAY(A20)=6,"Fri",IF(WEEKDAY(A20)=7,"Sat"))))))) -> Wed | E20: 18 | F20: 22607 | G20: 20003 | H20: 15196 | I20: 4550 | J20: 166 | K20: 2275 | L20: 12568 | O20: =SUM(F20:M20) -> 77365 | P20: 2275.41 | Q20: =K20-P20 -> -0.41 | S20: =O20-P20 -> 75089.59 | T20: =SUM(S20,D20) -> 75089.59 | U20: =S20-S19 -> -201.992 | V20: =SUM(F20:K20)-P20 -> 62521.59 | W20: =V20/S20 -> 0.8326266 | X20: =SUM(L20:M20) -> 12568 | Y20: =X20/S20 -> 0.1673734
... A33: 34730 | B33: Jan | C33: =IF(WEEKDAY(A33)=1,"Sun",IF(WEEKDAY(A33)=2,"Mon",IF(WEEKDAY(A33)=3,"Tue",IF(WEEKDAY(A33)=4,"Wed",IF(WEEKDAY(A33)=5,"Thur",IF(WEEKDAY(A33)=6,"Fri",IF(WEEKDAY(A33)=7,"Sat"))))))) -> Tue | E33: 29 | F33: 37922 | G33: 25090 | H33: 18663 | I33: 5849 | J33: 312 | K33: 5433 | L33: 16809 | O33: =SUM(F33:M33) -> 110078 | P33: 4010.973 | Q33: =K33-P33 -> 1422.027 | S33: =O33-P33 -> 106067.03 | T33: =SUM(S33,D33) -> 106067.03 | U33: =S33-S32 -> -13158.774 | V33: =SUM(F33:K33)-P33 -> 89258.027 | W33: =V33/S33 -> 0.84152474 | X33: =SUM(L33:M33) -> 16809 | Y33: =X33/S33 -> 0.15847526
A34: 34731 | B34: Feb | C34: =IF(WEEKDAY(A34)=1,"Sun",IF(WEEKDAY(A34)=2,"Mon",IF(WEEKDAY(A34)=3,"Tue",IF(WEEKDAY(A34)=4,"Wed",IF(WEEKDAY(A34)=5,"Thur",IF(WEEKDAY(A34)=6,"Fri",IF(WEEKDAY(A34)=7,"Sat"))))))) -> Wed | E34: 19 | F34: 27002.499 | G34: 21257.22 | H34: 16161.525 | I34: 4924.971 | J34: 312.3 | K34: 11990.238 | L34: 14017 | O34: =SUM(F34:M34) -> 95665.753 | P34: 10955.484 | Q34: =K34-P34 -> 1034.754 | S34: =O34-P34 -> 84710.269 | T34: =SUM(S34,D34) -> 84710.269 | U34: =S34-S33 -> -21356.758 | V34: =SUM(F34:K34)-P34 -> 70693.269 | W34: =V34/S34 -> 0.8345301 | X34: =SUM(L34:M34) -> 14017 | Y34: =X34/S34 -> 0.1654699 | AA34: =INTERCEPT(T34:T61,E34:E61) -> 28823.459 | AB34: =SLOPE(T34:T61,E34:E61) -> 2617.2062 | AC34: =RSQ(T34:T61,E34:E61) -> 0.93641741 | AD34: =AA34+(AB34*55) -> 172769.8 | AE34: =SUM(E34:E61) -> 744
A35: 34732 | B35: Feb | C35: =IF(WEEKDAY(A35)=1,"Sun",IF(WEEKDAY(A35)=2,"Mon",IF(WEEKDAY(A35)=3,"Tue",IF(WEEKDAY(A35)=4,"Wed",IF(WEEKDAY(A35)=5,"Thur",IF(WEEKDAY(A35)=6,"Fri",IF(WEEKDAY(A35)=7,"Sat"))))))) -> Thur | E35: 23 | F35: 28986.645 | G35: 21948.444 | H35: 16530.039 | I35: 5070.711 | J35: 364.35 | K35: 2535.876 | L35: 14128 | O35: =SUM(F35:M35) -> 89564.065 | P35: 2408.874 | Q35: =K35-P35 -> 127.002 | S35: =O35-P35 -> 87155.191 | T35: =SUM(S35,D35) -> 87155.191 | U35: =S35-S34 -> 2444.922 | V35: =SUM(F35:K35)-P35 -> 73027.191 | W35: =V35/S35 -> 0.83789835 | X35: =SUM(L35:M35) -> 14128 | Y35: =X35/S35 -> 0.16210165
A36: 34733 | B36: Feb | C36: =IF(WEEKDAY(A36)=1,"Sun",IF(WEEKDAY(A36)=2,"Mon",IF(WEEKDAY(A36)=3,"Tue",IF(WEEKDAY(A36)=4,"Wed",IF(WEEKDAY(A36)=5,"Thur",IF(WEEKDAY(A36)=6,"Fri",IF(WEEKDAY(A36)=7,"Sat"))))))) -> Fri | E36: 30 | F36: 29064.506 | G36: 20510.728 | H36: 15676.89 | I36: 5016.188 | J36: 416.8 | K36: 12862.448 | L36: 15973 | O36: =SUM(F36:M36) -> 99520.56 | P36: 2334.08 | Q36: =K36-P36 -> 10528.368 | S36: =O36-P36 -> 97186.48 | T36: =SUM(S36,D36) -> 97186.48 | U36: =S36-S35 -> 10031.289 | V36: =SUM(F36:K36)-P36 -> 81213.48 | W36: =V36/S36 -> 0.83564586 | X36: =SUM(L36:M36) -> 15973 | Y36: =X36/S36 -> 0.16435414
A37: 34734 | B37: Feb | C37: =IF(WEEKDAY(A37)=1,"Sun",IF(WEEKDAY(A37)=2,"Mon",IF(WEEKDAY(A37)=3,"Tue",IF(WEEKDAY(A37)=4,"Wed",IF(WEEKDAY(A37)=5,"Thur",IF(WEEKDAY(A37)=6,"Fri",IF(WEEKDAY(A37)=7,"Sat"))))))) -> Sat | D37: 17000 | E37: 32 | F37: 33496.26 | G37: 20360.37 | H37: 14756.208 | I37: 5239.824 | J37: 519 | K37: 13274.982 | L37: 16721 | O37: =SUM(F37:M37) -> 104367.64 | P37: 2364.564 | Q37: =K37-P37 -> 10910.418 | S37: =O37-P37 -> 102003.08 | T37: =SUM(S37,D37) -> 119003.08 | U37: =S37-S36 -> 4816.6 | V37: =SUM(F37:K37)-P37 -> 85282.08 | W37: =V37/S37 -> 0.83607358 | X37: =SUM(L37:M37) -> 16721 | Y37: =X37/S37 -> 0.16392642
A38: 34735 | B38: Feb | C38: =IF(WEEKDAY(A38)=1,"Sun",IF(WEEKDAY(A38)=2,"Mon",IF(WEEKDAY(A38)=3,"Tue",IF(WEEKDAY(A38)=4,"Wed",IF(WEEKDAY(A38)=5,"Thur",IF(WEEKDAY(A38)=6,"Fri",IF(WEEKDAY(A38)=7,"Sat"))))))) -> Sun | D38: 17000 | E38: 42 | F38: 41848.289 | G38: 26719.574 | H38: 16480.443 | I38: 5798.037 | J38: 521.5 | K38: 12893.566 | L38: 23744 | O38: =SUM(F38:M38) -> 128005.41 | P38: 389.039 | Q38: =K38-P38 -> 12504.527 | S38: =O38-P38 -> 127616.37 | T38: =SUM(S38,D38) -> 144616.37 | U38: =S38-S37 -> 25613.29 | V38: =SUM(F38:K38)-P38 -> 103872.37 | W38: =V38/S38 -> 0.81394236 | X38: =SUM(L38:M38) -> 23744 | Y38: =X38/S38 -> 0.18605764
A39: 34736 | B39: Feb | C39: =IF(WEEKDAY(A39)=1,"Sun",IF(WEEKDAY(A39)=2,"Mon",IF(WEEKDAY(A39)=3,"Tue",IF(WEEKDAY(A39)=4,"Wed",IF(WEEKDAY(A39)=5,"Thur",IF(WEEKDAY(A39)=6,"Fri",IF(WEEKDAY(A39)=7,"Sat"))))))) -> Mon | D39: 17000 | E39: 45 | F39: 43930.2 | G39: 27879.021 | H39: 16226.067 | I39: 5904.552 | J39: 520.5 | K39: 13830.726 | L39: 24705 | O39: =SUM(F39:M39) -> 132996.07 | P39: 0 | Q39: =K39-P39 -> 13830.726 | S39: =O39-P39 -> 132996.07 | T39: =SUM(S39,D39) -> 149996.07 | U39: =S39-S38 -> 5379.696 | V39: =SUM(F39:K39)-P39 -> 108291.07 | W39: =V39/S39 -> 0.81424263 | X39: =SUM(L39:M39) -> 24705 | Y39: =X39/S39 -> 0.18575737
A40: 34737 | B40: Feb | C40: =IF(WEEKDAY(A40)=1,"Sun",IF(WEEKDAY(A40)=2,"Mon",IF(WEEKDAY(A40)=3,"Tue",IF(WEEKDAY(A40)=4,"Wed",IF(WEEKDAY(A40)=5,"Thur",IF(WEEKDAY(A40)=6,"Fri",IF(WEEKDAY(A40)=7,"Sat"))))))) -> Tue | D40: 17000 | E40: 38 | F40: 33737.758 | G40: 25443.832 | H40: 14451.632 | I40: 5180.852 | J40: 518.5 | K40: 10544.216 | L40: 22801 | O40: =SUM(F40:M40) -> 112677.79 | P40: 0 | Q40: =K40-P40 -> 10544.216 | S40: =O40-P40 -> 112677.79 | T40: =SUM(S40,D40) -> 129677.79 | U40: =S40-S39 -> -20318.276 | V40: =SUM(F40:K40)-P40 -> 89876.79 | W40: =V40/S40 -> 0.79764424 | X40: =SUM(L40:M40) -> 22801 | Y40: =X40/S40 -> 0.20235576
A41: 34738 | B41: Feb | C41: =IF(WEEKDAY(A41)=1,"Sun",IF(WEEKDAY(A41)=2,"Mon",IF(WEEKDAY(A41)=3,"Tue",IF(WEEKDAY(A41)=4,"Wed",IF(WEEKDAY(A41)=5,"Thur",IF(WEEKDAY(A41)=6,"Fri",IF(WEEKDAY(A41)=7,"Sat"))))))) -> Wed | D41: 17000 | E41: 42 | F41: 40675.957 | G41: 27182.666 | H41: 15414.497 | I41: 5689.565 | J41: 677.95 | K41: 12511.828 | L41: 23935 | O41: =SUM(F41:M41) -> 126087.46 | P41: 205.471 | Q41: =K41-P41 -> 12306.357 | S41: =O41-P41 -> 125881.99 | T41: =SUM(S41,D41) -> 142881.99 | U41: =S41-S40 -> 13204.202 | V41: =SUM(F41:K41)-P41 -> 101946.99 | W41: =V41/S41 -> 0.8098616 | X41: =SUM(L41:M41) -> 23935 | Y41: =X41/S41 -> 0.1901384
A42: 34739 | B42: Feb | C42: =IF(WEEKDAY(A42)=1,"Sun",IF(WEEKDAY(A42)=2,"Mon",IF(WEEKDAY(A42)=3,"Tue",IF(WEEKDAY(A42)=4,"Wed",IF(WEEKDAY(A42)=5,"Thur",IF(WEEKDAY(A42)=6,"Fri",IF(WEEKDAY(A42)=7,"Sat"))))))) -> Thur | D42: 17000 | E42: 32 | F42: 31391.355 | G42: 24974.631 | H42: 14242.962 | I42: 5030.112 | J42: 676.65 | K42: 14319.996 | L42: 22278 | O42: =SUM(F42:M42) -> 112913.71 | P42: 5256.009 | Q42: =K42-P42 -> 9063.987 | S42: =O42-P42 -> 107657.7 | T42: =SUM(S42,D42) -> 124657.7 | U42: =S42-S41 -> -18224.295 | V42: =SUM(F42:K42)-P42 -> 85379.697 | W42: =V42/S42 -> 0.79306635 | X42: =SUM(L42:M42) -> 22278 | Y42: =X42/S42 -> 0.20693365
A43: 34740 | B43: Feb | C43: =IF(WEEKDAY(A43)=1,"Sun",IF(WEEKDAY(A43)=2,"Mon",IF(WEEKDAY(A43)=3,"Tue",IF(WEEKDAY(A43)=4,"Wed",IF(WEEKDAY(A43)=5,"Thur",IF(WEEKDAY(A43)=6,"Fri",IF(WEEKDAY(A43)=7,"Sat"))))))) -> Fri | D43: 17000 | E43: 27 | F43: 23543.256 | G43: 22645.914 | H43: 13168.65 | I43: 4327.437 | J43: 624.6 | K43: 11559.264 | L43: 20610 | O43: =SUM(F43:M43) -> 96479.121 | P43: 6674.892 | Q43: =K43-P43 -> 4884.372 | S43: =O43-P43 -> 89804.229 | T43: =SUM(S43,D43) -> 106804.23 | U43: =S43-S42 -> -17853.468 | V43: =SUM(F43:K43)-P43 -> 69194.229 | W43: =V43/S43 -> 0.77050079 | X43: =SUM(L43:M43) -> 20610 | Y43: =X43/S43 -> 0.22949921
A44: 34741 | B44: Feb | C44: =IF(WEEKDAY(A44)=1,"Sun",IF(WEEKDAY(A44)=2,"Mon",IF(WEEKDAY(A44)=3,"Tue",IF(WEEKDAY(A44)=4,"Wed",IF(WEEKDAY(A44)=5,"Thur",IF(WEEKDAY(A44)=6,"Fri",IF(WEEKDAY(A44)=7,"Sat"))))))) -> Sat | D44: 17000 | E44: 22 | F44: 13438.269 | G44: 18870.207 | H44: 12581.526 | I44: 3161.517 | J44: 624.6 | K44: 703.716 | L44: 18141 | O44: =SUM(F44:M44) -> 67520.835 | P44: 0 | Q44: =K44-P44 -> 703.716 | S44: =O44-P44 -> 67520.835 | T44: =SUM(S44,D44) -> 84520.835 | U44: =S44-S43 -> -22283.394 | V44: =SUM(F44:K44)-P44 -> 49379.835 | W44: =V44/S44 -> 0.73132737 | X44: =SUM(L44:M44) -> 18141 | Y44: =X44/S44 -> 0.26867263
A45: 34742 | B45: Feb | C45: =IF(WEEKDAY(A45)=1,"Sun",IF(WEEKDAY(A45)=2,"Mon",IF(WEEKDAY(A45)=3,"Tue",IF(WEEKDAY(A45)=4,"Wed",IF(WEEKDAY(A45)=5,"Thur",IF(WEEKDAY(A45)=6,"Fri",IF(WEEKDAY(A45)=7,"Sat"))))))) -> Sun | D45: 17000 | E45: 41 | F45: 33409.854 | G45: 24865.326 | H45: 14595.861 | I45: 5020.743 | J45: 624.6 | K45: 7616.997 | L45: 22571 | O45: =SUM(F45:M45) -> 108704.38 | P45: 321.669 | Q45: =K45-P45 -> 7295.328 | S45: =O45-P45 -> 108382.71 | T45: =SUM(S45,D45) -> 125382.71 | U45: =S45-S44 -> 40861.877 | V45: =SUM(F45:K45)-P45 -> 85811.712 | W45: =V45/S45 -> 0.79174723 | X45: =SUM(L45:M45) -> 22571 | Y45: =X45/S45 -> 0.20825277
A46: 34743 | B46: Feb | C46: =IF(WEEKDAY(A46)=1,"Sun",IF(WEEKDAY(A46)=2,"Mon",IF(WEEKDAY(A46)=3,"Tue",IF(WEEKDAY(A46)=4,"Wed",IF(WEEKDAY(A46)=5,"Thur",IF(WEEKDAY(A46)=6,"Fri",IF(WEEKDAY(A46)=7,"Sat"))))))) -> Mon | D46: 17000 | E46: 38 | F46: 32842.509 | G46: 25327.53 | H46: 14266.905 | I46: 5089.449 | J46: 676.65 | K46: 9383.574 | L46: 22339 | O46: =SUM(F46:M46) -> 109925.62 | P46: 1008.729 | Q46: =K46-P46 -> 8374.845 | S46: =O46-P46 -> 108916.89 | T46: =SUM(S46,D46) -> 125916.89 | U46: =S46-S45 -> 534.176 | V46: =SUM(F46:K46)-P46 -> 86577.888 | W46: =V46/S46 -> 0.79489866 | X46: =SUM(L46:M46) -> 22339 | Y46: =X46/S46 -> 0.20510134
A47: 34744 | B47: Feb | C47: =IF(WEEKDAY(A47)=1,"Sun",IF(WEEKDAY(A47)=2,"Mon",IF(WEEKDAY(A47)=3,"Tue",IF(WEEKDAY(A47)=4,"Wed",IF(WEEKDAY(A47)=5,"Thur",IF(WEEKDAY(A47)=6,"Fri",IF(WEEKDAY(A47)=7,"Sat"))))))) -> Tue | E47: 33 | F47: 36540.141 | G47: 26247.774 | H47: 15632.697 | I47: 5199.795 | J47: 676.65 | K47: 14282.52 | L47: 18745 | O47: =SUM(F47:M47) -> 117324.58 | P47: 2393.259 | Q47: =K47-P47 -> 11889.261 | S47: =O47-P47 -> 114931.32 | T47: =SUM(S47,D47) -> 114931.32 | U47: =S47-S46 -> 6014.43 | V47: =SUM(F47:K47)-P47 -> 96186.318 | W47: =V47/S47 -> 0.83690259 | X47: =SUM(L47:M47) -> 18745 | Y47: =X47/S47 -> 0.16309741
A48: 34745 | B48: Feb | C48: =IF(WEEKDAY(A48)=1,"Sun",IF(WEEKDAY(A48)=2,"Mon",IF(WEEKDAY(A48)=3,"Tue",IF(WEEKDAY(A48)=4,"Wed",IF(WEEKDAY(A48)=5,"Thur",IF(WEEKDAY(A48)=6,"Fri",IF(WEEKDAY(A48)=7,"Sat"))))))) -> Wed | E48: 29 | F48: 36383.36 | G48: 25803.44 | H48: 16798.08 | I48: 4999.28 | J48: 676 | K48: 14513.2 | L48: 14429 | O48: =SUM(F48:M48) -> 113602.36 | P48: 2216.24 | Q48: =K48-P48 -> 12296.96 | S48: =O48-P48 -> 111386.12 | T48: =SUM(S48,D48) -> 111386.12 | U48: =S48-S47 -> -3545.198 | V48: =SUM(F48:K48)-P48 -> 96957.12 | W48: =V48/S48 -> 0.87045962 | X48: =SUM(L48:M48) -> 14429 | Y48: =X48/S48 -> 0.12954038
A49: 34746 | B49: Feb | C49: =IF(WEEKDAY(A49)=1,"Sun",IF(WEEKDAY(A49)=2,"Mon",IF(WEEKDAY(A49)=3,"Tue",IF(WEEKDAY(A49)=4,"Wed",IF(WEEKDAY(A49)=5,"Thur",IF(WEEKDAY(A49)=6,"Fri",IF(WEEKDAY(A49)=7,"Sat"))))))) -> Thur | E49: 23 | F49: 29043.04 | G49: 23699.52 | H49: 15361.84 | I49: 4340.96 | J49: 676 | K49: 12415.52 | L49: 11831 | O49: =SUM(F49:M49) -> 97367.88 | P49: 2280.72 | Q49: =K49-P49 -> 10134.8 | S49: =O49-P49 -> 95087.16 | T49: =SUM(S49,D49) -> 95087.16 | U49: =S49-S48 -> -16298.96 | V49: =SUM(F49:K49)-P49 -> 83256.16 | W49: =V49/S49 -> 0.87557731 | X49: =SUM(L49:M49) -> 11831 | Y49: =X49/S49 -> 0.12442269
A50: 34747 | B50: Feb | C50: =IF(WEEKDAY(A50)=1,"Sun",IF(WEEKDAY(A50)=2,"Mon",IF(WEEKDAY(A50)=3,"Tue",IF(WEEKDAY(A50)=4,"Wed",IF(WEEKDAY(A50)=5,"Thur",IF(WEEKDAY(A50)=6,"Fri",IF(WEEKDAY(A50)=7,"Sat"))))))) -> Fri | E50: 25 | F50: 28045.68 | G50: 23565.36 | H50: 15168.4 | I50: 4190.16 | J50: 676 | K50: 10934.56 | L50: 11582 | O50: =SUM(F50:M50) -> 94162.16 | P50: 2049.84 | Q50: =K50-P50 -> 8884.72 | S50: =O50-P50 -> 92112.32 | T50: =SUM(S50,D50) -> 92112.32 | U50: =S50-S49 -> -2974.84 | V50: =SUM(F50:K50)-P50 -> 80530.32 | W50: =V50/S50 -> 0.87426221 | X50: =SUM(L50:M50) -> 11582 | Y50: =X50/S50 -> 0.12573779
A51: 34748 | B51: Feb | C51: =IF(WEEKDAY(A51)=1,"Sun",IF(WEEKDAY(A51)=2,"Mon",IF(WEEKDAY(A51)=3,"Tue",IF(WEEKDAY(A51)=4,"Wed",IF(WEEKDAY(A51)=5,"Thur",IF(WEEKDAY(A51)=6,"Fri",IF(WEEKDAY(A51)=7,"Sat"))))))) -> Sat | E51: 24 | F51: 27575.877 | G51: 22692.551 | H51: 14419.475 | I51: 4170.957 | J51: 625.8 | K51: 11315.507 | L51: 11478 | O51: =SUM(F51:M51) -> 92278.167 | P51: 2579.339 | Q51: =K51-P51 -> 8736.168 | S51: =O51-P51 -> 89698.828 | T51: =SUM(S51,D51) -> 89698.828 | U51: =S51-S50 -> -2413.492 | V51: =SUM(F51:K51)-P51 -> 78220.828 | W51: =V51/S51 -> 0.87203846 | X51: =SUM(L51:M51) -> 11478 | Y51: =X51/S51 -> 0.12796154
A52: 34749 | B52: Feb | C52: =IF(WEEKDAY(A52)=1,"Sun",IF(WEEKDAY(A52)=2,"Mon",IF(WEEKDAY(A52)=3,"Tue",IF(WEEKDAY(A52)=4,"Wed",IF(WEEKDAY(A52)=5,"Thur",IF(WEEKDAY(A52)=6,"Fri",IF(WEEKDAY(A52)=7,"Sat"))))))) -> Sun | E52: 16 | F52: 17234.796 | G52: 20443.158 | H52: 13300.857 | I52: 3270.822 | J52: 520.5 | K52: 5973.258 | L52: 8591 | O52: =SUM(F52:M52) -> 69334.391 | P52: 2559.819 | Q52: =K52-P52 -> 3413.439 | S52: =O52-P52 -> 66774.572 | T52: =SUM(S52,D52) -> 66774.572 | U52: =S52-S51 -> -22924.256 | V52: =SUM(F52:K52)-P52 -> 58183.572 | W52: =V52/S52 -> 0.87134324 | X52: =SUM(L52:M52) -> 8591 | Y52: =X52/S52 -> 0.12865676
A53: 34750 | B53: Feb | C53: =IF(WEEKDAY(A53)=1,"Sun",IF(WEEKDAY(A53)=2,"Mon",IF(WEEKDAY(A53)=3,"Tue",IF(WEEKDAY(A53)=4,"Wed",IF(WEEKDAY(A53)=5,"Thur",IF(WEEKDAY(A53)=6,"Fri",IF(WEEKDAY(A53)=7,"Sat"))))))) -> Mon | E53: 14 | F53: 15301.659 | G53: 20686.752 | H53: 13398.711 | I53: 3070.95 | J53: 520.5 | K53: 4955.16 | L53: 7938 | O53: =SUM(F53:M53) -> 65871.732 | P53: 2463.006 | Q53: =K53-P53 -> 2492.154 | S53: =O53-P53 -> 63408.726 | T53: =SUM(S53,D53) -> 63408.726 | U53: =S53-S52 -> -3365.846 | V53: =SUM(F53:K53)-P53 -> 55470.726 | W53: =V53/S53 -> 0.87481218 | X53: =SUM(L53:M53) -> 7938 | Y53: =X53/S53 -> 0.12518782
A54: 34751 | B54: Feb | C54: =IF(WEEKDAY(A54)=1,"Sun",IF(WEEKDAY(A54)=2,"Mon",IF(WEEKDAY(A54)=3,"Tue",IF(WEEKDAY(A54)=4,"Wed",IF(WEEKDAY(A54)=5,"Thur",IF(WEEKDAY(A54)=6,"Fri",IF(WEEKDAY(A54)=7,"Sat"))))))) -> Tue | E54: 24 | F54: 27642.16 | G54: 23519.6 | H54: 15326.48 | I54: 4148.56 | J54: 676 | K54: 10286.64 | L54: 11222 | O54: =SUM(F54:M54) -> 92821.44 | P54: 2490.8 | Q54: =K54-P54 -> 7795.84 | S54: =O54-P54 -> 90330.64 | T54: =SUM(S54,D54) -> 90330.64 | U54: =S54-S53 -> 26921.914 | V54: =SUM(F54:K54)-P54 -> 79108.64 | W54: =V54/S54 -> 0.87576751 | X54: =SUM(L54:M54) -> 11222 | Y54: =X54/S54 -> 0.12423249
A55: 34752 | B55: Feb | C55: =IF(WEEKDAY(A55)=1,"Sun",IF(WEEKDAY(A55)=2,"Mon",IF(WEEKDAY(A55)=3,"Tue",IF(WEEKDAY(A55)=4,"Wed",IF(WEEKDAY(A55)=5,"Thur",IF(WEEKDAY(A55)=6,"Fri",IF(WEEKDAY(A55)=7,"Sat"))))))) -> Wed | E55: 24 | F55: 26067.51 | G55: 23178.825 | H55: 15058.215 | I55: 4053.06 | J55: 672.75 | K55: 10258.92 | L55: 10981 | O55: =SUM(F55:M55) -> 90270.28 | P55: 2364.975 | Q55: =K55-P55 -> 7893.945 | S55: =O55-P55 -> 87905.305 | T55: =SUM(S55,D55) -> 87905.305 | U55: =S55-S54 -> -2425.335 | V55: =SUM(F55:K55)-P55 -> 76924.305 | W55: =V55/S55 -> 0.87508149 | X55: =SUM(L55:M55) -> 10981 | Y55: =X55/S55 -> 0.12491851
A56: 34753 | B56: Feb | C56: =IF(WEEKDAY(A56)=1,"Sun",IF(WEEKDAY(A56)=2,"Mon",IF(WEEKDAY(A56)=3,"Tue",IF(WEEKDAY(A56)=4,"Wed",IF(WEEKDAY(A56)=5,"Thur",IF(WEEKDAY(A56)=6,"Fri",IF(WEEKDAY(A56)=7,"Sat"))))))) -> Thur | E56: 6 | F56: 11621.724 | G56: 19618.686 | H56: 13140.543 | I56: 2819.028 | J56: 416.4 | K56: 3952.677 | L56: 6919 | O56: =SUM(F56:M56) -> 58488.058 | P56: 2134.05 | Q56: =K56-P56 -> 1818.627 | S56: =O56-P56 -> 56354.008 | T56: =SUM(S56,D56) -> 56354.008 | U56: =S56-S55 -> -31551.297 | V56: =SUM(F56:K56)-P56 -> 49435.008 | W56: =V56/S56 -> 0.87722257 | X56: =SUM(L56:M56) -> 6919 | Y56: =X56/S56 -> 0.12277743
A57: 34754 | B57: Feb | C57: =IF(WEEKDAY(A57)=1,"Sun",IF(WEEKDAY(A57)=2,"Mon",IF(WEEKDAY(A57)=3,"Tue",IF(WEEKDAY(A57)=4,"Wed",IF(WEEKDAY(A57)=5,"Thur",IF(WEEKDAY(A57)=6,"Fri",IF(WEEKDAY(A57)=7,"Sat"))))))) -> Fri | E57: 25 | F57: 24877.818 | G57: 22465.821 | H57: 14739.519 | I57: 3863.151 | J57: 624.6 | K57: 8747.523 | L57: 10588 | O57: =SUM(F57:M57) -> 85906.432 | P57: 2240.232 | Q57: =K57-P57 -> 6507.291 | S57: =O57-P57 -> 83666.2 | T57: =SUM(S57,D57) -> 83666.2 | U57: =S57-S56 -> 27312.192 | V57: =SUM(F57:K57)-P57 -> 73078.2 | W57: =V57/S57 -> 0.87344949 | X57: =SUM(L57:M57) -> 10588 | Y57: =X57/S57 -> 0.12655051
A58: 34755 | B58: Feb | C58: =IF(WEEKDAY(A58)=1,"Sun",IF(WEEKDAY(A58)=2,"Mon",IF(WEEKDAY(A58)=3,"Tue",IF(WEEKDAY(A58)=4,"Wed",IF(WEEKDAY(A58)=5,"Thur",IF(WEEKDAY(A58)=6,"Fri",IF(WEEKDAY(A58)=7,"Sat"))))))) -> Sat | E58: 24 | F58: 23571.072 | G58: 21472.136 | H58: 13874.112 | I58: 3711.988 | J58: 518 | K58: 7777.252 | L58: 10309 | O58: =SUM(F58:M58) -> 81233.56 | P58: 2383.836 | Q58: =K58-P58 -> 5393.416 | S58: =O58-P58 -> 78849.724 | T58: =SUM(S58,D58) -> 78849.724 | U58: =S58-S57 -> -4816.476 | V58: =SUM(F58:K58)-P58 -> 68540.724 | W58: =V58/S58 -> 0.86925763 | X58: =SUM(L58:M58) -> 10309 | Y58: =X58/S58 -> 0.13074237
... A61: 34758 | B61: Feb | C61: =IF(WEEKDAY(A61)=1,"Sun",IF(WEEKDAY(A61)=2,"Mon",IF(WEEKDAY(A61)=3,"Tue",IF(WEEKDAY(A61)=4,"Wed",IF(WEEKDAY(A61)=5,"Thur",IF(WEEKDAY(A61)=6,"Fri",IF(WEEKDAY(A61)=7,"Sat"))))))) -> Tue | E61: 10 | F61: 11839.408 | G61: 19816.608 | H61: 13106.436 | I61: 2722.608 | J61: 518 | K61: 3444.7 | L61: 6960 | O61: =SUM(F61:M61) -> 58407.76 | P61: 2089.612 | Q61: =K61-P61 -> 1355.088 | S61: =O61-P61 -> 56318.148 | T61: =SUM(S61,D61) -> 56318.148 | U61: =S61-S60 -> -20365.816 | V61: =SUM(F61:K61)-P61 -> 49358.148 | W61: =V61/S61 -> 0.87641639 | X61: =SUM(L61:M61) -> 6960 | Y61: =X61/S61 -> 0.12358361
A62: 34759 | B62: Mar | C62: =IF(WEEKDAY(A62)=1,"Sun",IF(WEEKDAY(A62)=2,"Mon",IF(WEEKDAY(A62)=3,"Tue",IF(WEEKDAY(A62)=4,"Wed",IF(WEEKDAY(A62)=5,"Thur",IF(WEEKDAY(A62)=6,"Fri",IF(WEEKDAY(A62)=7,"Sat"))))))) -> Wed | E62: 24 | F62: 26412.386 | G62: 23210.2 | H62: 14977.768 | I62: 3860.493 | J62: 0 | K62: 10083.086 | L62: 11046 | O62: =SUM(F62:M62) -> 89589.933 | P62: 2177.24 | Q62: =K62-P62 -> 7905.846 | S62: =O62-P62 -> 87412.693 | T62: =SUM(S62,D62) -> 87412.693 | U62: =S62-S61 -> 31094.545 | V62: =SUM(F62:K62)-P62 -> 76366.693 | W62: =V62/S62 -> 0.87363391 | X62: =SUM(L62:M62) -> 11046 | Y62: =X62/S62 -> 0.12636609 | AA62: =INTERCEPT(T62:T92,E62:E92) -> 24704.526 | AB62: =SLOPE(T62:T92,E62:E92) -> 2400.5528 | AC62: =RSQ(T62:T92,E62:E92) -> 0.90495408 | AD62: =AA62+(AB62*55) -> 156734.93 | AE62: =SUM(E62:E92) -> 480
A63: 34760 | B63: Mar | C63: =IF(WEEKDAY(A63)=1,"Sun",IF(WEEKDAY(A63)=2,"Mon",IF(WEEKDAY(A63)=3,"Tue",IF(WEEKDAY(A63)=4,"Wed",IF(WEEKDAY(A63)=5,"Thur",IF(WEEKDAY(A63)=6,"Fri",IF(WEEKDAY(A63)=7,"Sat"))))))) -> Thur | E63: 28 | F63: 29202.768 | G63: 24440.276 | H63: 15711.976 | I63: 4196.836 | J63: 0 | K63: 21048.412 | L63: 15852 | O63: =SUM(F63:M63) -> 110452.27 | P63: 10936.016 | Q63: =K63-P63 -> 10112.396 | S63: =O63-P63 -> 99516.252 | T63: =SUM(S63,D63) -> 99516.252 | U63: =S63-S62 -> 12103.559 | V63: =SUM(F63:K63)-P63 -> 83664.252 | W63: =V63/S63 -> 0.84070944 | X63: =SUM(L63:M63) -> 15852 | Y63: =X63/S63 -> 0.15929056
A64: 34761 | B64: Mar | C64: =IF(WEEKDAY(A64)=1,"Sun",IF(WEEKDAY(A64)=2,"Mon",IF(WEEKDAY(A64)=3,"Tue",IF(WEEKDAY(A64)=4,"Wed",IF(WEEKDAY(A64)=5,"Thur",IF(WEEKDAY(A64)=6,"Fri",IF(WEEKDAY(A64)=7,"Sat"))))))) -> Fri | E64: 32 | F64: 33043.538 | G64: 24894.584 | H64: 16039.408 | I64: 4523.75 | J64: 0 | K64: 12579.644 | L64: 18364 | O64: =SUM(F64:M64) -> 109444.92 | P64: 1601.666 | Q64: =K64-P64 -> 10977.978 | S64: =O64-P64 -> 107843.26 | T64: =SUM(S64,D64) -> 107843.26 | U64: =S64-S63 -> 8327.006 | V64: =SUM(F64:K64)-P64 -> 89479.258 | W64: =V64/S64 -> 0.82971583 | X64: =SUM(L64:M64) -> 18364 | Y64: =X64/S64 -> 0.17028417
A65: 34762 | B65: Mar | C65: =IF(WEEKDAY(A65)=1,"Sun",IF(WEEKDAY(A65)=2,"Mon",IF(WEEKDAY(A65)=3,"Tue",IF(WEEKDAY(A65)=4,"Wed",IF(WEEKDAY(A65)=5,"Thur",IF(WEEKDAY(A65)=6,"Fri",IF(WEEKDAY(A65)=7,"Sat"))))))) -> Sat | E65: 26 | F65: 25841.88 | G65: 22492.62 | H65: 14147.415 | I65: 3907.125 | J65: 0 | K65: 10001.205 | L65: 17499 | O65: =SUM(F65:M65) -> 93889.245 | P65: 2409.48 | Q65: =K65-P65 -> 7591.725 | S65: =O65-P65 -> 91479.765 | T65: =SUM(S65,D65) -> 91479.765 | U65: =S65-S64 -> -16363.493 | V65: =SUM(F65:K65)-P65 -> 73980.765 | W65: =V65/S65 -> 0.8087118 | X65: =SUM(L65:M65) -> 17499 | Y65: =X65/S65 -> 0.1912882
A66: 34763 | B66: Mar | C66: =IF(WEEKDAY(A66)=1,"Sun",IF(WEEKDAY(A66)=2,"Mon",IF(WEEKDAY(A66)=3,"Tue",IF(WEEKDAY(A66)=4,"Wed",IF(WEEKDAY(A66)=5,"Thur",IF(WEEKDAY(A66)=6,"Fri",IF(WEEKDAY(A66)=7,"Sat"))))))) -> Sun | E66: 19 | F66: 17331.908 | G66: 21097.736 | H66: 13396.504 | I66: 3432.88 | J66: 0 | K66: 5594.974 | L66: 15867 | O66: =SUM(F66:M66) -> 76721.002 | P66: 2288.242 | Q66: =K66-P66 -> 3306.732 | S66: =O66-P66 -> 74432.76 | T66: =SUM(S66,D66) -> 74432.76 | U66: =S66-S65 -> -17047.005 | V66: =SUM(F66:K66)-P66 -> 58565.76 | W66: =V66/S66 -> 0.78682774 | X66: =SUM(L66:M66) -> 15867 | Y66: =X66/S66 -> 0.21317226
A67: 34764 | B67: Mar | C67: =IF(WEEKDAY(A67)=1,"Sun",IF(WEEKDAY(A67)=2,"Mon",IF(WEEKDAY(A67)=3,"Tue",IF(WEEKDAY(A67)=4,"Wed",IF(WEEKDAY(A67)=5,"Thur",IF(WEEKDAY(A67)=6,"Fri",IF(WEEKDAY(A67)=7,"Sat"))))))) -> Mon | E67: 14 | F67: 13014.09 | G67: 20475.405 | H67: 13429.125 | I67: 2962.17 | J67: 0 | K67: 4572.63 | L67: 7783 | O67: =SUM(F67:M67) -> 62236.42 | P67: 2207.655 | Q67: =K67-P67 -> 2364.975 | S67: =O67-P67 -> 60028.765 | T67: =SUM(S67,D67) -> 60028.765 | U67: =S67-S66 -> -14403.995 | V67: =SUM(F67:K67)-P67 -> 52245.765 | W67: =V67/S67 -> 0.87034549 | X67: =SUM(L67:M67) -> 7783 | Y67: =X67/S67 -> 0.12965451
A68: 34765 | B68: Mar | C68: =IF(WEEKDAY(A68)=1,"Sun",IF(WEEKDAY(A68)=2,"Mon",IF(WEEKDAY(A68)=3,"Tue",IF(WEEKDAY(A68)=4,"Wed",IF(WEEKDAY(A68)=5,"Thur",IF(WEEKDAY(A68)=6,"Fri",IF(WEEKDAY(A68)=7,"Sat"))))))) -> Tue | E68: 3 | F68: 6789.239 | G68: 17758.625 | H68: 12295.709 | I68: 1966.152 | J68: 0 | K68: 2781.234 | L68: 3712 | O68: =SUM(F68:M68) -> 45302.959 | P68: 2153.849 | Q68: =K68-P68 -> 627.385 | S68: =O68-P68 -> 43149.11 | T68: =SUM(S68,D68) -> 43149.11 | U68: =S68-S67 -> -16879.655 | V68: =SUM(F68:K68)-P68 -> 39437.11 | W68: =V68/S68 -> 0.91397273 | X68: =SUM(L68:M68) -> 3712 | Y68: =X68/S68 -> 0.086027267
A69: 34766 | B69: Mar | C69: =IF(WEEKDAY(A69)=1,"Sun",IF(WEEKDAY(A69)=2,"Mon",IF(WEEKDAY(A69)=3,"Tue",IF(WEEKDAY(A69)=4,"Wed",IF(WEEKDAY(A69)=5,"Thur",IF(WEEKDAY(A69)=6,"Fri",IF(WEEKDAY(A69)=7,"Sat"))))))) -> Wed | E69: 17 | F69: 17912.766 | G69: 20970.714 | H69: 14202.954 | I69: 3081.822 | J69: 0 | K69: 5930.094 | L69: 8506 | O69: =SUM(F69:M69) -> 70604.35 | P69: 2273.22 | Q69: =K69-P69 -> 3656.874 | S69: =O69-P69 -> 68331.13 | T69: =SUM(S69,D69) -> 68331.13 | U69: =S69-S68 -> 25182.02 | V69: =SUM(F69:K69)-P69 -> 59825.13 | W69: =V69/S69 -> 0.87551794 | X69: =SUM(L69:M69) -> 8506 | Y69: =X69/S69 -> 0.12448206
A70: 34767 | B70: Mar | C70: =IF(WEEKDAY(A70)=1,"Sun",IF(WEEKDAY(A70)=2,"Mon",IF(WEEKDAY(A70)=3,"Tue",IF(WEEKDAY(A70)=4,"Wed",IF(WEEKDAY(A70)=5,"Thur",IF(WEEKDAY(A70)=6,"Fri",IF(WEEKDAY(A70)=7,"Sat"))))))) -> Thur | E70: 33 | F70: 37159.892 | G70: 25831.388 | H70: 17160.264 | I70: 4895.99 | J70: 0 | K70: 38077.05 | L70: 14620 | O70: =SUM(F70:M70) -> 137744.58 | P70: 25080.704 | Q70: =K70-P70 -> 12996.346 | S70: =O70-P70 -> 112663.88 | T70: =SUM(S70,D70) -> 112663.88 | U70: =S70-S69 -> 44332.75 | V70: =SUM(F70:K70)-P70 -> 98043.88 | W70: =V70/S70 -> 0.87023348 | X70: =SUM(L70:M70) -> 14620 | Y70: =X70/S70 -> 0.12976652
A71: 34768 | B71: Mar | C71: =IF(WEEKDAY(A71)=1,"Sun",IF(WEEKDAY(A71)=2,"Mon",IF(WEEKDAY(A71)=3,"Tue",IF(WEEKDAY(A71)=4,"Wed",IF(WEEKDAY(A71)=5,"Thur",IF(WEEKDAY(A71)=6,"Fri",IF(WEEKDAY(A71)=7,"Sat"))))))) -> Fri | E71: 31 | F71: 32060.204 | G71: 24221.45 | H71: 15774.704 | I71: 4450.336 | J71: 0 | K71: 28382.266 | L71: 13189 | O71: =SUM(F71:M71) -> 118077.96 | P71: 16172.794 | Q71: =K71-P71 -> 12209.472 | S71: =O71-P71 -> 101905.17 | T71: =SUM(S71,D71) -> 101905.17 | U71: =S71-S70 -> -10758.714 | V71: =SUM(F71:K71)-P71 -> 88716.166 | W71: =V71/S71 -> 0.87057575 | X71: =SUM(L71:M71) -> 13189 | Y71: =X71/S71 -> 0.12942425
A72: 34769 | B72: Mar | C72: =IF(WEEKDAY(A72)=1,"Sun",IF(WEEKDAY(A72)=2,"Mon",IF(WEEKDAY(A72)=3,"Tue",IF(WEEKDAY(A72)=4,"Wed",IF(WEEKDAY(A72)=5,"Thur",IF(WEEKDAY(A72)=6,"Fri",IF(WEEKDAY(A72)=7,"Sat"))))))) -> Sat | E72: 17 | F72: 15977.368 | G72: 19699.768 | H72: 13025.298 | I72: 3053.402 | J72: 0 | K72: 4374.854 | L72: 8647 | O72: =SUM(F72:M72) -> 64777.69 | P72: 2323.398 | Q72: =K72-P72 -> 2051.456 | S72: =O72-P72 -> 62454.292 | T72: =SUM(S72,D72) -> 62454.292 | U72: =S72-S71 -> -39450.874 | V72: =SUM(F72:K72)-P72 -> 53807.292 | W72: =V72/S72 -> 0.86154675 | X72: =SUM(L72:M72) -> 8647 | Y72: =X72/S72 -> 0.13845325
A73: 34770 | B73: Mar | C73: =IF(WEEKDAY(A73)=1,"Sun",IF(WEEKDAY(A73)=2,"Mon",IF(WEEKDAY(A73)=3,"Tue",IF(WEEKDAY(A73)=4,"Wed",IF(WEEKDAY(A73)=5,"Thur",IF(WEEKDAY(A73)=6,"Fri",IF(WEEKDAY(A73)=7,"Sat"))))))) -> Sun | E73: 12 | F73: 10376.485 | G73: 18386.367 | H73: 12527.191 | I73: 2403.791 | J73: 0 | K73: 3168.211 | L73: 6038 | O73: =SUM(F73:M73) -> 52900.045 | P73: 2229.214 | Q73: =K73-P73 -> 938.997 | S73: =O73-P73 -> 50670.831 | T73: =SUM(S73,D73) -> 50670.831 | U73: =S73-S72 -> -11783.461 | V73: =SUM(F73:K73)-P73 -> 44632.831 | W73: =V73/S73 -> 0.88083874 | X73: =SUM(L73:M73) -> 6038 | Y73: =X73/S73 -> 0.11916126
A74: 34771 | B74: Mar | C74: =IF(WEEKDAY(A74)=1,"Sun",IF(WEEKDAY(A74)=2,"Mon",IF(WEEKDAY(A74)=3,"Tue",IF(WEEKDAY(A74)=4,"Wed",IF(WEEKDAY(A74)=5,"Thur",IF(WEEKDAY(A74)=6,"Fri",IF(WEEKDAY(A74)=7,"Sat"))))))) -> Mon | E74: 10 | F74: 8508.821 | G74: 18822.293 | H74: 12440.419 | I74: 2312.887 | J74: 0 | K74: 2691.998 | L74: 4989 | O74: =SUM(F74:M74) -> 49765.418 | P74: 2090.792 | Q74: =K74-P74 -> 601.206 | S74: =O74-P74 -> 47674.626 | T74: =SUM(S74,D74) -> 47674.626 | U74: =S74-S73 -> -2996.205 | V74: =SUM(F74:K74)-P74 -> 42685.626 | W74: =V74/S74 -> 0.89535314 | X74: =SUM(L74:M74) -> 4989 | Y74: =X74/S74 -> 0.10464686
... A92: 34789 | B92: Mar | C92: =IF(WEEKDAY(A92)=1,"Sun",IF(WEEKDAY(A92)=2,"Mon",IF(WEEKDAY(A92)=3,"Tue",IF(WEEKDAY(A92)=4,"Wed",IF(WEEKDAY(A92)=5,"Thur",IF(WEEKDAY(A92)=6,"Fri",IF(WEEKDAY(A92)=7,"Sat"))))))) -> Fri | E92: 15 | F92: 20664.768 | G92: 16023.864 | H92: 11763.768 | I92: 3297.24 | J92: 0 | K92: 2078.448 | L92: 2759 | O92: =SUM(F92:M92) -> 56587.088 | P92: 1966.992 | Q92: =K92-P92 -> 111.456 | S92: =O92-P92 -> 54620.096 | T92: =SUM(S92,D92) -> 54620.096 | U92: =S92-S91 -> 684.817 | V92: =SUM(F92:K92)-P92 -> 51861.096 | W92: =V92/S92 -> 0.94948746 | X92: =SUM(L92:M92) -> 2759 | Y92: =X92/S92 -> 0.050512544
A93: 34790 | B93: Apr | C93: =IF(WEEKDAY(A93)=1,"Sun",IF(WEEKDAY(A93)=2,"Mon",IF(WEEKDAY(A93)=3,"Tue",IF(WEEKDAY(A93)=4,"Wed",IF(WEEKDAY(A93)=5,"Thur",IF(WEEKDAY(A93)=6,"Fri",IF(WEEKDAY(A93)=7,"Sat"))))))) -> Sat | E93: 18 | F93: 19266.423 | G93: 14584.368 | H93: 10542.142 | I93: 3094.408 | J93: 0 | K93: 2125.85 | L93: 1831 | O93: =SUM(F93:M93) -> 51444.191 | P93: 2023.187 | Q93: =K93-P93 -> 102.663 | S93: =O93-P93 -> 49421.004 | T93: =SUM(S93,D93) -> 49421.004 | U93: =S93-S92 -> -5199.092 | V93: =SUM(F93:K93)-P93 -> 47590.004 | W93: =V93/S93 -> 0.96295098 | X93: =SUM(L93:M93) -> 1831 | Y93: =X93/S93 -> 0.037049025 | AA93: =INTERCEPT(S93:S122,E93:E122) -> 28938.33 | AB93: =SLOPE($S$93:$S$122,$E$93:$E$122) -> 1487.6057 | AC93: =RSQ($S$93:$S$122,$E$93:$E$122) -> 0.80972563 | AD93: =AA93+(55*AB93) -> 110756.64 | AE93: =SUM(E93:E122) -> 247
A94: 34791 | B94: Apr | C94: =IF(WEEKDAY(A94)=1,"Sun",IF(WEEKDAY(A94)=2,"Mon",IF(WEEKDAY(A94)=3,"Tue",IF(WEEKDAY(A94)=4,"Wed",IF(WEEKDAY(A94)=5,"Thur",IF(WEEKDAY(A94)=6,"Fri",IF(WEEKDAY(A94)=7,"Sat"))))))) -> Sun | E94: 21 | F94: 23354.22 | G94: 16558.28 | H94: 11954.18 | I94: 3507.15 | J94: 0 | K94: 2394.75 | L94: 3084 | O94: =SUM(F94:M94) -> 60852.58 | P94: 2294.84 | Q94: =K94-P94 -> 99.91 | S94: =O94-P94 -> 58557.74 | T94: =SUM(S94,D94) -> 58557.74 | U94: =S94-S93 -> 9136.736 | V94: =SUM(F94:K94)-P94 -> 55473.74 | W94: =V94/S94 -> 0.94733403 | X94: =SUM(L94:M94) -> 3084 | Y94: =X94/S94 -> 0.052665967
A95: 34792 | B95: Apr | C95: =IF(WEEKDAY(A95)=1,"Sun",IF(WEEKDAY(A95)=2,"Mon",IF(WEEKDAY(A95)=3,"Tue",IF(WEEKDAY(A95)=4,"Wed",IF(WEEKDAY(A95)=5,"Thur",IF(WEEKDAY(A95)=6,"Fri",IF(WEEKDAY(A95)=7,"Sat"))))))) -> Mon | E95: 8 | F95: 17903.116 | G95: 17455.564 | H95: 11973.052 | I95: 184.408 | J95: 0 | K95: 2255.372 | L95: 2359 | O95: =SUM(F95:M95) -> 52130.512 | P95: 2140.376 | Q95: =K95-P95 -> 114.996 | S95: =O95-P95 -> 49990.136 | T95: =SUM(S95,D95) -> 49990.136 | U95: =S95-S94 -> -8567.604 | V95: =SUM(F95:K95)-P95 -> 47631.136 | W95: =V95/S95 -> 0.95281069 | X95: =SUM(L95:M95) -> 2359 | Y95: =X95/S95 -> 0.04718931
A96: 34793 | B96: Apr | C96: =IF(WEEKDAY(A96)=1,"Sun",IF(WEEKDAY(A96)=2,"Mon",IF(WEEKDAY(A96)=3,"Tue",IF(WEEKDAY(A96)=4,"Wed",IF(WEEKDAY(A96)=5,"Thur",IF(WEEKDAY(A96)=6,"Fri",IF(WEEKDAY(A96)=7,"Sat"))))))) -> Tue | E96: 10 | F96: 18395.055 | G96: 17571.195 | H96: 12020.49 | I96: 0 | J96: 0 | K96: 2284.245 | L96: 2379 | O96: =SUM(F96:M96) -> 52649.985 | P96: 2175.57 | Q96: =K96-P96 -> 108.675 | S96: =O96-P96 -> 50474.415 | T96: =SUM(S96,D96) -> 50474.415 | U96: =S96-S95 -> 484.279 | V96: =SUM(F96:K96)-P96 -> 48095.415 | W96: =V96/S96 -> 0.95286721 | X96: =SUM(L96:M96) -> 2379 | Y96: =X96/S96 -> 0.04713279
A97: 34794 | B97: Apr | C97: =IF(WEEKDAY(A97)=1,"Sun",IF(WEEKDAY(A97)=2,"Mon",IF(WEEKDAY(A97)=3,"Tue",IF(WEEKDAY(A97)=4,"Wed",IF(WEEKDAY(A97)=5,"Thur",IF(WEEKDAY(A97)=6,"Fri",IF(WEEKDAY(A97)=7,"Sat"))))))) -> Wed | E97: 23 | F97: 27358.566 | G97: 19977.348 | H97: 14227.866 | I97: 2268.03 | J97: 0 | K97: 2226.51 | L97: 6597 | O97: =SUM(F97:M97) -> 72655.32 | P97: 2131.014 | Q97: =K97-P97 -> 95.496 | S97: =O97-P97 -> 70524.306 | T97: =SUM(S97,D97) -> 70524.306 | U97: =S97-S96 -> 20049.891 | V97: =SUM(F97:K97)-P97 -> 63927.306 | W97: =V97/S97 -> 0.90645778 | X97: =SUM(L97:M97) -> 6597 | Y97: =X97/S97 -> 0.093542218
A98: 34795 | B98: Apr | C98: =IF(WEEKDAY(A98)=1,"Sun",IF(WEEKDAY(A98)=2,"Mon",IF(WEEKDAY(A98)=3,"Tue",IF(WEEKDAY(A98)=4,"Wed",IF(WEEKDAY(A98)=5,"Thur",IF(WEEKDAY(A98)=6,"Fri",IF(WEEKDAY(A98)=7,"Sat"))))))) -> Thur | E98: 13 | F98: 19489.866 | G98: 16989.654 | H98: 12157.772 | I98: 2315.126 | J98: 0 | K98: 2202.42 | L98: 3367 | O98: =SUM(F98:M98) -> 56521.838 | P98: 2121.768 | Q98: =K98-P98 -> 80.652 | S98: =O98-P98 -> 54400.07 | T98: =SUM(S98,D98) -> 54400.07 | U98: =S98-S97 -> -16124.236 | V98: =SUM(F98:K98)-P98 -> 51033.07 | W98: =V98/S98 -> 0.9381067 | X98: =SUM(L98:M98) -> 3367 | Y98: =X98/S98 -> 0.061893303
A99: 34796 | B99: Apr | C99: =IF(WEEKDAY(A99)=1,"Sun",IF(WEEKDAY(A99)=2,"Mon",IF(WEEKDAY(A99)=3,"Tue",IF(WEEKDAY(A99)=4,"Wed",IF(WEEKDAY(A99)=5,"Thur",IF(WEEKDAY(A99)=6,"Fri",IF(WEEKDAY(A99)=7,"Sat"))))))) -> Fri | E99: 5 | F99: 10487.181 | G99: 14073.127 | H99: 10049.567 | I99: 1395.802 | J99: 0 | K99: 2521.984 | L99: 734 | O99: =SUM(F99:M99) -> 39261.661 | P99: 2390.285 | Q99: =K99-P99 -> 131.699 | S99: =O99-P99 -> 36871.376 | T99: =SUM(S99,D99) -> 36871.376 | U99: =S99-S98 -> -17528.694 | V99: =SUM(F99:K99)-P99 -> 36137.376 | W99: =V99/S99 -> 0.98009296 | X99: =SUM(L99:M99) -> 734 | Y99: =X99/S99 -> 0.019907041
A100: 34797 | B100: Apr | C100: =IF(WEEKDAY(A100)=1,"Sun",IF(WEEKDAY(A100)=2,"Mon",IF(WEEKDAY(A100)=3,"Tue",IF(WEEKDAY(A100)=4,"Wed",IF(WEEKDAY(A100)=5,"Thur",IF(WEEKDAY(A100)=6,"Fri",IF(WEEKDAY(A100)=7,"Sat"))))))) -> Sat | E100: 0 | F100: 5975.055 | G100: 11897.325 | H100: 8496.315 | I100: 802.125 | J100: 0 | K100: 2006.865 | L100: 219 | O100: =SUM(F100:M100) -> 29396.685 | P100: 1884.735 | Q100: =K100-P100 -> 122.13 | S100: =O100-P100 -> 27511.95 | T100: =SUM(S100,D100) -> 27511.95 | U100: =S100-S99 -> -9359.426 | V100: =SUM(F100:K100)-P100 -> 27292.95 | W100: =V100/S100 -> 0.99203982 | X100: =SUM(L100:M100) -> 219 | Y100: =X100/S100 -> 0.0079601773
A101: 34798 | B101: Apr | C101: =IF(WEEKDAY(A101)=1,"Sun",IF(WEEKDAY(A101)=2,"Mon",IF(WEEKDAY(A101)=3,"Tue",IF(WEEKDAY(A101)=4,"Wed",IF(WEEKDAY(A101)=5,"Thur",IF(WEEKDAY(A101)=6,"Fri",IF(WEEKDAY(A101)=7,"Sat"))))))) -> Sun | E101: 0 | F101: 5568.3 | G101: 12046.365 | H101: 8746.785 | I101: 735.885 | J101: 0 | K101: 2072.07 | L101: 110 | O101: =SUM(F101:M101) -> 29279.405 | P101: 1984.095 | Q101: =K101-P101 -> 87.975 | S101: =O101-P101 -> 27295.31 | T101: =SUM(S101,D101) -> 27295.31 | U101: =S101-S100 -> -216.64 | V101: =SUM(F101:K101)-P101 -> 27185.31 | W101: =V101/S101 -> 0.99597 | X101: =SUM(L101:M101) -> 110 | Y101: =X101/S101 -> 0.0040299964
A102: 34799 | B102: Apr | C102: =IF(WEEKDAY(A102)=1,"Sun",IF(WEEKDAY(A102)=2,"Mon",IF(WEEKDAY(A102)=3,"Tue",IF(WEEKDAY(A102)=4,"Wed",IF(WEEKDAY(A102)=5,"Thur",IF(WEEKDAY(A102)=6,"Fri",IF(WEEKDAY(A102)=7,"Sat"))))))) -> Mon | E102: 17 | F102: 18863.91 | G102: 17120.97 | H102: 12452.085 | I102: 2257.335 | J102: 0 | K102: 1842.3 | L102: 2491 | O102: =SUM(F102:M102) -> 55027.6 | P102: 1746.045 | Q102: =K102-P102 -> 96.255 | S102: =O102-P102 -> 53281.555 | T102: =SUM(S102,D102) -> 53281.555 | U102: =S102-S101 -> 25986.245 | V102: =SUM(F102:K102)-P102 -> 50790.555 | W102: =V102/S102 -> 0.95324836 | X102: =SUM(L102:M102) -> 2491 | Y102: =X102/S102 -> 0.046751639
A103: 34800 | B103: Apr | C103: =IF(WEEKDAY(A103)=1,"Sun",IF(WEEKDAY(A103)=2,"Mon",IF(WEEKDAY(A103)=3,"Tue",IF(WEEKDAY(A103)=4,"Wed",IF(WEEKDAY(A103)=5,"Thur",IF(WEEKDAY(A103)=6,"Fri",IF(WEEKDAY(A103)=7,"Sat"))))))) -> Tue | E103: 10 | F103: 17524.62 | G103: 16503.075 | H103: 11740.005 | I103: 2133.135 | J103: 0 | K103: 2108.295 | L103: 2538 | O103: =SUM(F103:M103) -> 52547.13 | P103: 2014.11 | Q103: =K103-P103 -> 94.185 | S103: =O103-P103 -> 50533.02 | T103: =SUM(S103,D103) -> 50533.02 | U103: =S103-S102 -> -2748.535 | V103: =SUM(F103:K103)-P103 -> 47995.02 | W103: =V103/S103 -> 0.94977541 | X103: =SUM(L103:M103) -> 2538 | Y103: =X103/S103 -> 0.050224586
A104: 34801 | B104: Apr | C104: =IF(WEEKDAY(A104)=1,"Sun",IF(WEEKDAY(A104)=2,"Mon",IF(WEEKDAY(A104)=3,"Tue",IF(WEEKDAY(A104)=4,"Wed",IF(WEEKDAY(A104)=5,"Thur",IF(WEEKDAY(A104)=6,"Fri",IF(WEEKDAY(A104)=7,"Sat"))))))) -> Wed | E104: 2 | F104: 10523.88 | G104: 14261.265 | H104: 10272.375 | I104: 1485.225 | J104: 0 | K104: 2173.5 | L104: 765 | O104: =SUM(F104:M104) -> 39481.245 | P104: 2064.825 | Q104: =K104-P104 -> 108.675 | S104: =O104-P104 -> 37416.42 | T104: =SUM(S104,D104) -> 37416.42 | U104: =S104-S103 -> -13116.6 | V104: =SUM(F104:K104)-P104 -> 36651.42 | W104: =V104/S104 -> 0.97955443 | X104: =SUM(L104:M104) -> 765 | Y104: =X104/S104 -> 0.020445569
A105: 34802 | B105: Apr | C105: =IF(WEEKDAY(A105)=1,"Sun",IF(WEEKDAY(A105)=2,"Mon",IF(WEEKDAY(A105)=3,"Tue",IF(WEEKDAY(A105)=4,"Wed",IF(WEEKDAY(A105)=5,"Thur",IF(WEEKDAY(A105)=6,"Fri",IF(WEEKDAY(A105)=7,"Sat"))))))) -> Thur | E105: 8 | F105: 12155.04 | G105: 14234.355 | H105: 10047.78 | I105: 2271.825 | J105: 0 | K105: 2257.335 | L105: 1549 | O105: =SUM(F105:M105) -> 42515.335 | P105: 2149.695 | Q105: =K105-P105 -> 107.64 | S105: =O105-P105 -> 40365.64 | T105: =SUM(S105,D105) -> 40365.64 | U105: =S105-S104 -> 2949.22 | V105: =SUM(F105:K105)-P105 -> 38816.64 | W105: =V105/S105 -> 0.96162578 | X105: =SUM(L105:M105) -> 1549 | Y105: =X105/S105 -> 0.038374221
... A122: 34819 | B122: Apr | C122: =IF(WEEKDAY(A122)=1,"Sun",IF(WEEKDAY(A122)=2,"Mon",IF(WEEKDAY(A122)=3,"Tue",IF(WEEKDAY(A122)=4,"Wed",IF(WEEKDAY(A122)=5,"Thur",IF(WEEKDAY(A122)=6,"Fri",IF(WEEKDAY(A122)=7,"Sat"))))))) -> Sun | E122: 7 | F122: 12101.25 | G122: 12748.05 | H122: 9486.75 | I122: 2493.75 | J122: 0 | K122: 2143.05 | L122: 0 | O122: =SUM(F122:M122) -> 38972.85 | P122: 2031.75 | Q122: =K122-P122 -> 111.3 | S122: =O122-P122 -> 36941.1 | T122: =SUM(S122,D122) -> 36941.1 | U122: =S122-S121 -> 10472.763 | V122: =SUM(F122:K122)-P122 -> 36941.1 | W122: =V122/S122 -> 1 | X122: =SUM(L122:M122) -> 0 | Y122: =X122/S122 -> 0
A123: 34820 | B123: May | C123: =IF(WEEKDAY(A123)=1,"Sun",IF(WEEKDAY(A123)=2,"Mon",IF(WEEKDAY(A123)=3,"Tue",IF(WEEKDAY(A123)=4,"Wed",IF(WEEKDAY(A123)=5,"Thur",IF(WEEKDAY(A123)=6,"Fri",IF(WEEKDAY(A123)=7,"Sat"))))))) -> Mon | E123: 11 | F123: 16329.208 | G123: 14953.491 | H123: 10944.199 | I123: 2782.724 | J123: 0 | K123: 2058.882 | L123: 0 | O123: =SUM(F123:M123) -> 47068.504 | P123: 1953.539 | Q123: =K123-P123 -> 105.343 | S123: =O123-P123 -> 45114.965 | T123: =SUM(S123,D123) -> 45114.965 | U123: =S123-S122 -> 8173.865 | V123: =SUM(F123:K123)-P123 -> 45114.965 | W123: =V123/S123 -> 1 | X123: =SUM(L123:M123) -> 0 | Y123: =X123/S123 -> 0 | AA123: =INTERCEPT(S123:S153,E123:E153) -> 25607.64 | AB123: =SLOPE(S123:S153,E123:E153) -> 1748.925 | AC123: =RSQ(S123:S153,E123:E153) -> 0.75465046 | AD123: =AA123+(55*AB123) -> 121798.52 | AE123: =SUM(E123:E153) -> 71
A124: 34821 | B124: May | C124: =IF(WEEKDAY(A124)=1,"Sun",IF(WEEKDAY(A124)=2,"Mon",IF(WEEKDAY(A124)=3,"Tue",IF(WEEKDAY(A124)=4,"Wed",IF(WEEKDAY(A124)=5,"Thur",IF(WEEKDAY(A124)=6,"Fri",IF(WEEKDAY(A124)=7,"Sat"))))))) -> Tue | E124: 17 | F124: 25768.428 | G124: 17726.996 | H124: 12700.324 | I124: 3514.112 | J124: 0 | K124: 2034.704 | L124: 0 | O124: =SUM(F124:M124) -> 61744.564 | P124: 1944.572 | Q124: =K124-P124 -> 90.132 | S124: =O124-P124 -> 59799.992 | T124: =SUM(S124,D124) -> 59799.992 | U124: =S124-S123 -> 14685.027 | V124: =SUM(F124:K124)-P124 -> 59799.992 | W124: =V124/S124 -> 1 | X124: =SUM(L124:M124) -> 0 | Y124: =X124/S124 -> 0
A125: 34822 | B125: May | C125: =IF(WEEKDAY(A125)=1,"Sun",IF(WEEKDAY(A125)=2,"Mon",IF(WEEKDAY(A125)=3,"Tue",IF(WEEKDAY(A125)=4,"Wed",IF(WEEKDAY(A125)=5,"Thur",IF(WEEKDAY(A125)=6,"Fri",IF(WEEKDAY(A125)=7,"Sat"))))))) -> Wed | E125: 8 | F125: 15246.144 | G125: 15090.444 | H125: 10314.606 | I125: 2759.004 | J125: 0 | K125: 1140.762 | L125: 0 | O125: =SUM(F125:M125) -> 44550.96 | P125: 1051.494 | Q125: =K125-P125 -> 89.268 | S125: =O125-P125 -> 43499.466 | T125: =SUM(S125,D125) -> 43499.466 | U125: =S125-S124 -> -16300.526 | V125: =SUM(F125:K125)-P125 -> 43499.466 | W125: =V125/S125 -> 1 | X125: =SUM(L125:M125) -> 0 | Y125: =X125/S125 -> 0
A126: 34823 | B126: May | C126: =IF(WEEKDAY(A126)=1,"Sun",IF(WEEKDAY(A126)=2,"Mon",IF(WEEKDAY(A126)=3,"Tue",IF(WEEKDAY(A126)=4,"Wed",IF(WEEKDAY(A126)=5,"Thur",IF(WEEKDAY(A126)=6,"Fri",IF(WEEKDAY(A126)=7,"Sat"))))))) -> Thur | E126: 4 | F126: 11563.587 | G126: 13578.478 | H126: 9504.105 | I126: 2426.58 | J126: 0 | K126: 755.973 | L126: 0 | O126: =SUM(F126:M126) -> 37828.723 | P126: 675.087 | Q126: =K126-P126 -> 80.886 | S126: =O126-P126 -> 37153.636 | T126: =SUM(S126,D126) -> 37153.636 | U126: =S126-S125 -> -6345.83 | V126: =SUM(F126:K126)-P126 -> 37153.636 | W126: =V126/S126 -> 1 | X126: =SUM(L126:M126) -> 0 | Y126: =X126/S126 -> 0
A127: 34824 | B127: May | C127: =IF(WEEKDAY(A127)=1,"Sun",IF(WEEKDAY(A127)=2,"Mon",IF(WEEKDAY(A127)=3,"Tue",IF(WEEKDAY(A127)=4,"Wed",IF(WEEKDAY(A127)=5,"Thur",IF(WEEKDAY(A127)=6,"Fri",IF(WEEKDAY(A127)=7,"Sat"))))))) -> Fri | E127: 5 | F127: 10186.8 | G127: 12528.88 | H127: 9024.08 | I127: 2176.72 | J127: 0 | K127: 2147.6 | L127: 0 | O127: =SUM(F127:M127) -> 36064.08 | P127: 2040.48 | Q127: =K127-P127 -> 107.12 | S127: =O127-P127 -> 34023.6 | T127: =SUM(S127,D127) -> 34023.6 | U127: =S127-S126 -> -3130.036 | V127: =SUM(F127:K127)-P127 -> 34023.6 | W127: =V127/S127 -> 1 | X127: =SUM(L127:M127) -> 0 | Y127: =X127/S127 -> 0
A128: 34825 | B128: May | C128: =IF(WEEKDAY(A128)=1,"Sun",IF(WEEKDAY(A128)=2,"Mon",IF(WEEKDAY(A128)=3,"Tue",IF(WEEKDAY(A128)=4,"Wed",IF(WEEKDAY(A128)=5,"Thur",IF(WEEKDAY(A128)=6,"Fri",IF(WEEKDAY(A128)=7,"Sat"))))))) -> Sat | E128: 7 | F128: 7557.516 | G128: 11587.356 | H128: 7769.448 | I128: 2021.184 | J128: 0 | K128: 2198.664 | L128: 0 | O128: =SUM(F128:M128) -> 31134.168 | P128: 2074.428 | Q128: =K128-P128 -> 124.236 | S128: =O128-P128 -> 29059.74 | T128: =SUM(S128,D128) -> 29059.74 | U128: =S128-S127 -> -4963.86 | V128: =SUM(F128:K128)-P128 -> 29059.74 | W128: =V128/S128 -> 1 | X128: =SUM(L128:M128) -> 0 | Y128: =X128/S128 -> 0
A129: 34826 | B129: May | C129: =IF(WEEKDAY(A129)=1,"Sun",IF(WEEKDAY(A129)=2,"Mon",IF(WEEKDAY(A129)=3,"Tue",IF(WEEKDAY(A129)=4,"Wed",IF(WEEKDAY(A129)=5,"Thur",IF(WEEKDAY(A129)=6,"Fri",IF(WEEKDAY(A129)=7,"Sat"))))))) -> Sun | E129: 5 | F129: 8035.668 | G129: 12094.74 | H129: 8157.816 | I129: 2216.412 | J129: 0 | K129: 2140.2 | L129: 0 | O129: =SUM(F129:M129) -> 32644.836 | P129: 2038.932 | Q129: =K129-P129 -> 101.268 | S129: =O129-P129 -> 30605.904 | T129: =SUM(S129,D129) -> 30605.904 | U129: =S129-S128 -> 1546.164 | V129: =SUM(F129:K129)-P129 -> 30605.904 | W129: =V129/S129 -> 1 | X129: =SUM(L129:M129) -> 0 | Y129: =X129/S129 -> 0
A130: 34827 | B130: May | C130: =IF(WEEKDAY(A130)=1,"Sun",IF(WEEKDAY(A130)=2,"Mon",IF(WEEKDAY(A130)=3,"Tue",IF(WEEKDAY(A130)=4,"Wed",IF(WEEKDAY(A130)=5,"Thur",IF(WEEKDAY(A130)=6,"Fri",IF(WEEKDAY(A130)=7,"Sat"))))))) -> Mon | E130: 7 | F130: 10304.574 | G130: 13758.627 | H130: 9854.364 | I130: 2452.074 | J130: 0 | K130: 2000.817 | L130: 0 | O130: =SUM(F130:M130) -> 38370.456 | P130: 1914.963 | Q130: =K130-P130 -> 85.854 | S130: =O130-P130 -> 36455.493 | T130: =SUM(S130,D130) -> 36455.493 | U130: =S130-S129 -> 5849.589 | V130: =SUM(F130:K130)-P130 -> 36455.493 | W130: =V130/S130 -> 1 | X130: =SUM(L130:M130) -> 0 | Y130: =X130/S130 -> 0
A131: 34828 | B131: May | C131: =IF(WEEKDAY(A131)=1,"Sun",IF(WEEKDAY(A131)=2,"Mon",IF(WEEKDAY(A131)=3,"Tue",IF(WEEKDAY(A131)=4,"Wed",IF(WEEKDAY(A131)=5,"Thur",IF(WEEKDAY(A131)=6,"Fri",IF(WEEKDAY(A131)=7,"Sat"))))))) -> Tue | E131: 0 | F131: 7933.91 | G131: 12965.17 | H131: 9037.44 | I131: 2143.254 | J131: 0 | K131: 2180.91 | L131: 0 | O131: =SUM(F131:M131) -> 34260.684 | P131: 2078.402 | Q131: =K131-P131 -> 102.508 | S131: =O131-P131 -> 32182.282 | T131: =SUM(S131,D131) -> 32182.282 | U131: =S131-S130 -> -4273.211 | V131: =SUM(F131:K131)-P131 -> 32182.282 | W131: =V131/S131 -> 1 | X131: =SUM(L131:M131) -> 0 | Y131: =X131/S131 -> 0
A132: 34829 | B132: May | C132: =IF(WEEKDAY(A132)=1,"Sun",IF(WEEKDAY(A132)=2,"Mon",IF(WEEKDAY(A132)=3,"Tue",IF(WEEKDAY(A132)=4,"Wed",IF(WEEKDAY(A132)=5,"Thur",IF(WEEKDAY(A132)=6,"Fri",IF(WEEKDAY(A132)=7,"Sat"))))))) -> Wed | E132: 0 | F132: 6020.245 | G132: 11965.25 | H132: 8515.705 | I132: 1951.015 | J132: 0 | K132: 2160.015 | L132: 0 | O132: =SUM(F132:M132) -> 30612.23 | P132: 2076.415 | Q132: =K132-P132 -> 83.6 | S132: =O132-P132 -> 28535.815 | T132: =SUM(S132,D132) -> 28535.815 | U132: =S132-S131 -> -3646.467 | V132: =SUM(F132:K132)-P132 -> 28535.815 | W132: =V132/S132 -> 1 | X132: =SUM(L132:M132) -> 0 | Y132: =X132/S132 -> 0
A133: 34830 | B133: May | C133: =IF(WEEKDAY(A133)=1,"Sun",IF(WEEKDAY(A133)=2,"Mon",IF(WEEKDAY(A133)=3,"Tue",IF(WEEKDAY(A133)=4,"Wed",IF(WEEKDAY(A133)=5,"Thur",IF(WEEKDAY(A133)=6,"Fri",IF(WEEKDAY(A133)=7,"Sat"))))))) -> Thur | E133: 0 | F133: 6257.897 | G133: 11965.124 | H133: 8610.193 | I133: 2014.621 | J133: 0 | K133: 1741.364 | L133: 0 | O133: =SUM(F133:M133) -> 30589.199 | P133: 1654.088 | Q133: =K133-P133 -> 87.276 | S133: =O133-P133 -> 28935.111 | T133: =SUM(S133,D133) -> 28935.111 | U133: =S133-S132 -> 399.296 | V133: =SUM(F133:K133)-P133 -> 28935.111 | W133: =V133/S133 -> 1 | X133: =SUM(L133:M133) -> 0 | Y133: =X133/S133 -> 0
A134: 34831 | B134: May | C134: =IF(WEEKDAY(A134)=1,"Sun",IF(WEEKDAY(A134)=2,"Mon",IF(WEEKDAY(A134)=3,"Tue",IF(WEEKDAY(A134)=4,"Wed",IF(WEEKDAY(A134)=5,"Thur",IF(WEEKDAY(A134)=6,"Fri",IF(WEEKDAY(A134)=7,"Sat"))))))) -> Fri | E134: 3 | F134: 6089.579 | G134: 11587.967 | H134: 8364.989 | I134: 1911.76 | J134: 0 | K134: 1926.306 | L134: 0 | O134: =SUM(F134:M134) -> 29880.601 | P134: 1817.211 | Q134: =K134-P134 -> 109.095 | S134: =O134-P134 -> 28063.39 | T134: =SUM(S134,D134) -> 28063.39 | U134: =S134-S133 -> -871.721 | V134: =SUM(F134:K134)-P134 -> 28063.39 | W134: =V134/S134 -> 1 | X134: =SUM(L134:M134) -> 0 | Y134: =X134/S134 -> 0
A135: 34832 | B135: May | C135: =IF(WEEKDAY(A135)=1,"Sun",IF(WEEKDAY(A135)=2,"Mon",IF(WEEKDAY(A135)=3,"Tue",IF(WEEKDAY(A135)=4,"Wed",IF(WEEKDAY(A135)=5,"Thur",IF(WEEKDAY(A135)=6,"Fri",IF(WEEKDAY(A135)=7,"Sat"))))))) -> Sat | E135: 0 | F135: 3464.682 | G135: 9495.336 | H135: 6154.614 | I135: 1456.53 | J135: 0 | K135: 1885.225 | L135: 0 | O135: =SUM(F135:M135) -> 22456.387 | P135: 1793.288 | Q135: =K135-P135 -> 91.937 | S135: =O135-P135 -> 20663.099 | T135: =SUM(S135,D135) -> 20663.099 | U135: =S135-S134 -> -7400.291 | V135: =SUM(F135:K135)-P135 -> 20663.099 | W135: =V135/S135 -> 1 | X135: =SUM(L135:M135) -> 0 | Y135: =X135/S135 -> 0
... A275: 34972 | B275: Sep | C275: =IF(WEEKDAY(A275)=1,"Sun",IF(WEEKDAY(A275)=2,"Mon",IF(WEEKDAY(A275)=3,"Tue",IF(WEEKDAY(A275)=4,"Wed",IF(WEEKDAY(A275)=5,"Thur",IF(WEEKDAY(A275)=6,"Fri",IF(WEEKDAY(A275)=7,"Sat"))))))) -> Sat | E275: 2 | F275: 3545.068 | G275: 9330.22 | H275: 5080.71 | I275: 2390.739 | J275: 0 | K275: 1538.759 | L275: 4696 | O275: =SUM(F275:M275) -> 26581.496 | P275: 1632.269 | Q275: =K275-P275 -> -93.51 | S275: =O275-P275 -> 24949.227 | T275: =SUM(S275,D275) -> 24949.227 | U275: =S275-S274 -> -4219.179 | V275: =SUM(F275:K275)-P275 -> 20253.227 | W275: =V275/S275 -> 0.81177774 | X275: =SUM(L275:M275) -> 4696 | Y275: =X275/S275 -> 0.18822226
A276: 34973 | B276: Oct | C276: =IF(WEEKDAY(A276)=1,"Sun",IF(WEEKDAY(A276)=2,"Mon",IF(WEEKDAY(A276)=3,"Tue",IF(WEEKDAY(A276)=4,"Wed",IF(WEEKDAY(A276)=5,"Thur",IF(WEEKDAY(A276)=6,"Fri",IF(WEEKDAY(A276)=7,"Sat"))))))) -> Sun | E276: 2 | F276: 3556.135 | G276: 9685.06 | H276: 5675.395 | I276: 2474.56 | J276: 0 | K276: 1310.43 | L276: 4837 | O276: =SUM(F276:M276) -> 27538.58 | P276: 1356.41 | Q276: =K276-P276 -> -45.98 | S276: =O276-P276 -> 26182.17 | T276: =SUM(S276,D276) -> 26182.17 | U276: =S276-S275 -> 1232.943 | V276: =SUM(F276:K276)-P276 -> 21345.17 | W276: =V276/S276 -> 0.81525595 | X276: =SUM(L276:M276) -> 4837 | Y276: =X276/S276 -> 0.18474405 | AA276: =INTERCEPT(T276:T306,E276:E306) -> 27908.995 | AB276: =SLOPE(T276:T306,E276:E306) -> 1208.0819 | AC276: =RSQ(T276:T306,E276:E306) -> 0.72561918 | AD276: =AA276+(AB276*55) -> 94353.498 | AE276: =SUM(E276:E306) -> 189
A277: 34974 | B277: Oct | C277: =IF(WEEKDAY(A277)=1,"Sun",IF(WEEKDAY(A277)=2,"Mon",IF(WEEKDAY(A277)=3,"Tue",IF(WEEKDAY(A277)=4,"Wed",IF(WEEKDAY(A277)=5,"Thur",IF(WEEKDAY(A277)=6,"Fri",IF(WEEKDAY(A277)=7,"Sat"))))))) -> Mon | E277: 0 | F277: 4545.402 | G277: 10303.188 | H277: 6855.99 | I277: 2539.986 | J277: 0 | K277: 1888.122 | L277: 5105 | O277: =SUM(F277:M277) -> 31237.688 | P277: 1920.3 | Q277: =K277-P277 -> -32.178 | S277: =O277-P277 -> 29317.388 | T277: =SUM(S277,D277) -> 29317.388 | U277: =S277-S276 -> 3135.218 | V277: =SUM(F277:K277)-P277 -> 24212.388 | W277: =V277/S277 -> 0.82587125 | X277: =SUM(L277:M277) -> 5105 | Y277: =X277/S277 -> 0.17412875
A278: 34975 | B278: Oct | C278: =IF(WEEKDAY(A278)=1,"Sun",IF(WEEKDAY(A278)=2,"Mon",IF(WEEKDAY(A278)=3,"Tue",IF(WEEKDAY(A278)=4,"Wed",IF(WEEKDAY(A278)=5,"Thur",IF(WEEKDAY(A278)=6,"Fri",IF(WEEKDAY(A278)=7,"Sat"))))))) -> Tue | E278: 0 | F278: 4329.444 | G278: 9956.996 | H278: 6658.372 | I278: 2449.104 | J278: 0 | K278: 1813 | L278: 4802 | O278: =SUM(F278:M278) -> 30008.916 | P278: 1848.224 | Q278: =K278-P278 -> -35.224 | S278: =O278-P278 -> 28160.692 | T278: =SUM(S278,D278) -> 28160.692 | U278: =S278-S277 -> -1156.696 | V278: =SUM(F278:K278)-P278 -> 23358.692 | W278: =V278/S278 -> 0.82947862 | X278: =SUM(L278:M278) -> 4802 | Y278: =X278/S278 -> 0.17052138
A279: 34976 | B279: Oct | C279: =IF(WEEKDAY(A279)=1,"Sun",IF(WEEKDAY(A279)=2,"Mon",IF(WEEKDAY(A279)=3,"Tue",IF(WEEKDAY(A279)=4,"Wed",IF(WEEKDAY(A279)=5,"Thur",IF(WEEKDAY(A279)=6,"Fri",IF(WEEKDAY(A279)=7,"Sat"))))))) -> Wed | E279: 0 | F279: 4839.156 | G279: 10110.324 | H279: 7087.276 | I279: 2538.2 | J279: 0 | K279: 1521.884 | L279: 3045 | O279: =SUM(F279:M279) -> 29141.84 | P279: 1575.756 | Q279: =K279-P279 -> -53.872 | S279: =O279-P279 -> 27566.084 | T279: =SUM(S279,D279) -> 27566.084 | U279: =S279-S278 -> -594.608 | V279: =SUM(F279:K279)-P279 -> 24521.084 | W279: =V279/S279 -> 0.88953817 | X279: =SUM(L279:M279) -> 3045 | Y279: =X279/S279 -> 0.11046183
A280: 34977 | B280: Oct | C280: =IF(WEEKDAY(A280)=1,"Sun",IF(WEEKDAY(A280)=2,"Mon",IF(WEEKDAY(A280)=3,"Tue",IF(WEEKDAY(A280)=4,"Wed",IF(WEEKDAY(A280)=5,"Thur",IF(WEEKDAY(A280)=6,"Fri",IF(WEEKDAY(A280)=7,"Sat"))))))) -> Thur | E280: 0 | F280: 4804.421 | G280: 10156.378 | H280: 7045.378 | I280: 2551.02 | J280: 0 | K280: 1512.983 | L280: 2726 | O280: =SUM(F280:M280) -> 28796.18 | P280: 1553.426 | Q280: =K280-P280 -> -40.443 | S280: =O280-P280 -> 27242.754 | T280: =SUM(S280,D280) -> 27242.754 | U280: =S280-S279 -> -323.33 | V280: =SUM(F280:K280)-P280 -> 24516.754 | W280: =V280/S280 -> 0.8999367 | X280: =SUM(L280:M280) -> 2726 | Y280: =X280/S280 -> 0.1000633
A281: 34978 | B281: Oct | C281: =IF(WEEKDAY(A281)=1,"Sun",IF(WEEKDAY(A281)=2,"Mon",IF(WEEKDAY(A281)=3,"Tue",IF(WEEKDAY(A281)=4,"Wed",IF(WEEKDAY(A281)=5,"Thur",IF(WEEKDAY(A281)=6,"Fri",IF(WEEKDAY(A281)=7,"Sat"))))))) -> Fri | E281: 0 | F281: 4354.245 | G281: 9999.135 | H281: 6590.88 | I281: 2533.68 | J281: 0 | K281: 1577.34 | L281: 2560 | O281: =SUM(F281:M281) -> 27615.28 | P281: 1614.6 | Q281: =K281-P281 -> -37.26 | S281: =O281-P281 -> 26000.68 | T281: =SUM(S281,D281) -> 26000.68 | U281: =S281-S280 -> -1242.074 | V281: =SUM(F281:K281)-P281 -> 23440.68 | W281: =V281/S281 -> 0.90154104 | X281: =SUM(L281:M281) -> 2560 | Y281: =X281/S281 -> 0.098458963
A282: 34979 | B282: Oct | C282: =IF(WEEKDAY(A282)=1,"Sun",IF(WEEKDAY(A282)=2,"Mon",IF(WEEKDAY(A282)=3,"Tue",IF(WEEKDAY(A282)=4,"Wed",IF(WEEKDAY(A282)=5,"Thur",IF(WEEKDAY(A282)=6,"Fri",IF(WEEKDAY(A282)=7,"Sat"))))))) -> Sat | E282: 0 | F282: 3230.216 | G282: 9276.014 | H282: 5890.698 | I282: 2462.988 | J282: 0 | K282: 1681.284 | L282: 2128 | O282: =SUM(F282:M282) -> 24669.2 | P282: 1716.44 | Q282: =K282-P282 -> -35.156 | S282: =O282-P282 -> 22952.76 | T282: =SUM(S282,D282) -> 22952.76 | U282: =S282-S281 -> -3047.92 | V282: =SUM(F282:K282)-P282 -> 20824.76 | W282: =V282/S282 -> 0.90728784 | X282: =SUM(L282:M282) -> 2128 | Y282: =X282/S282 -> 0.092712162
A283: 34980 | B283: Oct | C283: =IF(WEEKDAY(A283)=1,"Sun",IF(WEEKDAY(A283)=2,"Mon",IF(WEEKDAY(A283)=3,"Tue",IF(WEEKDAY(A283)=4,"Wed",IF(WEEKDAY(A283)=5,"Thur",IF(WEEKDAY(A283)=6,"Fri",IF(WEEKDAY(A283)=7,"Sat"))))))) -> Sun | E283: 6 | F283: 3966.198 | G283: 10171.362 | H283: 6913.08 | I283: 2755.89 | J283: 0 | K283: 1786.398 | L283: 3011 | O283: =SUM(F283:M283) -> 28603.928 | P283: 1847.64 | Q283: =K283-P283 -> -61.242 | S283: =O283-P283 -> 26756.288 | T283: =SUM(S283,D283) -> 26756.288 | U283: =S283-S282 -> 3803.528 | V283: =SUM(F283:K283)-P283 -> 23745.288 | W283: =V283/S283 -> 0.88746571 | X283: =SUM(L283:M283) -> 3011 | Y283: =X283/S283 -> 0.11253429
A284: 34981 | B284: Oct | C284: =IF(WEEKDAY(A284)=1,"Sun",IF(WEEKDAY(A284)=2,"Mon",IF(WEEKDAY(A284)=3,"Tue",IF(WEEKDAY(A284)=4,"Wed",IF(WEEKDAY(A284)=5,"Thur",IF(WEEKDAY(A284)=6,"Fri",IF(WEEKDAY(A284)=7,"Sat"))))))) -> Mon | E284: 7 | F284: 6114.515 | G284: 11608.747 | H284: 8377.457 | I284: 3023.49 | J284: 0 | K284: 1451.483 | L284: 4432 | O284: =SUM(F284:M284) -> 35007.692 | P284: 1501.355 | Q284: =K284-P284 -> -49.872 | S284: =O284-P284 -> 33506.337 | T284: =SUM(S284,D284) -> 33506.337 | U284: =S284-S283 -> 6750.049 | V284: =SUM(F284:K284)-P284 -> 29074.337 | W284: =V284/S284 -> 0.86772651 | X284: =SUM(L284:M284) -> 4432 | Y284: =X284/S284 -> 0.13227349
A285: 34982 | B285: Oct | C285: =IF(WEEKDAY(A285)=1,"Sun",IF(WEEKDAY(A285)=2,"Mon",IF(WEEKDAY(A285)=3,"Tue",IF(WEEKDAY(A285)=4,"Wed",IF(WEEKDAY(A285)=5,"Thur",IF(WEEKDAY(A285)=6,"Fri",IF(WEEKDAY(A285)=7,"Sat"))))))) -> Tue | E285: 3 | F285: 5563.125 | G285: 11321.865 | H285: 7986.06 | I285: 2884.545 | J285: 0 | K285: 1898.19 | L285: 4024 | O285: =SUM(F285:M285) -> 33677.785 | P285: 1949.94 | Q285: =K285-P285 -> -51.75 | S285: =O285-P285 -> 31727.845 | T285: =SUM(S285,D285) -> 31727.845 | U285: =S285-S284 -> -1778.492 | V285: =SUM(F285:K285)-P285 -> 27703.845 | W285: =V285/S285 -> 0.87317134 | X285: =SUM(L285:M285) -> 4024 | Y285: =X285/S285 -> 0.12682866
A286: 34983 | B286: Oct | C286: =IF(WEEKDAY(A286)=1,"Sun",IF(WEEKDAY(A286)=2,"Mon",IF(WEEKDAY(A286)=3,"Tue",IF(WEEKDAY(A286)=4,"Wed",IF(WEEKDAY(A286)=5,"Thur",IF(WEEKDAY(A286)=6,"Fri",IF(WEEKDAY(A286)=7,"Sat"))))))) -> Wed | E286: 3 | F286: 5464.8 | G286: 11315.655 | H286: 8044.02 | I286: 2845.215 | J286: 0 | K286: 1835.055 | L286: 4016 | O286: =SUM(F286:M286) -> 33520.745 | P286: 1879.56 | Q286: =K286-P286 -> -44.505 | S286: =O286-P286 -> 31641.185 | T286: =SUM(S286,D286) -> 31641.185 | U286: =S286-S285 -> -86.66 | V286: =SUM(F286:K286)-P286 -> 27625.185 | W286: =V286/S286 -> 0.87307681 | X286: =SUM(L286:M286) -> 4016 | Y286: =X286/S286 -> 0.12692319
...

Sheet DAILY STATS & GRAPHS
X1: ORIGINAL | Y1: HEDGE
B2: COR TOT | C2: COR TOT | D2: COR TOT | E2: COR TOT | F2: COR TOT | G2: COR TOT | H2: COR TOT | I2: COR TOT | J2: COR TOT | K2: COR TOT | L2: COR TOT | M2: COR TOT | N2: COR TOT | O2: COR TOT | P2: COR TOT | Q2: COR TOT | R2: COR TOT | S2: COR TOT | X2: HEDGE | Y2: vs
B3: 95 | C3: 96 | D3: 97 | E3: 98 | F3: 99 | G3: 00 | H3: 01 | I3: 02 | J3: 03 | K3: 04 | L3: 05 | M3: 06 | N3: 07 | O3: 08 | P3: 09 | Q3: 10 | R3: 11 | S3: 12 | T3: 3 LOWEST AVG | U3: 3 YR AVG | V3: MIN | W3: MAX | X3: POLICY | Y3: MIN
A4: JAN MIN | B4: =MIN('DAILY DATA'!$S$3:$S$33) -> 30612.536 | C4: =MIN('DAILY DATA'!$S$368:$S$398) -> 48042.517 | D4: =MIN('DAILY DATA'!$S$734:$S$764) -> 36950.111 | E4: =MIN('DAILY DATA'!$S$1099:$S$1129) -> 37005.092 | F4: =MIN('DAILY DATA'!$S$1464:$S$1494) -> 36366.148 | G4: =MIN('DAILY DATA'!$S$1829:$S$1859) -> 44003 | H4: =MIN('DAILY DATA'!$S$2195:$S$2225) -> 59384 | I4: =MIN('DAILY DATA'!$S$2560:$S$2590) -> 39223 | J4: =MIN('DAILY DATA'!$S$2925:$S$2955) -> 51997 | K4: =MIN('DAILY DATA'!$S$3290:$S$3320) -> 35275 | L4: =MIN('DAILY DATA'!$S$3656:$S$3686) -> 36667 | M4: =MIN('DAILY DATA'!$S$4021:$S$4051) -> 43699 | N4: =MIN('DAILY DATA'!$S$4386:$S$4416) -> 33978 | O4: =MIN('DAILY DATA'!$S$4751:$S$4781) -> 40237 | P4: =MIN('DAILY DATA'!$S$5117:$S$5147) -> 67955.6 | Q4: =MIN('DAILY DATA'!$S$5482:$S$5512) -> 56671.7 | R4: =MIN('DAILY DATA'!$S$5847:$S$5877) -> 47420.1 | S4: =MIN('DAILY DATA'!$S$6212:$S$6242) -> 42253.5 | T4: =AVERAGE(B4,N4,K4) -> 33288.512 | U4: =AVERAGE(Q4:S4) -> 48781.767 | V4: =MIN(B4:S4) -> 30612.536 | W4: =MAX(B4:S4) -> 67955.6 | X4: 35000 | Y4: =X4-V4 -> 4387.464
A5: JAN AVG | B5: =AVERAGE('DAILY DATA'!$S$3:$S$33) -> 90993.834 | C5: =AVERAGE('DAILY DATA'!$S$368:$S$398) -> 95252.873 | D5: =AVERAGE('DAILY DATA'!$S$734:$S$764) -> 100938.39 | E5: =AVERAGE('DAILY DATA'!$S$1099:$S$1129) -> 89455.5 | F5: =AVERAGE('DAILY DATA'!$S$1464:$S$1494) -> 94731.593 | G5: =AVERAGE('DAILY DATA'!$S$1829:$S$1859) -> 111786.84 | H5: =AVERAGE('DAILY DATA'!$S$2195:$S$2225) -> 105394.77 | I5: =AVERAGE('DAILY DATA'!$S$2560:$S$2590) -> 91469.258 | J5: =AVERAGE('DAILY DATA'!$S$2925:$S$2955) -> 120085.06 | K5: =AVERAGE('DAILY DATA'!$S$3290:$S$3320) -> 115766.26 | L5: =AVERAGE('DAILY DATA'!$S$3656:$S$3686) -> 105186.81 | M5: =AVERAGE('DAILY DATA'!$S$4021:$S$4051) -> 80971.806 | N5: =AVERAGE('DAILY DATA'!$S$4386:$S$4416) -> 90201.452 | O5: =AVERAGE('DAILY DATA'!$S$4751:$S$4781) -> 101541.39 | P5: =AVERAGE('DAILY DATA'!$S$5117:$S$5147) -> 111305.11 | Q5: =AVERAGE('DAILY DATA'!$S$5482:$S$5512) -> 107738.42 | R5: =AVERAGE('DAILY DATA'!$S$5847:$S$5877) -> 110409.56 | S5: =AVERAGE('DAILY DATA'!$S$6212:$S$6242) -> 82472.626 | V5: =MIN(B5:S5) -> 80971.806 | W5: =MAX(B5:S5) -> 120085.06
A6: JAN MAX | B6: =MAX('DAILY DATA'!$S$3:$S$33) -> 126876.57 | C6: =MAX('DAILY DATA'!$S$368:$S$398) -> 125331.67 | D6: =MAX('DAILY DATA'!$S$734:$S$764) -> 146133.56 | E6: =MAX('DAILY DATA'!$S$1099:$S$1129) -> 121483.47 | F6: =MAX('DAILY DATA'!$S$1464:$S$1494) -> 149006.83 | G6: =MAX('DAILY DATA'!$S$1829:$S$1859) -> 158240 | H6: =MAX('DAILY DATA'!$S$2195:$S$2225) -> 140189 | I6: =MAX('DAILY DATA'!$S$2560:$S$2590) -> 133754 | J6: =MAX('DAILY DATA'!$S$2925:$S$2955) -> 170969 | K6: =MAX('DAILY DATA'!$S$3290:$S$3320) -> 161179 | L6: =MAX('DAILY DATA'!$S$3656:$S$3686) -> 170707 | M6: =MAX('DAILY DATA'!$S$4021:$S$4051) -> 113490 | N6: =MAX('DAILY DATA'!$S$4386:$S$4416) -> 136778 | O6: =MAX('DAILY DATA'!$S$4751:$S$4781) -> 153622 | P6: =MAX('DAILY DATA'!$S$5117:$S$5147) -> 171524.7 | Q6: =MAX('DAILY DATA'!$S$5482:$S$5512) -> 156467 | R6: =MAX('DAILY DATA'!$S$5847:$S$5877) -> 148347.9 | S6: =MAX('DAILY DATA'!$S$6212:$S$6242) -> 137485.2 | V6: =MIN(B6:S6) -> 113490 | W6: =MAX(B6:S6) -> 171524.7
A7: FEB MIN | B7: =MIN('DAILY DATA'!$S$34:$S$61) -> 56318.148 | C7: =MIN('DAILY DATA'!$S$399:$S$427) -> 47597.5 | D7: =MIN('DAILY DATA'!$S$765:$S$792) -> 41877.94 | E7: =MIN('DAILY DATA'!$S$1130:$S$1157) -> 45028.064 | F7: =MIN('DAILY DATA'!$S$1495:$S$1522) -> 55342.705 | G7: =MIN('DAILY DATA'!$S$1860:$S$1888) -> 42648 | H7: =MIN('DAILY DATA'!$S$2226:$S$2253) -> 40052 | I7: =MIN('DAILY DATA'!$S$2591:$S$2618) -> 51474 | J7: =MIN('DAILY DATA'!$S$2956:$S$2983) -> 79109 | K7: =MIN('DAILY DATA'!$S$3321:$S$3349) -> 52686 | L7: =MIN('DAILY DATA'!$S$3687:$S$3714) -> 56053 | M7: =MIN('DAILY DATA'!$S$4052:$S$4079) -> 48427 | N7: =MIN('DAILY DATA'!$S$4417:$S$4444) -> 60507 | O7: =MIN('DAILY DATA'!$S$4782:$S$4810) -> 39154 | P7: =MIN('DAILY DATA'!$S$5148:$S$5175) -> 40117.7 | Q7: =MIN('DAILY DATA'!$S$5513:$S$5540) -> 76132 | R7: =MIN('DAILY DATA'!$S$5878:$S$5905) -> 35266.9 | S7: =MIN('DAILY DATA'!$S$6243:$S$6271) -> 35248.9 | T7: =AVERAGE(O7,H7,R7) -> 38157.633 | U7: =AVERAGE(Q7:S7) -> 48882.6 | V7: =MIN(B7:S7) -> 35248.9 | W7: =MAX(B7:S7) -> 79109 | X7: 35000 | Y7: =X7-V7 -> -248.9
A8: FEB AVG | B8: =AVERAGE('DAILY DATA'!$S$34:$S$61) -> 92294.938 | C8: =AVERAGE('DAILY DATA'!$S$399:$S$427) -> 90971.919 | D8: =AVERAGE('DAILY DATA'!$S$765:$S$792) -> 87856.013 | E8: =AVERAGE('DAILY DATA'!$S$1130:$S$1157) -> 88316.605 | F8: =AVERAGE('DAILY DATA'!$S$1495:$S$1522) -> 92762.687 | G8: =AVERAGE('DAILY DATA'!$S$1860:$S$1888) -> 95243.552 | H8: =AVERAGE('DAILY DATA'!$S$2226:$S$2253) -> 87461.25 | I8: =AVERAGE('DAILY DATA'!$S$2591:$S$2618) -> 88986.429 | J8: =AVERAGE('DAILY DATA'!$S$2956:$S$2983) -> 114716.61 | K8: =AVERAGE('DAILY DATA'!$S$3321:$S$3349) -> 102038.41 | L8: =AVERAGE('DAILY DATA'!$S$3687:$S$3714) -> 97365.464 | M8: =AVERAGE('DAILY DATA'!$S$4052:$S$4079) -> 94132.607 | N8: =AVERAGE('DAILY DATA'!$S$4417:$S$4444) -> 113962.96 | O8: =AVERAGE('DAILY DATA'!$S$4782:$S$4810) -> 89471.034 | P8: =AVERAGE('DAILY DATA'!$S$5148:$S$5175) -> 88676.961 | Q8: =AVERAGE('DAILY DATA'!$S$5513:$S$5540) -> 110032.05 | R8: =AVERAGE('DAILY DATA'!$S$5878:$S$5905) -> 77653.75 | S8: =AVERAGE('DAILY DATA'!$S$6243:$S$6271) -> 75126.466 | V8: =MIN(B8:S8) -> 75126.466 | W8: =MAX(B8:S8) -> 114716.61
A9: FEB MAX | B9: =MAX('DAILY DATA'!$S$34:$S$61) -> 132996.07 | C9: =MAX('DAILY DATA'!$S$399:$S$427) -> 144635.28 | D9: =MAX('DAILY DATA'!$S$765:$S$792) -> 123383.56 | E9: =MAX('DAILY DATA'!$S$1130:$S$1157) -> 112805.17 | F9: =MAX('DAILY DATA'!$S$1495:$S$1522) -> 145427.04 | G9: =MAX('DAILY DATA'!$S$1860:$S$1888) -> 140449 | H9: =MAX('DAILY DATA'!$S$2226:$S$2253) -> 142563 | I9: =MAX('DAILY DATA'!$S$2591:$S$2618) -> 130666 | J9: =MAX('DAILY DATA'!$S$2956:$S$2983) -> 161098 | K9: =MAX('DAILY DATA'!$S$3321:$S$3349) -> 132707 | L9: =MAX('DAILY DATA'!$S$3687:$S$3714) -> 128931 | M9: =MAX('DAILY DATA'!$S$4052:$S$4079) -> 128598 | N9: =MAX('DAILY DATA'!$S$4417:$S$4444) -> 162832 | O9: =MAX('DAILY DATA'!$S$4782:$S$4810) -> 126838 | P9: =MAX('DAILY DATA'!$S$5148:$S$5175) -> 150431.1 | Q9: =MAX('DAILY DATA'!$S$5513:$S$5540) -> 138270.6 | R9: =MAX('DAILY DATA'!$S$5878:$S$5905) -> 115546.5 | S9: =MAX('DAILY DATA'!$S$6243:$S$6271) -> 123052.6 | V9: =MIN(B9:S9) -> 112805.17 | W9: =MAX(B9:S9) -> 162832
A10: MAR MIN | B10: =MIN('DAILY DATA'!$S$62:$S$92) -> 35667.738 | C10: =MIN('DAILY DATA'!$S$428:$S$458) -> 45547.568 | D10: =MIN('DAILY DATA'!$S$793:$S$823) -> 30640.54 | E10: =MIN('DAILY DATA'!$S$1158:$S$1188) -> 28990.501 | F10: =MIN('DAILY DATA'!$S$1523:$S$1553) -> 45819.39 | G10: =MIN('DAILY DATA'!$S$1889:$S$1919) -> 32806 | H10: =MIN('DAILY DATA'!$S$2254:$S$2284) -> 52294 | I10: =MIN('DAILY DATA'!$S$2619:$S$2649) -> 30060 | J10: =MIN('DAILY DATA'!$S$2984:$S$3014) -> 32447 | K10: =MIN('DAILY DATA'!$S$3350:$S$3380) -> 30214 | L10: =MIN('DAILY DATA'!$S$3715:$S$3745) -> 48105 | M10: =MIN('DAILY DATA'!$S$4080:$S$4110) -> 29723 | N10: =MIN('DAILY DATA'!$S$4445:$S$4475) -> 30207 | O10: =MIN('DAILY DATA'!$S$4811:$S$4841) -> 35774 | P10: =MIN('DAILY DATA'!$S$5176:$S$5206) -> 27272.2 | Q10: =MIN('DAILY DATA'!$S$5541:$S$5571) -> 27485.7 | R10: =MIN('DAILY DATA'!$S$5906:$S$5936) -> 26616.9 | S10: =MIN('DAILY DATA'!$S$6272:$S$6302) -> 22125.9 | T10: =AVERAGE(R10,Q10,P10) -> 27124.933 | U10: =AVERAGE(Q10:S10) -> 25409.5 | V10: =MIN(B10:S10) -> 22125.9 | W10: =MAX(B10:S10) -> 52294 | X10: 30000 | Y10: =X10-V10 -> 7874.1
A11: MAR AVG | B11: =AVERAGE('DAILY DATA'!$S$62:$S$92) -> 61874.376 | C11: =AVERAGE('DAILY DATA'!$S$428:$S$458) -> 80355.792 | D11: =AVERAGE('DAILY DATA'!$S$793:$S$823) -> 67022.196 | E11: =AVERAGE('DAILY DATA'!$S$1158:$S$1188) -> 77441.384 | F11: =AVERAGE('DAILY DATA'!$S$1523:$S$1553) -> 86666.642 | G11: =AVERAGE('DAILY DATA'!$S$1889:$S$1919) -> 65484.129 | H11: =AVERAGE('DAILY DATA'!$S$2254:$S$2284) -> 80188.581 | I11: =AVERAGE('DAILY DATA'!$S$2619:$S$2649) -> 68300.194 | J11: =AVERAGE('DAILY DATA'!$S$2984:$S$3014) -> 68701.806 | K11: =AVERAGE('DAILY DATA'!$S$3350:$S$3380) -> 66282.419 | L11: =AVERAGE('DAILY DATA'!$S$3715:$S$3745) -> 84483.387 | M11: =AVERAGE('DAILY DATA'!$S$4080:$S$4110) -> 67186.387 | N11: =AVERAGE('DAILY DATA'!$S$4445:$S$4475) -> 63101.516 | O11: =AVERAGE('DAILY DATA'!$S$4811:$S$4841) -> 63328.29 | P11: =AVERAGE('DAILY DATA'!$S$5176:$S$5206) -> 70789.068 | Q11: =AVERAGE('DAILY DATA'!$S$5541:$S$5571) -> 57775.116 | R11: =AVERAGE('DAILY DATA'!$S$5906:$S$5936) -> 62319.677 | S11: =AVERAGE('DAILY DATA'!$S$6272:$S$6302) -> 40077.2 | V11: =MIN(B11:S11) -> 40077.2 | W11: =MAX(B11:S11) -> 86666.642
A12: MAR MAX | B12: =MAX('DAILY DATA'!$S$62:$S$92) -> 112663.88 | C12: =MAX('DAILY DATA'!$S$428:$S$458) -> 115361.31 | D12: =MAX('DAILY DATA'!$S$793:$S$823) -> 96160.414 | E12: =MAX('DAILY DATA'!$S$1158:$S$1188) -> 128700.55 | F12: =MAX('DAILY DATA'!$S$1523:$S$1553) -> 134010.77 | G12: =MAX('DAILY DATA'!$S$1889:$S$1919) -> 102075 | H12: =MAX('DAILY DATA'!$S$2254:$S$2284) -> 125845 | I12: =MAX('DAILY DATA'!$S$2619:$S$2649) -> 126816 | J12: =MAX('DAILY DATA'!$S$2984:$S$3014) -> 124117 | K12: =MAX('DAILY DATA'!$S$3350:$S$3380) -> 113998 | L12: =MAX('DAILY DATA'!$S$3715:$S$3745) -> 129374 | M12: =MAX('DAILY DATA'!$S$4080:$S$4110) -> 112474 | N12: =MAX('DAILY DATA'!$S$4445:$S$4475) -> 114398 | O12: =MAX('DAILY DATA'!$S$4811:$S$4841) -> 103670 | P12: =MAX('DAILY DATA'!$S$5176:$S$5206) -> 146894.8 | Q12: =MAX('DAILY DATA'!$S$5541:$S$5571) -> 106143.1 | R12: =MAX('DAILY DATA'!$S$5906:$S$5936) -> 95262.5 | S12: =MAX('DAILY DATA'!$S$6272:$S$6302) -> 107846.8 | V12: =MIN(B12:S12) -> 95262.5 | W12: =MAX(B12:S12) -> 146894.8
A13: APR MIN | B13: =MIN('DAILY DATA'!$S$93:$S$122) -> 24678.6 | C13: =MIN('DAILY DATA'!$S$459:$S$488) -> 27672.08 | D13: =MIN('DAILY DATA'!$S$824:$S$853) -> 29645.24 | E13: =MIN('DAILY DATA'!$S$1189:$S$1218) -> 28557 | F13: =MIN('DAILY DATA'!$S$1554:$S$1583) -> 28231.84 | G13: =MIN('DAILY DATA'!$S$1920:$S$1949) -> 33538 | H13: =MIN('DAILY DATA'!$S$2285:$S$2314) -> 25887 | I13: =MIN('DAILY DATA'!$S$2650:$S$2679) -> 22902 | J13: =MIN('DAILY DATA'!$S$3015:$S$3044) -> 28821 | K13: =MIN('DAILY DATA'!$S$3381:$S$3410) -> 24494 | L13: =MIN('DAILY DATA'!$S$3746:$S$3775) -> 28720 | M13: =MIN('DAILY DATA'!$S$4111:$S$4140) -> 25012 | N13: =MIN('DAILY DATA'!$S$4476:$S$4505) -> 25507 | O13: =MIN('DAILY DATA'!$S$4842:$S$4871) -> 25003 | P13: =MIN('DAILY DATA'!$S$5207:$S$5236) -> 19514.4 | Q13: =MIN('DAILY DATA'!$S$5572:$S$5601) -> 22002.5 | R13: =MIN('DAILY DATA'!$S$5937:$S$5966) -> 21014.1 | S13: =MIN('DAILY DATA'!$S$6303:$S$6332) -> 21898.6 | T13: =AVERAGE(I13,P13,Q13) -> 21472.967 | U13: =AVERAGE(Q13:S13) -> 21638.4 | V13: =MIN(B13:S13) -> 19514.4 | W13: =MAX(B13:S13) -> 33538 | X13: 25000 | Y13: =X13-V13 -> 5485.6
A14: APR AVG | B14: =AVERAGE('DAILY DATA'!$S$93:$S$122) -> 41186.284 | C14: =AVERAGE('DAILY DATA'!$S$459:$S$488) -> 47199.128 | D14: =AVERAGE('DAILY DATA'!$S$824:$S$853) -> 54059.293 | E14: =AVERAGE('DAILY DATA'!$S$1189:$S$1218) -> 45928.475 | F14: =AVERAGE('DAILY DATA'!$S$1554:$S$1583) -> 45936.672 | G14: =AVERAGE('DAILY DATA'!$S$1920:$S$1949) -> 51830.7 | H14: =AVERAGE('DAILY DATA'!$S$2285:$S$2314) -> 44405.633 | I14: =AVERAGE('DAILY DATA'!$S$2650:$S$2679) -> 40974.7 | J14: =AVERAGE('DAILY DATA'!$S$3015:$S$3044) -> 48613.967 | K14: =AVERAGE('DAILY DATA'!$S$3381:$S$3410) -> 48035.4 | L14: =AVERAGE('DAILY DATA'!$S$3746:$S$3775) -> 45100.333 | M14: =AVERAGE('DAILY DATA'!$S$4111:$S$4140) -> 37879.033 | N14: =AVERAGE('DAILY DATA'!$S$4476:$S$4505) -> 47598.8 | O14: =AVERAGE('DAILY DATA'!$S$4842:$S$4871) -> 44465.533 | P14: =AVERAGE('DAILY DATA'!$S$5207:$S$5236) -> 38536.203 | Q14: =AVERAGE('DAILY DATA'!$S$5572:$S$5601) -> 29005.777 | R14: =AVERAGE('DAILY DATA'!$S$5937:$S$5966) -> 34833.45 | S14: =AVERAGE('DAILY DATA'!$S$6303:$S$6332) -> 33656.173 | V14: =MIN(B14:S14) -> 29005.777 | W14: =MAX(B14:S14) -> 54059.293
A15: APR MAX | B15: =MAX('DAILY DATA'!$S$93:$S$122) -> 70524.306 | C15: =MAX('DAILY DATA'!$S$459:$S$488) -> 96629.168 | D15: =MAX('DAILY DATA'!$S$824:$S$853) -> 87455.462 | E15: =MAX('DAILY DATA'!$S$1189:$S$1218) -> 66506.09 | F15: =MAX('DAILY DATA'!$S$1554:$S$1583) -> 66021.28 | G15: =MAX('DAILY DATA'!$S$1920:$S$1949) -> 78573 | H15: =MAX('DAILY DATA'!$S$2285:$S$2314) -> 84216 | I15: =MAX('DAILY DATA'!$S$2650:$S$2679) -> 78351 | J15: =MAX('DAILY DATA'!$S$3015:$S$3044) -> 97874 | K15: =MAX('DAILY DATA'!$S$3381:$S$3410) -> 92366 | L15: =MAX('DAILY DATA'!$S$3746:$S$3775) -> 69240 | M15: =MAX('DAILY DATA'!$S$4111:$S$4140) -> 64903 | N15: =MAX('DAILY DATA'!$S$4476:$S$4505) -> 91704 | O15: =MAX('DAILY DATA'!$S$4842:$S$4871) -> 79093 | P15: =MAX('DAILY DATA'!$S$5207:$S$5236) -> 75021.3 | Q15: =MAX('DAILY DATA'!$S$5572:$S$5601) -> 40416.7 | R15: =MAX('DAILY DATA'!$S$5937:$S$5966) -> 79738.9 | S15: =MAX('DAILY DATA'!$S$6303:$S$6332) -> 57783.7 | V15: =MIN(B15:S15) -> 40416.7 | W15: =MAX(B15:S15) -> 97874
A16: MAY MIN | B16: =MIN('DAILY DATA'!$S$123:$S$153) -> 20223 | C16: =MIN('DAILY DATA'!$S$489:$S$519) -> 21629.61 | D16: =MIN('DAILY DATA'!$S$854:$S$884) -> 20402.472 | E16: =MIN('DAILY DATA'!$S$1219:$S$1249) -> 23470.381 | F16: =MIN('DAILY DATA'!$S$1584:$S$1614) -> 21591 | G16: =MIN('DAILY DATA'!$S$1950:$S$1980) -> 25071 | H16: =MIN('DAILY DATA'!$S$2315:$S$2345) -> 22872 | I16: =MIN('DAILY DATA'!$S$2680:$S$2710) -> 20079 | J16: =MIN('DAILY DATA'!$S$3045:$S$3075) -> 24219 | K16: =MIN('DAILY DATA'!$S$3411:$S$3441) -> 19857 | L16: =MIN('DAILY DATA'!$S$3776:$S$3806) -> 21010 | M16: =MIN('DAILY DATA'!$S$4141:$S$4171) -> 21300 | N16: =MIN('DAILY DATA'!$S$4506:$S$4536) -> 20136 | O16: =MIN('DAILY DATA'!$S$4872:$S$4902) -> 22373 | P16: =MIN('DAILY DATA'!$S$5237:$S$5267) -> 18411.7 | Q16: =MIN('DAILY DATA'!$S$5602:$S$5632) -> 16855 | R16: =MIN('DAILY DATA'!$S$5967:$S$5997) -> 16441.8 | S16: =MIN('DAILY DATA'!$S$6333:$S$6363) -> 14373.4 | T16: =AVERAGE(K16,P16,Q16) -> 18374.567 | U16: =AVERAGE(Q16:S16) -> 15890.067 | V16: =MIN(B16:S16) -> 14373.4 | W16: =MAX(B16:S16) -> 25071 | X16: 25000 | Y16: =X16-V16 -> 10626.6
A17: MAY AVG | B17: =AVERAGE('DAILY DATA'!$S$123:$S$153) -> 29613.243 | C17: =AVERAGE('DAILY DATA'!$S$489:$S$519) -> 31735.976 | D17: =AVERAGE('DAILY DATA'!$S$854:$S$884) -> 32735.93 | E17: =AVERAGE('DAILY DATA'!$S$1219:$S$1249) -> 32795.977 | F17: =AVERAGE('DAILY DATA'!$S$1584:$S$1614) -> 32836.613 | G17: =AVERAGE('DAILY DATA'!$S$1950:$S$1980) -> 32523.387 | H17: =AVERAGE('DAILY DATA'!$S$2315:$S$2345) -> 28564.677 | I17: =AVERAGE('DAILY DATA'!$S$2680:$S$2710) -> 29519.323 | J17: =AVERAGE('DAILY DATA'!$S$3045:$S$3075) -> 31517.161 | K17: =AVERAGE('DAILY DATA'!$S$3411:$S$3441) -> 26073.29 | L17: =AVERAGE('DAILY DATA'!$S$3776:$S$3806) -> 32291.516 | M17: =AVERAGE('DAILY DATA'!$S$4141:$S$4171) -> 30526.839 | N17: =AVERAGE('DAILY DATA'!$S$4506:$S$4536) -> 28180.387 | O17: =AVERAGE('DAILY DATA'!$S$4872:$S$4902) -> 30032.419 | P17: =AVERAGE('DAILY DATA'!$S$5237:$S$5267) -> 25328.011 | Q17: =AVERAGE('DAILY DATA'!$S$5602:$S$5632) -> 21952.623 | R17: =AVERAGE('DAILY DATA'!$S$5967:$S$5997) -> 23012.255 | S17: =AVERAGE('DAILY DATA'!$S$6333:$S$6363) -> 21380.684 | V17: =MIN(B17:S17) -> 21380.684 | W17: =MAX(B17:S17) -> 32836.613
A18: MAY MAX | B18: =MAX('DAILY DATA'!$S$123:$S$153) -> 59799.992 | C18: =MAX('DAILY DATA'!$S$489:$S$519) -> 45996.55 | D18: =MAX('DAILY DATA'!$S$854:$S$884) -> 40624.322 | E18: =MAX('DAILY DATA'!$S$1219:$S$1249) -> 51448.338 | F18: =MAX('DAILY DATA'!$S$1584:$S$1614) -> 46289 | G18: =MAX('DAILY DATA'!$S$1950:$S$1980) -> 40279 | H18: =MAX('DAILY DATA'!$S$2315:$S$2345) -> 37228 | I18: =MAX('DAILY DATA'!$S$2680:$S$2710) -> 47166 | J18: =MAX('DAILY DATA'!$S$3045:$S$3075) -> 49426 | K18: =MAX('DAILY DATA'!$S$3411:$S$3441) -> 53374 | L18: =MAX('DAILY DATA'!$S$3776:$S$3806) -> 59313 | M18: =MAX('DAILY DATA'!$S$4141:$S$4171) -> 50432 | N18: =MAX('DAILY DATA'!$S$4506:$S$4536) -> 43691 | O18: =MAX('DAILY DATA'!$S$4872:$S$4902) -> 58885 | P18: =MAX('DAILY DATA'!$S$5237:$S$5267) -> 34898.4 | Q18: =MAX('DAILY DATA'!$S$5602:$S$5632) -> 30929.1 | R18: =MAX('DAILY DATA'!$S$5967:$S$5997) -> 33501.5 | S18: =MAX('DAILY DATA'!$S$6333:$S$6363) -> 27032.7 | V18: =MIN(B18:S18) -> 27032.7 | W18: =MAX(B18:S18) -> 59799.992
A19: JUN MIN | B19: =MIN('DAILY DATA'!$S$154:$S$183) -> 18862.284 | C19: =MIN('DAILY DATA'!$S$520:$S$549) -> 19986.72 | D19: =MIN('DAILY DATA'!$S$885:$S$914) -> 22297.44 | E19: =MIN('DAILY DATA'!$S$1250:$S$1279) -> 20679.561 | F19: =MIN('DAILY DATA'!$S$1615:$S$1644) -> 22339 | G19: =MIN('DAILY DATA'!$S$1981:$S$2010) -> 21656 | H19: =MIN('DAILY DATA'!$S$2346:$S$2375) -> 18934 | I19: =MIN('DAILY DATA'!$S$2711:$S$2740) -> 19419 | J19: =MIN('DAILY DATA'!$S$3076:$S$3105) -> 18553 | K19: =MIN('DAILY DATA'!$S$3442:$S$3471) -> 19187 | L19: =MIN('DAILY DATA'!$S$3807:$S$3836) -> 20868 | M19: =MIN('DAILY DATA'!$S$4172:$S$4201) -> 20632 | N19: =MIN('DAILY DATA'!$S$4537:$S$4566) -> 20056 | O19: =MIN('DAILY DATA'!$S$4903:$S$4932) -> 19775 | P19: =MIN('DAILY DATA'!$S$5268:$S$5297) -> 17854.8 | Q19: =MIN('DAILY DATA'!$S$5633:$S$5662) -> 16342.1 | R19: =MIN('DAILY DATA'!$S$5998:$S$6027) -> 15265.9 | S19: =MIN('DAILY DATA'!$S$6364:$S$6393) -> 14617.1 | T19: =AVERAGE(Q19,P19,R19) -> 16487.6 | U19: =AVERAGE(Q19:S19) -> 15408.367 | V19: =MIN(B19:S19) -> 14617.1 | W19: =MAX(B19:S19) -> 22339 | X19: 20000 | Y19: =X19-V19 -> 5382.9
A20: JUN AVG | B20: =AVERAGE('DAILY DATA'!$S$154:$S$183) -> 25724.66 | C20: =AVERAGE('DAILY DATA'!$S$520:$S$549) -> 26126.517 | D20: =AVERAGE('DAILY DATA'!$S$885:$S$914) -> 28967.559 | E20: =AVERAGE('DAILY DATA'!$S$1250:$S$1279) -> 26959.886 | F20: =AVERAGE('DAILY DATA'!$S$1615:$S$1644) -> 30120.733 | G20: =AVERAGE('DAILY DATA'!$S$1981:$S$2010) -> 28192.567 | H20: =AVERAGE('DAILY DATA'!$S$2346:$S$2375) -> 24549.767 | I20: =AVERAGE('DAILY DATA'!$S$2711:$S$2740) -> 23219.733 | J20: =AVERAGE('DAILY DATA'!$S$3076:$S$3105) -> 24336.467 | K20: =AVERAGE('DAILY DATA'!$S$3442:$S$3471) -> 23052.467 | L20: =AVERAGE('DAILY DATA'!$S$3807:$S$3836) -> 24615.8 | M20: =AVERAGE('DAILY DATA'!$S$4172:$S$4201) -> 24292 | N20: =AVERAGE('DAILY DATA'!$S$4537:$S$4566) -> 24996.8 | O20: =AVERAGE('DAILY DATA'!$S$4903:$S$4932) -> 23656.933 | P20: =AVERAGE('DAILY DATA'!$S$5268:$S$5297) -> 21035.833 | Q20: =AVERAGE('DAILY DATA'!$S$5633:$S$5662) -> 19200.04 | R20: =AVERAGE('DAILY DATA'!$S$5998:$S$6027) -> 19480.413 | S20: =AVERAGE('DAILY DATA'!$S$6364:$S$6393) -> 20094.303 | V20: =MIN(B20:S20) -> 19200.04 | W20: =MAX(B20:S20) -> 30120.733
A21: JUN MAX | B21: =MAX('DAILY DATA'!$S$154:$S$183) -> 29529.984 | C21: =MIN('DAILY DATA'!$S$520:$S$549) -> 19986.72 | D21: =MIN('DAILY DATA'!$S$885:$S$914) -> 22297.44 | E21: =MIN('DAILY DATA'!$S$1250:$S$1279) -> 20679.561 | F21: =MAX('DAILY DATA'!$S$1615:$S$1644) -> 34353 | G21: =MIN('DAILY DATA'!$S$1981:$S$2010) -> 21656 | H21: =MIN('DAILY DATA'!$S$2346:$S$2375) -> 18934 | I21: =MAX('DAILY DATA'!$S$2711:$S$2740) -> 25914 | J21: =MAX('DAILY DATA'!$S$3076:$S$3105) -> 30664 | K21: =MAX('DAILY DATA'!$S$3442:$S$3471) -> 25790 | L21: =MAX('DAILY DATA'!$S$3807:$S$3836) -> 30257 | M21: =MAX('DAILY DATA'!$S$4172:$S$4201) -> 27985 | N21: =MAX('DAILY DATA'!$S$4537:$S$4566) -> 28348 | O21: =MAX('DAILY DATA'!$S$4903:$S$4932) -> 26849 | P21: =MAX('DAILY DATA'!$S$5268:$S$5297) -> 23481.9 | Q21: =MAX('DAILY DATA'!$S$5633:$S$5662) -> 21325.8 | R21: =MAX('DAILY DATA'!$S$5998:$S$6027) -> 21742.2 | S21: =MAX('DAILY DATA'!$S$6364:$S$6393) -> 23800.4 | V21: =MIN(B21:S21) -> 18934 | W21: =MAX(B21:S21) -> 34353
A22: JUL MIN | B22: =MIN('DAILY DATA'!$S$184:$S$214) -> 17485.947 | C22: =MIN('DAILY DATA'!$S$550:$S$580) -> 18835.704 | D22: =MIN('DAILY DATA'!$S$915:$S$945) -> 19505.509 | E22: =MIN('DAILY DATA'!$S$1280:$S$1310) -> 17713.832 | F22: =MIN('DAILY DATA'!$S$1645:$S$1675) -> 21351 | G22: =MIN('DAILY DATA'!$S$2011:$S$2041) -> 20349 | H22: =MIN('DAILY DATA'!$S$2376:$S$2406) -> 17447 | I22: =MIN('DAILY DATA'!$S$2741:$S$2771) -> 17173 | J22: =MIN('DAILY DATA'!$S$3106:$S$3136) -> 16293 | K22: =MIN('DAILY DATA'!$S$3472:$S$3502) -> 15195 | L22: =MIN('DAILY DATA'!$S$3837:$S$3867) -> 16343 | M22: =MIN('DAILY DATA'!$S$4202:$S$4232) -> 18030 | N22: =MIN('DAILY DATA'!$S$4567:$S$4597) -> 20400 | O22: =MIN('DAILY DATA'!$S$4933:$S$4963) -> 18276 | P22: =MIN('DAILY DATA'!$S$5298:$S$5328) -> 15117.2 | Q22: =MIN('DAILY DATA'!$S$5663:$S$5693) -> 14829.3 | R22: =MIN('DAILY DATA'!$S$6028:$S$6058) -> 14122.1 | S22: =MIN('DAILY DATA'!$S$6394:$S$6424) -> 15124.4 | T22: =AVERAGE(K22,P22,Q22) -> 15047.167 | U22: =AVERAGE(Q22:S22) -> 14691.933 | V22: =MIN(B22:S22) -> 14122.1 | W22: =MAX(B22:S22) -> 21351 | X22: 20000 | Y22: =X22-V22 -> 5877.9
A23: JUL AVG | B23: =AVERAGE('DAILY DATA'!$S$184:$S$214) -> 23632.122 | C23: =AVERAGE('DAILY DATA'!$S$550:$S$580) -> 24757.067 | D23: =AVERAGE('DAILY DATA'!$S$915:$S$945) -> 26312.508 | E23: =AVERAGE('DAILY DATA'!$S$1280:$S$1310) -> 26315.45 | F23: =AVERAGE('DAILY DATA'!$S$1645:$S$1675) -> 28195.355 | G23: =AVERAGE('DAILY DATA'!$S$2011:$S$2041) -> 26018.968 | H23: =AVERAGE('DAILY DATA'!$S$2376:$S$2406) -> 22263.839 | I23: =AVERAGE('DAILY DATA'!$S$2741:$S$2771) -> 21690.806 | J23: =AVERAGE('DAILY DATA'!$S$3106:$S$3136) -> 20897.452 | K23: =AVERAGE('DAILY DATA'!$S$3472:$S$3502) -> 21750.516 | L23: =AVERAGE('DAILY DATA'!$S$3837:$S$3867) -> 20542.161 | M23: =AVERAGE('DAILY DATA'!$S$4202:$S$4232) -> 21328.032 | N23: =AVERAGE('DAILY DATA'!$S$4567:$S$4597) -> 23600.355 | O23: =AVERAGE('DAILY DATA'!$S$4933:$S$4963) -> 22169.452 | P23: =AVERAGE('DAILY DATA'!$S$5298:$S$5328) -> 19049.252 | Q23: =AVERAGE('DAILY DATA'!$S$5663:$S$5693) -> 18214.058 | R23: =AVERAGE('DAILY DATA'!$S$6028:$S$6058) -> 18053.171 | S23: =AVERAGE('DAILY DATA'!$S$6394:$S$6424) -> 18052.245 | V23: =MIN(B23:S23) -> 18052.245 | W23: =MAX(B23:S23) -> 28195.355
A24: JUL MAX | B24: =MAX('DAILY DATA'!$S$184:$S$214) -> 28674.45 | C24: =MAX('DAILY DATA'!$S$550:$S$580) -> 29630.808 | D24: =MAX('DAILY DATA'!$S$915:$S$945) -> 30812.248 | E24: =MAX('DAILY DATA'!$S$1280:$S$1310) -> 30811.515 | F24: =MAX('DAILY DATA'!$S$1645:$S$1675) -> 35885 | G24: =MAX('DAILY DATA'!$S$2011:$S$2041) -> 30722 | H24: =MAX('DAILY DATA'!$S$2376:$S$2406) -> 26272 | I24: =MAX('DAILY DATA'!$S$2741:$S$2771) -> 24204 | J24: =MAX('DAILY DATA'!$S$3106:$S$3136) -> 23842 | K24: =MAX('DAILY DATA'!$S$3472:$S$3502) -> 24528 | L24: =MAX('DAILY DATA'!$S$3837:$S$3867) -> 23899 | M24: =MAX('DAILY DATA'!$S$4202:$S$4232) -> 23844 | N24: =MAX('DAILY DATA'!$S$4567:$S$4597) -> 26354 | O24: =MAX('DAILY DATA'!$S$4933:$S$4963) -> 24733 | P24: =MAX('DAILY DATA'!$S$5298:$S$5328) -> 21075.8 | Q24: =MAX('DAILY DATA'!$S$5663:$S$5693) -> 20239 | R24: =MAX('DAILY DATA'!$S$6028:$S$6058) -> 20509.3 | S24: =MAX('DAILY DATA'!$S$6394:$S$6424) -> 21217 | V24: =MIN(B24:S24) -> 20239 | W24: =MAX(B24:S24) -> 35885
A25: AUG MIN | B25: =MIN('DAILY DATA'!$S$215:$S$245) -> 18703.944 | C25: =MIN('DAILY DATA'!$S$581:$S$611) -> 20382.96 | D25: =MIN('DAILY DATA'!$S$946:$S$976) -> 20826.258 | E25: =MIN('DAILY DATA'!$S$1311:$S$1341) -> 20364.72 | F25: =MIN('DAILY DATA'!$S$1676:$S$1706) -> 22017 | G25: =MIN('DAILY DATA'!$S$2042:$S$2072) -> 21035 | H25: =MIN('DAILY DATA'!$S$2407:$S$2437) -> 17818 | I25: =MIN('DAILY DATA'!$S$2772:$S$2802) -> 19393 | J25: =MIN('DAILY DATA'!$S$3137:$S$3167) -> 18241 | K25: =MIN('DAILY DATA'!$S$3503:$S$3533) -> 20561 | L25: =MIN('DAILY DATA'!$S$3868:$S$3898) -> 17738 | M25: =MIN('DAILY DATA'!$S$4233:$S$4263) -> 19890 | N25: =MIN('DAILY DATA'!$S$4598:$S$4628) -> 20570 | O25: =MIN('DAILY DATA'!$S$4964:$S$4994) -> 19422 | P25: =MIN('DAILY DATA'!$S$5329:$S$5359) -> 15412.9 | Q25: =MIN('DAILY DATA'!$S$5694:$S$5724) -> 16799.7 | R25: =MIN('DAILY DATA'!$S$6059:$S$6089) -> 16456.3 | T25: =AVERAGE(L25,Q25,P25) -> 16650.2 | U25: =AVERAGE(P25:R25) -> 16222.967 | V25: =MIN(B25:R25) -> 15412.9 | W25: =MAX(B25:R25) -> 22017 | X25: 20000 | Y25: =X25-V25 -> 4587.1
A26: AUG AVG | B26: =AVERAGE('DAILY DATA'!$S$215:$S$245) -> 24195.131 | C26: =AVERAGE('DAILY DATA'!$S$581:$S$611) -> 25361.412 | D26: =AVERAGE('DAILY DATA'!$S$946:$S$976) -> 26638.259 | E26: =AVERAGE('DAILY DATA'!$S$1311:$S$1341) -> 26599.744 | F26: =AVERAGE('DAILY DATA'!$S$1676:$S$1706) -> 28971.71 | G26: =AVERAGE('DAILY DATA'!$S$2042:$S$2072) -> 27407.71 | H26: =AVERAGE('DAILY DATA'!$S$2407:$S$2437) -> 23102.387 | I26: =AVERAGE('DAILY DATA'!$S$2772:$S$2802) -> 23453.677 | J26: =AVERAGE('DAILY DATA'!$S$3137:$S$3167) -> 21749.774 | K26: =AVERAGE('DAILY DATA'!$S$3503:$S$3533) -> 23344.968 | L26: =AVERAGE('DAILY DATA'!$S$3868:$S$3898) -> 21708.613 | M26: =AVERAGE('DAILY DATA'!$S$4233:$S$4263) -> 22520.129 | N26: =AVERAGE('DAILY DATA'!$S$4598:$S$4628) -> 23912.645 | O26: =AVERAGE('DAILY DATA'!$S$4964:$S$4994) -> 22459.677 | P26: =AVERAGE('DAILY DATA'!$S$5329:$S$5359) -> 19050.361 | Q26: =AVERAGE('DAILY DATA'!$S$5694:$S$5724) -> 18975.816 | R26: =AVERAGE('DAILY DATA'!$S$6059:$S$6089) -> 19393.952 | V26: =MIN(B26:R26) -> 18975.816 | W26: =MAX(B26:R26) -> 28971.71
A27: AUG MAX | B27: =MAX('DAILY DATA'!$S$215:$S$245) -> 26859.337 | C27: =MAX('DAILY DATA'!$S$581:$S$611) -> 29229.9 | D27: =MAX('DAILY DATA'!$S$946:$S$976) -> 29754.912 | E27: =MAX('DAILY DATA'!$S$1311:$S$1341) -> 31016.16 | F27: =MAX('DAILY DATA'!$S$1676:$S$1706) -> 39109 | G27: =MAX('DAILY DATA'!$S$2042:$S$2072) -> 30578 | H27: =MAX('DAILY DATA'!$S$2407:$S$2437) -> 28287 | I27: =MAX('DAILY DATA'!$S$2772:$S$2802) -> 26083 | J27: =MAX('DAILY DATA'!$S$3137:$S$3167) -> 24279 | K27: =MAX('DAILY DATA'!$S$3503:$S$3533) -> 25705 | L27: =MAX('DAILY DATA'!$S$3868:$S$3898) -> 24326 | M27: =MAX('DAILY DATA'!$S$4233:$S$4263) -> 25136 | N27: =MAX('DAILY DATA'!$S$4598:$S$4628) -> 26060 | O27: =MAX('DAILY DATA'!$S$4964:$S$4994) -> 25646 | P27: =MAX('DAILY DATA'!$S$5329:$S$5359) -> 20955.6 | Q27: =MAX('DAILY DATA'!$S$5694:$S$5724) -> 20938 | R27: =MAX('DAILY DATA'!$S$6059:$S$6089) -> 23259.9 | V27: =MIN(B27:R27) -> 20938 | W27: =MAX(B27:R27) -> 39109
A28: SEP MIN | B28: =MIN('DAILY DATA'!$S$246:$S$275) -> 19095.063 | C28: =MIN('DAILY DATA'!$S$612:$S$641) -> 20431.84 | D28: =MIN('DAILY DATA'!$S$977:$S$1006) -> 23221.692 | E28: =MIN('DAILY DATA'!$S$1342:$S$1371) -> 19772.48 | F28: =MIN('DAILY DATA'!$S$1707:$S$1736) -> 14006 | G28: =MIN('DAILY DATA'!$S$2073:$S$2102) -> 19570 | H28: =MIN('DAILY DATA'!$S$2438:$S$2467) -> 17412 | I28: =MIN('DAILY DATA'!$S$2803:$S$2832) -> 19928 | J28: =MIN('DAILY DATA'!$S$3168:$S$3197) -> 13219 | K28: =MIN('DAILY DATA'!$S$3534:$S$3563) -> 19906 | L28: =MIN('DAILY DATA'!$S$3899:$S$3928) -> 19110 | M28: =MIN('DAILY DATA'!$S$4264:$S$4293) -> 19711 | N28: =MIN('DAILY DATA'!$S$4629:$S$4658) -> 19343 | O28: =MIN('DAILY DATA'!$S$4995:$S$5024) -> 20447.6 | P28: =MIN('DAILY DATA'!$S$5360:$S$5389) -> 14737.6 | Q28: =MIN('DAILY DATA'!$S$5725:$S$5754) -> 16790.2 | R28: =MIN('DAILY DATA'!$S$6090:$S$6119) -> 16657.6 | T28: =AVERAGE(J28,F28,P28) -> 13987.533 | U28: =AVERAGE(P28:R28) -> 16061.8 | V28: =MIN(B28:R28) -> 13219 | W28: =MAX(B28:R28) -> 23221.692 | X28: 15000 | Y28: =X28-V28 -> 1781
A29: SEP AVG | B29: =AVERAGE('DAILY DATA'!$S$246:$S$275) -> 27015.914 | C29: =AVERAGE('DAILY DATA'!$S$612:$S$641) -> 26817.524 | D29: =AVERAGE('DAILY DATA'!$S$977:$S$1006) -> 28569.864 | E29: =AVERAGE('DAILY DATA'!$S$1342:$S$1371) -> 27394.943 | F29: =AVERAGE('DAILY DATA'!$S$1707:$S$1736) -> 29292.067 | G29: =AVERAGE('DAILY DATA'!$S$2073:$S$2102) -> 31605.833 | H29: =AVERAGE('DAILY DATA'!$S$2438:$S$2467) -> 26929.5 | I29: =AVERAGE('DAILY DATA'!$S$2803:$S$2832) -> 25420 | J29: =AVERAGE('DAILY DATA'!$S$3168:$S$3197) -> 23147.467 | K29: =AVERAGE('DAILY DATA'!$S$3534:$S$3563) -> 25510.3 | L29: =AVERAGE('DAILY DATA'!$S$3899:$S$3928) -> 22566.8 | M29: =AVERAGE('DAILY DATA'!$S$4264:$S$4293) -> 24725.867 | N29: =AVERAGE('DAILY DATA'!$S$4629:$S$4658) -> 24704.6 | O29: =AVERAGE('DAILY DATA'!$S$4995:$S$5024) -> 24396.497 | P29: =AVERAGE('DAILY DATA'!$S$5360:$S$5389) -> 20301.713 | Q29: =AVERAGE('DAILY DATA'!$S$5725:$S$5754) -> 19796.383 | R29: =AVERAGE('DAILY DATA'!$S$6090:$S$6119) -> 21572.42 | V29: =MIN(B29:R29) -> 19796.383 | W29: =MAX(B29:R29) -> 31605.833
A30: SEP MAX | B30: =MAX('DAILY DATA'!$S$246:$S$275) -> 33644.996 | C30: =MAX('DAILY DATA'!$S$612:$S$641) -> 31052.054 | D30: =MAX('DAILY DATA'!$S$977:$S$1006) -> 32782.362 | E30: =MAX('DAILY DATA'!$S$1342:$S$1371) -> 32883.912 | F30: =MAX('DAILY DATA'!$S$1707:$S$1736) -> 45457 | G30: =MAX('DAILY DATA'!$S$2073:$S$2102) -> 50067 | H30: =MAX('DAILY DATA'!$S$2438:$S$2467) -> 36470 | I30: =MAX('DAILY DATA'!$S$2803:$S$2832) -> 29222 | J30: =MAX('DAILY DATA'!$S$3168:$S$3197) -> 33320 | K30: =MAX('DAILY DATA'!$S$3534:$S$3563) -> 31928 | L30: =MAX('DAILY DATA'!$S$3899:$S$3928) -> 26420 | M30: =MAX('DAILY DATA'!$S$4264:$S$4293) -> 28452 | N30: =MAX('DAILY DATA'!$S$4629:$S$4658) -> 28714 | O30: =MAX('DAILY DATA'!$S$4995:$S$5024) -> 29760 | P30: =MAX('DAILY DATA'!$S$5360:$S$5389) -> 23538.8 | Q30: =MAX('DAILY DATA'!$S$5725:$S$5754) -> 22404.2 | R30: =MAX('DAILY DATA'!$S$6090:$S$6119) -> 25174 | V30: =MIN(B30:R30) -> 22404.2 | W30: =MAX(B30:R30) -> 50067
A31: OCT MIN | B31: =MIN('DAILY DATA'!$S$276:$S$306) -> 22913.175 | C31: =MIN('DAILY DATA'!$S$642:$S$672) -> 28927.037 | D31: =MIN('DAILY DATA'!$S$1007:$S$1037) -> 23965.947 | E31: =MIN('DAILY DATA'!$S$1372:$S$1402) -> 25162.216 | F31: =MIN('DAILY DATA'!$S$1737:$S$1767) -> 25173.834 | G31: =MIN('DAILY DATA'!$S$2103:$S$2133) -> 29932 | H31: =MIN('DAILY DATA'!$S$2468:$S$2498) -> 24286 | I31: =MIN('DAILY DATA'!$S$2833:$S$2863) -> 21438 | J31: =MIN('DAILY DATA'!$S$3198:$S$3228) -> 25600 | K31: =MIN('DAILY DATA'!$S$3564:$S$3594) -> 22112 | L31: =MIN('DAILY DATA'!$S$3929:$S$3959) -> 22350 | M31: =MIN('DAILY DATA'!$S$4294:$S$4324) -> 26120 | N31: =MIN('DAILY DATA'!$S$4659:$S$4689) -> 24848 | O31: =MIN('DAILY DATA'!$S$5025:$S$5055) -> 24944.9 | P31: =MIN('DAILY DATA'!$S$5390:$S$5420) -> 20864.7 | Q31: =MIN('DAILY DATA'!$S$5755:$S$5785) -> 21844.3 | R31: =MIN('DAILY DATA'!$S$6120:$S$6150) -> 22705.5 | T31: =AVERAGE(I31,P31,Q31) -> 21382.333 | U31: =AVERAGE(P31:R31) -> 21804.833 | V31: =MIN(B31:R31) -> 20864.7 | W31: =MAX(B31:R31) -> 29932 | X31: 25000 | Y31: =X31-V31 -> 4135.3
A32: OCT AVG | B32: =AVERAGE('DAILY DATA'!$S$276:$S$306) -> 35274.397 | C32: =AVERAGE('DAILY DATA'!$S$642:$S$672) -> 40488.706 | D32: =AVERAGE('DAILY DATA'!$S$1007:$S$1037) -> 44131.986 | E32: =AVERAGE('DAILY DATA'!$S$1372:$S$1402) -> 38974.255 | F32: =AVERAGE('DAILY DATA'!$S$1737:$S$1767) -> 44681.897 | G32: =AVERAGE('DAILY DATA'!$S$2103:$S$2133) -> 43598.258 | H32: =AVERAGE('DAILY DATA'!$S$2468:$S$2498) -> 41601.29 | I32: =AVERAGE('DAILY DATA'!$S$2833:$S$2863) -> 40563.065 | J32: =AVERAGE('DAILY DATA'!$S$3198:$S$3228) -> 39300.935 | K32: =AVERAGE('DAILY DATA'!$S$3564:$S$3594) -> 37539.548 | L32: =AVERAGE('DAILY DATA'!$S$3929:$S$3959) -> 37294.742 | M32: =AVERAGE('DAILY DATA'!$S$4294:$S$4324) -> 42662.355 | N32: =AVERAGE('DAILY DATA'!$S$4659:$S$4689) -> 31965 | O32: =AVERAGE('DAILY DATA'!$S$5025:$S$5055) -> 41284.284 | P32: =AVERAGE('DAILY DATA'!$S$5390:$S$5420) -> 35109.884 | Q32: =AVERAGE('DAILY DATA'!$S$5755:$S$5785) -> 29217.584 | R32: =AVERAGE('DAILY DATA'!$S$6120:$S$6150) -> 32821.435 | V32: =MIN(B32:R32) -> 29217.584 | W32: =MAX(B32:R32) -> 44681.897
A33: OCT MAX | B33: =MAX('DAILY DATA'!$S$276:$S$306) -> 50616.79 | C33: =MAX('DAILY DATA'!$S$642:$S$672) -> 52146.345 | D33: =MAX('DAILY DATA'!$S$1007:$S$1037) -> 75546.396 | E33: =MAX('DAILY DATA'!$S$1372:$S$1402) -> 69657.936 | F33: =MAX('DAILY DATA'!$S$1737:$S$1767) -> 71715.812 | G33: =MAX('DAILY DATA'!$S$2103:$S$2133) -> 77420 | H33: =MAX('DAILY DATA'!$S$2468:$S$2498) -> 74951 | I33: =MAX('DAILY DATA'!$S$2833:$S$2864) -> 88334 | J33: =MAX('DAILY DATA'!$S$3198:$S$3228) -> 63341 | K33: =MAX('DAILY DATA'!$S$3564:$S$3594) -> 54253 | L33: =MAX('DAILY DATA'!$S$3929:$S$3959) -> 73075 | M33: =MAX('DAILY DATA'!$S$4294:$S$4324) -> 80535 | N33: =MAX('DAILY DATA'!$S$4659:$S$4689) -> 60962 | O33: =MAX('DAILY DATA'!$S$5025:$S$5055) -> 76012.4 | P33: =MAX('DAILY DATA'!$S$5390:$S$5420) -> 66639.7 | Q33: =MAX('DAILY DATA'!$S$5755:$S$5785) -> 42419.9 | R33: =MAX('DAILY DATA'!$S$6120:$S$6150) -> 76404.2 | V33: =MIN(B33:R33) -> 42419.9 | W33: =MAX(B33:R33) -> 88334
A34: NOV MIN | B34: =MIN('DAILY DATA'!$S$307:$S$336) -> 32166.703 | C34: =MIN('DAILY DATA'!$S$673:$S$702) -> 33126.41 | D34: =MIN('DAILY DATA'!$S$1038:$S$1067) -> 37537.12 | E34: =MIN('DAILY DATA'!$S$1403:$S$1432) -> 43045.626 | F34: =MIN('DAILY DATA'!$S$1768:$S$1797) -> 29415 | G34: =MIN('DAILY DATA'!$S$2134:$S$2163) -> 39406 | H34: =MIN('DAILY DATA'!$S$2499:$S$2528) -> 29457 | I34: =MIN('DAILY DATA'!$S$2864:$S$2893) -> 30410 | J34: =MIN('DAILY DATA'!$S$3229:$S$3258) -> 28690 | K34: =MIN('DAILY DATA'!$S$3595:$S$3624) -> 29366 | L34: =MIN('DAILY DATA'!$S$3960:$S$3989) -> 28706 | M34: =MIN('DAILY DATA'!$S$4325:$S$4354) -> 29199 | N34: =MIN('DAILY DATA'!$S$4690:$S$4719) -> 33740 | O34: =MIN('DAILY DATA'!$S$5056:$S$5085) -> 31754.5 | P34: =MIN('DAILY DATA'!$S$5421:$S$5450) -> 33150.2 | Q34: =MIN('DAILY DATA'!$S$5786:$S$5815) -> 35404.1 | R34: =MIN('DAILY DATA'!$S$6151:$S$6180) -> 28664.6 | T34: =AVERAGE(J34,L34,M34) -> 28865 | U34: =AVERAGE(P34:R34) -> 32406.3 | V34: =MIN(B34:R34) -> 28664.6 | W34: =MAX(B34:R34) -> 43045.626 | X34: 30000 | Y34: =X34-V34 -> 1335.4
A35: NOV AVG | B35: =AVERAGE('DAILY DATA'!$S$307:$S$336) -> 77293.809 | C35: =AVERAGE('DAILY DATA'!$S$673:$S$702) -> 82043.233 | D35: =AVERAGE('DAILY DATA'!$S$1038:$S$1067) -> 75653.407 | E35: =AVERAGE('DAILY DATA'!$S$1403:$S$1432) -> 64622.948 | F35: =AVERAGE('DAILY DATA'!$S$1768:$S$1797) -> 60264.7 | G35: =AVERAGE('DAILY DATA'!$S$2134:$S$2163) -> 79598.033 | H35: =AVERAGE('DAILY DATA'!$S$2499:$S$2528) -> 52494.133 | I35: =AVERAGE('DAILY DATA'!$S$2864:$S$2893) -> 72243.267 | J35: =AVERAGE('DAILY DATA'!$S$3229:$S$3258) -> 56602.568 | K35: =AVERAGE('DAILY DATA'!$S$3595:$S$3624) -> 60171.133 | L35: =AVERAGE('DAILY DATA'!$S$3960:$S$3989) -> 55584.967 | M35: =AVERAGE('DAILY DATA'!$S$4325:$S$4354) -> 61232.867 | N35: =AVERAGE('DAILY DATA'!$S$4690:$S$4719) -> 64224.5 | O35: =AVERAGE('DAILY DATA'!$S$5056:$S$5085) -> 69830.27 | P35: =AVERAGE('DAILY DATA'!$S$5421:$S$5450) -> 51691.097 | Q35: =AVERAGE('DAILY DATA'!$S$5786:$S$5815) -> 55337.933 | R35: =AVERAGE('DAILY DATA'!$S$6151:$S$6180) -> 49821.827 | V35: =MIN(B35:R35) -> 49821.827 | W35: =MAX(B35:R35) -> 82043.233
A36: NOV MAX | B36: =MAX('DAILY DATA'!$S$307:$S$336) -> 107511.58 | C36: =MAX('DAILY DATA'!$S$673:$S$702) -> 116536.49 | D36: =MAX('DAILY DATA'!$S$1038:$S$1067) -> 109555.9 | E36: =MAX('DAILY DATA'!$S$1403:$S$1432) -> 94148.263 | F36: =MAX('DAILY DATA'!$S$1768:$S$1797) -> 125121 | G36: =MAX('DAILY DATA'!$S$2134:$S$2163) -> 127405 | H36: =MAX('DAILY DATA'!$S$2499:$S$2528) -> 83537 | I36: =MAX('DAILY DATA'!$S$2864:$S$2893) -> 105801 | J36: =MAX('DAILY DATA'!$S$3229:$S$3258) -> 94809 | K36: =MAX('DAILY DATA'!$S$3595:$S$3624) -> 91655 | L36: =MAX('DAILY DATA'!$S$3960:$S$3989) -> 106451 | M36: =MAX('DAILY DATA'!$S$4325:$S$4354) -> 95107 | N36: =MAX('DAILY DATA'!$S$4690:$S$4719) -> 86635 | O36: =MAX('DAILY DATA'!$S$5056:$S$5085) -> 115841.3 | P36: =MAX('DAILY DATA'!$S$5421:$S$5450) -> 75657.2 | Q36: =MAX('DAILY DATA'!$S$5786:$S$5815) -> 84746.6 | R36: =MAX('DAILY DATA'!$S$6151:$S$6180) -> 86515 | V36: =MIN(B36:R36) -> 75657.2 | W36: =MAX(B36:R36) -> 127405
A37: DEC MIN | B37: =MIN('DAILY DATA'!$S$337:$S$367) -> 52705.887 | C37: =MIN('DAILY DATA'!$S$703:$S$733) -> 42487.872 | D37: =MIN('DAILY DATA'!$S$1068:$S$1098) -> 65522.85 | E37: =MIN('DAILY DATA'!$S$1433:$S$1463) -> 31828.86 | F37: =MIN('DAILY DATA'!$S$1798:$S$1828) -> 41983 | G37: =MIN('DAILY DATA'!$S$2164:$S$2194) -> 83957 | H37: =MIN('DAILY DATA'!$S$2529:$S$2559) -> 35352 | I37: =MIN('DAILY DATA'!$S$2894:$S$2924) -> 50331 | J37: =MIN('DAILY DATA'!$S$3259:$S$3289) -> 49253 | K37: =MIN('DAILY DATA'!$S$3625:$S$3655) -> 44028 | L37: =MIN('DAILY DATA'!$S$3990:$S$4020) -> 66843 | M37: =MIN('DAILY DATA'!$S$4355:$S$4385) -> 37487 | N37: =MIN('DAILY DATA'!$S$4720:$S$4750) -> 42698 | O37: =MIN('DAILY DATA'!$S$5086:$S$5116) -> 40059.9 | P37: =MIN('DAILY DATA'!$S$5451:$S$5481) -> 52473.8 | Q37: =MIN('DAILY DATA'!$S$5816:$S$5846) -> 72638.5 | R37: =MIN('DAILY DATA'!$S$6181:$S$6211) -> 31910.1 | T37: =AVERAGE(E37,H37,R37) -> 33030.32 | U37: =AVERAGE(P37:R37) -> 52340.8 | V37: =MIN(B37:R37) -> 31828.86 | W37: =MAX(B37:R37) -> 83957 | X37: 35000 | Y37: =X37-V37 -> 3171.14
A38: DEC AVG | B38: =AVERAGE('DAILY DATA'!$S$337:$S$367) -> 94534.732 | C38: =AVERAGE('DAILY DATA'!$S$703:$S$733) -> 82986.77 | D38: =AVERAGE('DAILY DATA'!$S$1068:$S$1098) -> 95119.09 | E38: =AVERAGE('DAILY DATA'!$S$1433:$S$1463) -> 85839.05 | F38: =AVERAGE('DAILY DATA'!$S$1798:$S$1828) -> 90147.871 | G38: =AVERAGE('DAILY DATA'!$S$2164:$S$2194) -> 120213.29 | H38: =AVERAGE('DAILY DATA'!$S$2529:$S$2559) -> 75521.935 | I38: =AVERAGE('DAILY DATA'!$S$2894:$S$2924) -> 102389.97 | J38: =AVERAGE('DAILY DATA'!$S$3259:$S$3289) -> 99989.774 | K38: =AVERAGE('DAILY DATA'!$S$3625:$S$3655) -> 92164.484 | L38: =AVERAGE('DAILY DATA'!$S$3990:$S$4020) -> 100266.94 | M38: =AVERAGE('DAILY DATA'!$S$4355:$S$4385) -> 73060.194 | N38: =AVERAGE('DAILY DATA'!$S$4720:$S$4750) -> 84512.258 | O38: =AVERAGE('DAILY DATA'!$S$5086:$S$5116) -> 85106.055 | P38: =AVERAGE('DAILY DATA'!$S$5451:$S$5481) -> 93710.1 | Q38: =AVERAGE('DAILY DATA'!$S$5816:$S$5846) -> 112184.16 | R38: =AVERAGE('DAILY DATA'!$S$6181:$S$6211) -> 67750.787 | V38: =MIN(B38:R38) -> 67750.787 | W38: =MAX(B38:R38) -> 120213.29
A39: DEC MAX | B39: =MAX('DAILY DATA'!$S$337:$S$367) -> 123915.25 | C39: =MAX('DAILY DATA'!$S$703:$S$733) -> 124253.07 | D39: =MAX('DAILY DATA'!$S$1068:$S$1098) -> 127952.16 | E39: =MAX('DAILY DATA'!$S$1433:$S$1463) -> 139443.91 | F39: =MAX('DAILY DATA'!$S$1798:$S$1828) -> 131681 | G39: =MAX('DAILY DATA'!$S$2164:$S$2194) -> 145818 | H39: =MAX('DAILY DATA'!$S$2529:$S$2559) -> 120704 | I39: =MAX('DAILY DATA'!$S$2894:$S$2924) -> 140669 | J39: =MAX('DAILY DATA'!$S$3259:$S$3289) -> 125917 | K39: =MAX('DAILY DATA'!$S$3625:$S$3655) -> 160097 | L39: =MAX('DAILY DATA'!$S$3990:$S$4020) -> 137141 | M39: =MAX('DAILY DATA'!$S$4355:$S$4385) -> 130568 | N39: =MAX('DAILY DATA'!$S$4720:$S$4750) -> 126522 | O39: =MAX('DAILY DATA'!$S$5086:$S$5116) -> 142581.2 | P39: =MAX('DAILY DATA'!$S$5451:$S$5481) -> 123900.1 | Q39: =MAX('DAILY DATA'!$S$5816:$S$5846) -> 153077.9 | R39: =MAX('DAILY DATA'!$S$6181:$S$6211) -> 98198.5 | V39: =MIN(B39:R39) -> 98198.5 | W39: =MAX(B39:R39) -> 160097
A41: MIN DAY | B41: =MIN(B4:B39) -> 17485.947 | C41: =MIN(C4:C39) -> 18835.704 | D41: =MIN(D4:D39) -> 19505.509 | E41: =MIN(E4:E39) -> 17713.832 | F41: =MIN(F4:F39) -> 14006 | G41: =MIN(G4:G39) -> 19570 | H41: =MIN(H4:H39) -> 17412 | I41: =MIN(I4:I39) -> 17173 | ... S41: =MIN(S4:S39) -> 14373.4
A42: AVG DAY | B42: =AVERAGE(B5,B8,B11,B14,B17,B20,B23,B26,B29,B32,B35,B38) -> 51969.453 | C42: =AVERAGE(C5,C8,C11,C14,C17,C20,C23,C26,C29,C32,C35,C38) -> 54508.076 | D42: =AVERAGE(D5,D8,D11,D14,D17,D20,D23,D26,D29,D32,D35,D38) -> 55667.041 | E42: =AVERAGE(E5,E8,E11,E14,E17,E20,E23,E26,E29,E32,E35,E38) -> 52553.685 | F42: =AVERAGE(F5,F8,F11,F14,F17,F20,F23,F26,F29,F32,F35,F38) -> 55384.045 | G42: =AVERAGE(G5,G8,G11,G14,G17,G20,G23,G26,G29,G32,G35,G38) -> 59458.605 | H42: =AVERAGE(H5,H8,H11,H14,H17,H20,H23,H26,H29,H32,H35,H38) -> 51039.814 | I42: =AVERAGE(I5,I8,I11,I14,I17,I20,I23,I26,I29,I32,I35,I38) -> 52352.535 | ... S42: =AVERAGE(S5,S8,S11,S14,S17,S20,S23,S26,S29,S32,S35,S38) -> 41551.385
A43: MAX DAY | B43: =MAX(B4:B39) -> 132996.07 | C43: =MAX(C4:C39) -> 144635.28 | D43: =MAX(D4:D39) -> 146133.56 | E43: =MAX(E4:E39) -> 139443.91 | F43: =MAX(F4:F39) -> 149006.83 | G43: =MAX(G4:G39) -> 158240 | H43: =MAX(H4:H39) -> 142563 | I43: =MAX(I4:I39) -> 140669 | ... S43: =MAX(S4:S39) -> 137485.2
A45: NOV-MAR DAY | B45: =AVERAGE(B5,B8,B11,B35,B38) -> 83398.338 | C45: =AVERAGE(C5,C8,C11,C35,C38) -> 86322.118 | D45: =AVERAGE(D5,D8,D11,D35,D38) -> 85317.819 | E45: =AVERAGE(E5,E8,E11,E35,E38) -> 81135.097 | F45: =AVERAGE(F5,F8,F11,F35,F38) -> 84914.699 | G45: =AVERAGE(G5,G8,G11,G35,G38) -> 94465.169 | H45: =AVERAGE(H5,H8,H11,H35,H38) -> 80212.135 | I45: =AVERAGE(I5,I8,I11,I35,I38) -> 84677.823 | ... S45: =AVERAGE(S5,S8,S11,S35,S38) -> 65892.097
A46: JUN-AUG DAY | B46: =AVERAGE(B20,B23,B26) -> 24517.305 | C46: =AVERAGE(C20,C23,C26) -> 25414.999 | D46: =AVERAGE(D20,D23,D26) -> 27306.109 | E46: =AVERAGE(E20,E23,E26) -> 26625.026 | F46: =AVERAGE(F20,F23,F26) -> 29095.933 | G46: =AVERAGE(G20,G23,G26) -> 27206.415 | H46: =AVERAGE(H20,H23,H26) -> 23305.331 | I46: =AVERAGE(I20,I23,I26) -> 22788.072 | ... S46: =AVERAGE(S20,S23,S26) -> 19073.274
A47: APR-OCT DAY | B47: =AVERAGE(B14,B17,B20,B23,B26,B29,B32) -> 29520.25 | C47: =AVERAGE(C14,C17,C20,C23,C26,C29,C32) -> 31783.761 | D47: =AVERAGE(D14,D17,D20,D23,D26,D29,D32) -> 34487.914 | E47: =AVERAGE(E14,E17,E20,E23,E26,E29,E32) -> 32138.39 | F47: =AVERAGE(F14,F17,F20,F23,F26,F29,F32) -> 34290.721 | G47: =AVERAGE(G14,G17,G20,G23,G26,G29,G32) -> 34453.918 | H47: =AVERAGE(H14,H17,H20,H23,H26,H29,H32) -> 30202.442 | I47: =AVERAGE(I14,I17,I20,I23,I26,I29,I32) -> 29263.043 | ... S47: =AVERAGE(S14,S17,S20,S23,S26,S29,S32) -> 23295.851
A48: WINTER VS NON-WINTER | B48: =B45/B47 -> 2.825123 | C48: =C45/C47 -> 2.7159189 | D48: =D45/D47 -> 2.4738469 | E48: =E45/E47 -> 2.5245539 | F48: =F45/F47 -> 2.4763171 | G48: =G45/G47 -> 2.7417831 | H48: =H45/H47 -> 2.6558162 | I48: =I45/I47 -> 2.8936779 | ... S48: =S45/S47 -> 2.8284906
A49: NWS DEG DAYS | B49: 3962 | C49: 4289 | D49: 3984 | E49: 3359 | F49: 3584 | G49: 4123 | H49: 3648 | I49: 3662 | J49: 3931 | K49: 3702 | L49: 3653 | M49: 3134 | N49: 3425 | O49: 3405 | P49: 3742 | Q49: 3883 | R49: 3333
F3661: 4235
F3662: 16577
F3663: 2202
F3664: 1539
F3665: 11220
F3666: 6225
F3667: 18225
F3668: 18319
F3669: 25627
F3670: 17377
F3671: 15214
F3672: 2506
... F3691: 42510

Sheet MTH STATS & GRAPHS
B1: TOTAL | C1: TOTAL | D1: TOTAL | E1: TOTAL | F1: TOTAL | G1: TOTAL | H1: TOTAL | I1: TOTAL | J1: TOTAL | K1: TOTAL | L1: TOTAL | M1: TOTAL | N1: TOTAL | O1: TOTAL | P1: TOTAL | Q1: TOTAL | R1: TOTAL | S1: TOTAL | U1: TOTAL | V1: TOTAL
B2: 95 | C2: 96 | D2: 97 | E2: 98 | F2: 99 | G2: 00 | H2: 01 | I2: 02 | J2: 03 | K2: 04 | L2: 05 | M2: 06 | N2: 07 | O2: 08 | P2: 09 | Q2: 10 | R2: 11 | S2: 12 | U2: MIN | V2: MAX
A3: JAN | B3: =SUM('DAILY DATA'!$O$3:$O$33) -> 2911244 | C3: =SUM('DAILY DATA'!$O$368:$O$398) -> 3056176.9 | D3: =SUM('DAILY DATA'!$O$734:$O$764) -> 3200951 | E3: =SUM('DAILY DATA'!$O$1099:$O$1129) -> 2832630.2 | F3: =SUM('DAILY DATA'!$O$1464:$O$1494) -> 2936679.4 | G3: =SUM('DAILY DATA'!$O$1829:$O$1859) -> 3672055 | H3: =SUM('DAILY DATA'!$O$2195:$O$2225) -> 3267299 | I3: =SUM('DAILY DATA'!$O$2560:$O$2590) -> 3534625 | J3: =SUM('DAILY DATA'!$O$2925:$O$2955) -> 3960425 | K3: =SUM('DAILY DATA'!$O$3290:$O$3320) -> 3615499 | L3: =SUM('DAILY DATA'!$O$3656:$O$3686) -> 3261160 | M3: =SUM('DAILY DATA'!$O$4021:$O$4051) -> 2747464 | N3: =SUM('DAILY DATA'!$O$4386:$O$4416) -> 2814423 | O3: =SUM('DAILY DATA'!$O$4751:$O$4781) -> 3147783 | P3: =SUM('DAILY DATA'!$O$5117:$O$5147) -> 3595468.3 | Q3: =SUM('DAILY DATA'!$O$5482:$O$5512) -> 3339891.1 | R3: =SUM('DAILY DATA'!$O$5847:$O$5877) -> 3422696.5 | S3: =SUM('DAILY DATA'!$O$6212:$O$6242) -> 2556651.4 | U3: =MIN(B3:S3) -> 2556651.4 | V3: =MAX(B3:S3) -> 3960425
A4: FEB | B4: =SUM('DAILY DATA'!$O$34:$O$61) -> 2650827.9 | C4: =SUM('DAILY DATA'!$O$399:$O$427) -> 2713706.5 | D4: =SUM('DAILY DATA'!$O$765:$O$792) -> 2525874.6 | E4: =SUM('DAILY DATA'!$O$1130:$O$1157) -> 2490855.9 | F4: =SUM('DAILY DATA'!$O$1495:$O$1522) -> 2597355.2 | G4: =SUM('DAILY DATA'!$O$1860:$O$1888) -> 2903973 | H4: =SUM('DAILY DATA'!$O$2226:$O$2253) -> 2448915 | I4: =SUM('DAILY DATA'!$O$2591:$O$2618) -> 3022217 | J4: =SUM('DAILY DATA'!$O$2956:$O$2983) -> 3299767 | K4: =SUM('DAILY DATA'!$O$3321:$O$3349) -> 3064041 | L4: =SUM('DAILY DATA'!$O$3687:$O$3714) -> 2726233 | M4: =SUM('DAILY DATA'!$O$4052:$O$4079) -> 3090571 | N4: =SUM('DAILY DATA'!$O$4417:$O$4444) -> 3190963 | O4: =SUM('DAILY DATA'!$O$4782:$O$4810) -> 2603473 | P4: =SUM('DAILY DATA'!$O$5148:$O$5175) -> 2483250.9 | Q4: =SUM('DAILY DATA'!$O$5513:$O$5540) -> 3080897.3 | R4: =SUM('DAILY DATA'!$O$5878:$O$5905) -> 2174305 | S4: =SUM('DAILY DATA'!$O$6243:$O$6271) -> 2191657.5 | U4: =MIN(B4:S4) -> 2174305 | V4: =MAX(B4:S4) -> 3299767
A5: MAR | B5: =SUM('DAILY DATA'!$O$62:$O$92) -> 2025722 | C5: =SUM('DAILY DATA'!$O$428:$O$458) -> 2566434 | D5: =SUM('DAILY DATA'!$O$793:$O$823) -> 2147846.3 | E5: =SUM('DAILY DATA'!$O$1158:$O$1188) -> 2442995.4 | F5: =SUM('DAILY DATA'!$O$1523:$O$1553) -> 2686665.9 | G5: =SUM('DAILY DATA'!$O$1889:$O$1919) -> 2495871 | H5: =SUM('DAILY DATA'!$O$2254:$O$2284) -> 2485846 | I5: =SUM('DAILY DATA'!$O$2619:$O$2649) -> 2603416 | J5: =SUM('DAILY DATA'!$O$2984:$O$3014) -> 2295584 | K5: =SUM('DAILY DATA'!$O$3350:$O$3380) -> 2054755 | L5: =SUM('DAILY DATA'!$O$3715:$O$3745) -> 2619481 | M5: =SUM('DAILY DATA'!$O$4080:$O$4110) -> 2251042 | N5: =SUM('DAILY DATA'!$O$4445:$O$4475) -> 2066059 | O5: =SUM('DAILY DATA'!$O$4811:$O$4841) -> 1963177 | P5: =SUM('DAILY DATA'!$O$5176:$O$5206) -> 2707515.1 | Q5: =SUM('DAILY DATA'!$O$5541:$O$5571) -> 1791028.6 | R5: =SUM('DAILY DATA'!$O$5906:$O$5936) -> 1931910 | S5: =SUM('DAILY DATA'!$O$6272:$O$6302) -> 1265155.2 | U5: =MIN(B5:S5) -> 1265155.2 | V5: =MAX(B5:S5) -> 2707515.1
A6: APR | B6: =SUM('DAILY DATA'!$O$93:$O$122) -> 1308567.3 | C6: =SUM('DAILY DATA'!$O$459:$O$488) -> 1473271.9 | D6: =SUM('DAILY DATA'!$O$824:$O$853) -> 1684125.5 | E6: =SUM('DAILY DATA'!$O$1189:$O$1218) -> 1498239.5 | F6: =SUM('DAILY DATA'!$O$1554:$O$1583) -> 1378100.2 | G6: =SUM('DAILY DATA'!$O$1920:$O$1949) -> 2041127 | H6: =SUM('DAILY DATA'!$O$2285:$O$2314) -> 1367202 | I6: =SUM('DAILY DATA'!$O$2650:$O$2679) -> 1318785 | J6: =SUM('DAILY DATA'!$O$3015:$O$3044) -> 1611824 | K6: =SUM('DAILY DATA'!$O$3381:$O$3410) -> 1525222 | L6: =SUM('DAILY DATA'!$O$3746:$O$3775) -> 1388599 | M6: =SUM('DAILY DATA'!$O$4111:$O$4140) -> 1170638 | N6: =SUM('DAILY DATA'!$O$4476:$O$4505) -> 1698752 | O6: =SUM('DAILY DATA'!$O$4842:$O$4871) -> 1511631 | P6: =SUM('DAILY DATA'!$O$5207:$O$5236) -> 1562650.1 | Q6: =SUM('DAILY DATA'!$O$5572:$O$5601) -> 1000211.3 | R6: =SUM('DAILY DATA'!$O$5937:$O$5966) -> 1233363.5 | S6: =SUM('DAILY DATA'!$O$6303:$O$6332) -> 1776627.2 | U6: =MIN(B6:S6) -> 1000211.3 | V6: =MAX(B6:S6) -> 2041127
A7: MAY | B7: =SUM('DAILY DATA'!$O$123:$O$153) -> 1054857.3 | C7: =SUM('DAILY DATA'!$O$489:$O$519) -> 1171085.5 | D7: =SUM('DAILY DATA'!$O$854:$O$884) -> 1069040.8 | E7: =SUM('DAILY DATA'!$O$1219:$O$1249) -> 1533670.5 | F7: =SUM('DAILY DATA'!$O$1584:$O$1614) -> 1121462 | G7: =SUM('DAILY DATA'!$O$1950:$O$1980) -> 1392067 | H7: =SUM('DAILY DATA'!$O$2315:$O$2345) -> 1016485 | I7: =SUM('DAILY DATA'!$O$2680:$O$2710) -> 968834 | J7: =SUM('DAILY DATA'!$O$3045:$O$3075) -> 977032 | K7: =SUM('DAILY DATA'!$O$3411:$O$3441) -> 1308106 | L7: =SUM('DAILY DATA'!$O$3776:$O$3806) -> 1001037 | M7: =SUM('DAILY DATA'!$O$4141:$O$4171) -> 1020697 | N7: =SUM('DAILY DATA'!$O$4506:$O$4536) -> 963897 | O7: =SUM('DAILY DATA'!$O$4872:$O$4902) -> 932956 | P7: =SUM('DAILY DATA'!$O$5237:$O$5267) -> 1005612.3 | Q7: =SUM('DAILY DATA'!$O$5602:$O$5632) -> 1338786.3 | R7: =SUM('DAILY DATA'!$O$5967:$O$5997) -> 1088880.9 | S7: =SUM('DAILY DATA'!$O$6333:$O$6363) -> 2198794.2 | U7: =MIN(B7:S7) -> 932956 | V7: =MAX(B7:S7) -> 2198794.2
A8: JUN | B8: =SUM('DAILY DATA'!$O$154:$O$183) -> 826921.98 | C8: =SUM('DAILY DATA'!$O$520:$O$549) -> 888598.46 | D8: =SUM('DAILY DATA'!$O$885:$O$914) -> 1168085.1 | E8: =SUM('DAILY DATA'!$O$1250:$O$1279) -> 1219975.4 | F8: =SUM('DAILY DATA'!$O$1615:$O$1644) -> 1365111 | G8: =SUM('DAILY DATA'!$O$1981:$O$2010) -> 1038043 | H8: =SUM('DAILY DATA'!$O$2346:$O$2375) -> 1032832 | I8: =SUM('DAILY DATA'!$O$2711:$O$2740) -> 1174683 | J8: =SUM('DAILY DATA'!$O$3076:$O$3105) -> 807805 | K8: =SUM('DAILY DATA'!$O$3442:$O$3471) -> 887667 | L8: =SUM('DAILY DATA'!$O$3807:$O$3836) -> 1265249 | M8: =SUM('DAILY DATA'!$O$4172:$O$4201) -> 1250281 | N8: =SUM('DAILY DATA'!$O$4537:$O$4566) -> 1039340 | O8: =SUM('DAILY DATA'!$O$4903:$O$4932) -> 1337532 | P8: =SUM('DAILY DATA'!$O$5268:$O$5297) -> 631075 | Q8: =SUM('DAILY DATA'!$O$5633:$O$5662) -> 1530482.2 | R8: =SUM('DAILY DATA'!$O$5998:$O$6027) -> 1226183.4 | S8: =SUM('DAILY DATA'!$O$6364:$O$6393) -> 2072998.1 | U8: =MIN(B8:S8) -> 631075 | V8: =MAX(B8:S8) -> 2072998.1
A9: JUL | B9: =SUM('DAILY DATA'!$O$184:$O$214) -> 1095169.1 | C9: =SUM('DAILY DATA'!$O$550:$O$580) -> 939927.12 | D9: =SUM('DAILY DATA'!$O$915:$O$945) -> 1379642.2 | E9: =SUM('DAILY DATA'!$O$1280:$O$1310) -> 1350518.5 | F9: =SUM('DAILY DATA'!$O$1645:$O$1675) -> 1877701 | G9: =SUM('DAILY DATA'!$O$2011:$O$2041) -> 995840 | H9: =SUM('DAILY DATA'!$O$2376:$O$2406) -> 1113905 | I9: =SUM('DAILY DATA'!$O$2741:$O$2771) -> 1538172 | J9: =SUM('DAILY DATA'!$O$3106:$O$3136) -> 940586 | K9: =SUM('DAILY DATA'!$O$3472:$O$3502) -> 901154 | L9: =SUM('DAILY DATA'!$O$3837:$O$3867) -> 1431877 | M9: =SUM('DAILY DATA'!$O$4202:$O$4232) -> 1567014 | N9: =SUM('DAILY DATA'!$O$4567:$O$4597) -> 1341059 | O9: =SUM('DAILY DATA'!$O$4933:$O$4963) -> 1497958 | P9: =SUM('DAILY DATA'!$O$5298:$O$5328) -> 947416.8 | Q9: =SUM('DAILY DATA'!$O$5663:$O$5693) -> 1783560.8 | R9: =SUM('DAILY DATA'!$O$6028:$O$6058) -> 1755968.3 | S9: =SUM('DAILY DATA'!$O$6394:$O$6424) -> 1952358.6 | U9: =MIN(B9:S9) -> 901154 | V9: =MAX(B9:S9) -> 1952358.6
A10: AUG | B10: =SUM('DAILY DATA'!$O$215:$O$245) -> 1388459.8 | C10: =SUM('DAILY DATA'!$O$581:$O$611) -> 837151.63 | D10: =SUM('DAILY DATA'!$O$946:$O$976) -> 1214713.2 | E10: =SUM('DAILY DATA'!$O$1311:$O$1341) -> 1567342.3 | F10: =SUM('DAILY DATA'!$O$1676:$O$1706) -> 1765820 | G10: =SUM('DAILY DATA'!$O$2042:$O$2072) -> 1050528 | H10: =SUM('DAILY DATA'!$O$2407:$O$2437) -> 1536961 | I10: =SUM('DAILY DATA'!$O$2772:$O$2802) -> 1590646 | J10: =SUM('DAILY DATA'!$O$3137:$O$3167) -> 1049198 | K10: =SUM('DAILY DATA'!$O$3503:$O$3533) -> 939075 | L10: =SUM('DAILY DATA'!$O$3868:$O$3898) -> 1609842 | M10: =SUM('DAILY DATA'!$O$4233:$O$4263) -> 1572728 | N10: =SUM('DAILY DATA'!$O$4598:$O$4628) -> 1683497 | O10: =SUM('DAILY DATA'!$O$4964:$O$4994) -> 1535136 | P10: =SUM('DAILY DATA'!$O$5329:$O$5359) -> 1661019.2 | Q10: =SUM('DAILY DATA'!$O$5694:$O$5724) -> 1984014.3 | R10: =SUM('DAILY DATA'!$O$6059:$O$6089) -> 1620033.5 | U10: =MIN(B10:S10) -> 837151.63 | V10: =MAX(B10:S10) -> 1984014.3
A11: SEP | B11: =SUM('DAILY DATA'!$O$246:$O$275) -> 1097496.2 | C11: =SUM('DAILY DATA'!$O$612:$O$641) -> 891842.18 | D11: =SUM('DAILY DATA'!$O$977:$O$1006) -> 1081516.7 | E11: =SUM('DAILY DATA'!$O$1342:$O$1371) -> 1327700.4 | F11: =SUM('DAILY DATA'!$O$1707:$O$1736) -> 1342828 | G11: =SUM('DAILY DATA'!$O$2073:$O$2102) -> 1030025 | H11: =SUM('DAILY DATA'!$O$2438:$O$2467) -> 1493814 | I11: =SUM('DAILY DATA'!$O$2803:$O$2832) -> 1325540 | J11: =SUM('DAILY DATA'!$O$3168:$O$3197) -> 766230 | K11: =SUM('DAILY DATA'!$O$3534:$O$3563) -> 778293 | L11: =SUM('DAILY DATA'!$O$3899:$O$3928) -> 1105203 | M11: =SUM('DAILY DATA'!$O$4264:$O$4293) -> 741776 | N11: =SUM('DAILY DATA'!$O$4629:$O$4658) -> 1327187 | O11: =SUM('DAILY DATA'!$O$4995:$O$5024) -> 1426336.9 | P11: =SUM('DAILY DATA'!$O$5360:$O$5389) -> 1108816.4 | Q11: =SUM('DAILY DATA'!$O$5725:$O$5754) -> 1398788.5 | R11: =SUM('DAILY DATA'!$O$6090:$O$6119) -> 1164887.6 | U11: =MIN(B11:S11) -> 741776 | V11: =MAX(B11:S11) -> 1493814
A12: OCT | B12: =SUM('DAILY DATA'!$O$276:$O$306) -> 1147775.6 | C12: =SUM('DAILY DATA'!$O$642:$O$672) -> 1323956 | D12: =SUM('DAILY DATA'!$O$1007:$O$1037) -> 1625379.4 | E12: =SUM('DAILY DATA'!$O$1372:$O$1402) -> 1578182.6 | F12: =SUM('DAILY DATA'!$O$1737:$O$1767) -> 1538928 | G12: =SUM('DAILY DATA'!$O$2103:$O$2133) -> 1386501 | H12: =SUM('DAILY DATA'!$O$2468:$O$2498) -> 1632772 | I12: =SUM('DAILY DATA'!$O$2833:$O$2863) -> 1472077 | J12: =SUM('DAILY DATA'!$O$3198:$O$3228) -> 1218329 | K12: =SUM('DAILY DATA'!$O$3564:$O$3594) -> 1163737 | L12: =SUM('DAILY DATA'!$O$3929:$O$3959) -> 1211462 | M12: =SUM('DAILY DATA'!$O$4294:$O$4324) -> 1326522 | N12: =SUM('DAILY DATA'!$O$4659:$O$4689) -> 1290459 | O12: =SUM('DAILY DATA'!$O$5025:$O$5055) -> 1734530.8 | P12: =SUM('DAILY DATA'!$O$5390:$O$5420) -> 1088406.4 | Q12: =SUM('DAILY DATA'!$O$5755:$O$5785) -> 1843771.1 | R12: =SUM('DAILY DATA'!$O$6120:$O$6150) -> 1216703.5 | U12: =MIN(B12:S12) -> 1088406.4 | V12: =MAX(B12:S12) -> 1843771.1
A13: NOV | B13: =SUM('DAILY DATA'!$O$307:$O$336) -> 2626404.3 | C13: =SUM('DAILY DATA'!$O$673:$O$702) -> 2629923.6 | D13: =SUM('DAILY DATA'!$O$1038:$O$1067) -> 2345503.1 | E13: =SUM('DAILY DATA'!$O$1403:$O$1432) -> 1938688.4 | F13: =SUM('DAILY DATA'!$O$1768:$O$1797) -> 2070421 | G13: =SUM('DAILY DATA'!$O$2134:$O$2163) -> 2391799 | H13: =SUM('DAILY DATA'!$O$2499:$O$2528) -> 2379923 | I13: =SUM('DAILY DATA'!$O$2864:$O$2893) -> 2180520 | J13: =SUM('DAILY DATA'!$O$3229:$O$3258) -> 1699691 | K13: =SUM('DAILY DATA'!$O$3595:$O$3624) -> 1805257 | L13: =SUM('DAILY DATA'!$O$3960:$O$3989) -> 1792710 | M13: =SUM('DAILY DATA'!$O$4325:$O$4354) -> 1885084 | N13: =SUM('DAILY DATA'!$O$4690:$O$4719) -> 1983531 | O13: =SUM('DAILY DATA'!$O$5056:$O$5085) -> 2191414.1 | P13: =SUM('DAILY DATA'!$O$5421:$O$5450) -> 2013051.9 | Q13: =SUM('DAILY DATA'!$O$5786:$O$5815) -> 1663973 | R13: =SUM('DAILY DATA'!$O$6151:$O$6180) -> 1494654.8 | U13: =MIN(B13:S13) -> 1494654.8 | V13: =MAX(B13:S13) -> 2629923.6
A14: DEC | B14: =SUM('DAILY DATA'!$O$337:$O$367) -> 3073871.3 | C14: =SUM('DAILY DATA'!$O$703:$O$733) -> 2634040.8 | D14: =SUM('DAILY DATA'!$O$1068:$O$1098) -> 3004214.7 | E14: =SUM('DAILY DATA'!$O$1433:$O$1463) -> 2661010.6 | F14: =SUM('DAILY DATA'!$O$1798:$O$1828) -> 2943523 | G14: =SUM('DAILY DATA'!$O$2164:$O$2194) -> 3728743 | H14: =SUM('DAILY DATA'!$O$2529:$O$2559) -> 2936175 | I14: =SUM('DAILY DATA'!$O$2894:$O$2924) -> 3174697 | J14: =SUM('DAILY DATA'!$O$3259:$O$3289) -> 3099683 | K14: =SUM('DAILY DATA'!$O$3625:$O$3655) -> 2857120 | L14: =SUM('DAILY DATA'!$O$3990:$O$4020) -> 3345769 | M14: =SUM('DAILY DATA'!$O$4355:$O$4385) -> 2264866 | N14: =SUM('DAILY DATA'!$O$4720:$O$4750) -> 2863349 | O14: =SUM('DAILY DATA'!$O$5086:$O$5116) -> 2655204.7 | P14: =SUM('DAILY DATA'!$O$5451:$O$5481) -> 2905013.1 | Q14: =SUM('DAILY DATA'!$O$5816:$O$5846) -> 3623628.9 | R14: =SUM('DAILY DATA'!$O$6181:$O$6211) -> 2451169.4 | U14: =MIN(B14:S14) -> 2264866 | V14: =MAX(B14:S14) -> 3728743
A15: TOTAL | B15: =SUM(B3:B14) -> 21207317 | C15: =SUM(C3:C14) -> 21126115 | D15: =SUM(D3:D14) -> 22446893 | E15: =SUM(E3:E14) -> 22441810 | F15: =SUM(F3:F14) -> 23624595 | G15: =SUM(G3:G14) -> 24126572 | H15: =SUM(H3:H14) -> 22712129 | I15: =SUM(I3:I14) -> 23904212 | ... R15: =SUM(R3:R14) -> 20780756 | U15: =MIN(B15:S15) -> 20780756 | V15: =MAX(B15:S15) -> 24379033
A16: FY TOTALS | C16: =SUM(B9:B14,C3:C8) -> 22298450 | D16: =SUM(C9:C14,D3:D8) -> 21052765 | E16: =SUM(D9:D14,E3:E8) -> 22669336 | F16: =SUM(E9:E14,F3:F8) -> 22508816 | G16: =SUM(F9:F14,G3:G8) -> 25082357 | H16: =SUM(G9:G14,H3:H8) -> 22202015 | I16: =SUM(H9:H14,I3:I8) -> 23716110 | J16: =SUM(I9:I14,J3:J8) -> 24234089 | ... S16: =SUM(R9:R14,S3:S8) -> 21765301 | U16: =MIN(B16:S16) -> 20706395 | V16: =MAX(B16:S16) -> 25082357
B18: RPE PLANT | C18: RPE PLANT | D18: RPE PLANT | E18: RPE PLANT | F18: RPE PLANT | G18: RPE PLANT | H18: RPE PLANT | I18: RPE PLANT | J18: RPE PLANT | K18: RPE PLANT | L18: RPE PLANT | M18: RPE PLANT | N18: RPE PLANT | O18: RPE PLANT | P18: RPE PLANT | Q18: RPE PLANT | R18: RPE PLANT | S18: RPE PLANT | U18: RPE PLANT | V18: RPE PLANT
B19: 95 | C19: 96 | D19: 97 | E19: 98 | F19: 99 | G19: 00 | H19: 01 | I19: 02 | J19: 03 | K19: 04 | L19: 05 | M19: 06 | N19: 07 | O19: 08 | P19: 09 | Q19: 10 | R19: 11 | S19: 12 | U19: MIN | V19: MAX
A20: JAN | B20: =SUM('DAILY DATA'!$P$3:$P$33) -> 90435.135 | C20: =SUM('DAILY DATA'!$P$368:$P$398) -> 103337.84 | D20: =SUM('DAILY DATA'!$P$734:$P$764) -> 71860.914 | E20: =SUM('DAILY DATA'!$P$1099:$P$1129) -> 59509.658 | F20: =SUM('DAILY DATA'!$P$1464:$P$1494) -> 0 | G20: =SUM('DAILY DATA'!$P$1829:$P$1859) -> 206663 | H20: =SUM('DAILY DATA'!$P$2195:$P$2225) -> 61 | I20: =SUM('DAILY DATA'!$P$2560:$P$2590) -> 699078 | J20: =SUM('DAILY DATA'!$P$2925:$P$2955) -> 237788 | K20: =SUM('DAILY DATA'!$P$3290:$P$3320) -> 26745 | L20: =SUM('DAILY DATA'!$P$3656:$P$3686) -> 369 | M20: =SUM('DAILY DATA'!$P$4021:$P$4051) -> 237338 | N20: =SUM('DAILY DATA'!$P$4386:$P$4416) -> 18178 | O20: =SUM('DAILY DATA'!$P$4751:$P$4781) -> 0 | P20: =SUM('DAILY DATA'!$P$5117:$P$5147) -> 145010 | Q20: =SUM('DAILY DATA'!$P$5482:$P$5512) -> 0 | R20: =SUM('DAILY DATA'!$P$5847:$P$5877) -> 0 | S20: =SUM('DAILY DATA'!$P$6212:$P$6242) -> 0 | U20: =MIN(B20:S20) -> 0 | V20: =MAX(B20:S20) -> 699078
A21: FEB | B21: =SUM('DAILY DATA'!$P$34:$P$61) -> 66569.611 | C21: =SUM('DAILY DATA'!$P$399:$P$427) -> 75520.819 | D21: =SUM('DAILY DATA'!$P$765:$P$792) -> 65906.205 | E21: =SUM('DAILY DATA'!$P$1130:$P$1157) -> 17991.017 | F21: =SUM('DAILY DATA'!$P$1495:$P$1522) -> 0 | G21: =SUM('DAILY DATA'!$P$1860:$P$1888) -> 141910 | H21: =SUM('DAILY DATA'!$P$2226:$P$2253) -> 0 | I21: =SUM('DAILY DATA'!$P$2591:$P$2618) -> 530597 | J21: =SUM('DAILY DATA'!$P$2956:$P$2983) -> 87702 | K21: =SUM('DAILY DATA'!$P$3321:$P$3349) -> 104927 | L21: =SUM('DAILY DATA'!$P$3687:$P$3714) -> 0 | M21: =SUM('DAILY DATA'!$P$4052:$P$4079) -> 454858 | N21: =SUM('DAILY DATA'!$P$4417:$P$4444) -> 0 | O21: =SUM('DAILY DATA'!$P$4782:$P$4810) -> 8813 | P21: =SUM('DAILY DATA'!$P$5148:$P$5175) -> 296 | Q21: =SUM('DAILY DATA'!$P$5513:$P$5540) -> 0 | R21: =SUM('DAILY DATA'!$P$5878:$P$5905) -> 0 | S21: =SUM('DAILY DATA'!$P$6243:$P$6271) -> 12990 | U21: =MIN(B21:S21) -> 0 | V21: =MAX(B21:S21) -> 530597
A22: MAR | B22: =SUM('DAILY DATA'!$P$62:$P$92) -> 107616.34 | C22: =SUM('DAILY DATA'!$P$428:$P$458) -> 75404.405 | D22: =SUM('DAILY DATA'!$P$793:$P$823) -> 70158.233 | E22: =SUM('DAILY DATA'!$P$1158:$P$1188) -> 42312.458 | F22: =SUM('DAILY DATA'!$P$1523:$P$1553) -> 0 | G22: =SUM('DAILY DATA'!$P$1889:$P$1919) -> 465863 | H22: =SUM('DAILY DATA'!$P$2254:$P$2284) -> 0 | I22: =SUM('DAILY DATA'!$P$2619:$P$2649) -> 486110 | J22: =SUM('DAILY DATA'!$P$2984:$P$3014) -> 165828 | K22: =SUM('DAILY DATA'!$P$3350:$P$3380) -> 0 | L22: =SUM('DAILY DATA'!$P$3715:$P$3745) -> 496 | M22: =SUM('DAILY DATA'!$P$4080:$P$4110) -> 168264 | N22: =SUM('DAILY DATA'!$P$4445:$P$4475) -> 109912 | O22: =SUM('DAILY DATA'!$P$4811:$P$4841) -> 0 | P22: =SUM('DAILY DATA'!$P$5176:$P$5206) -> 513054 | Q22: =SUM('DAILY DATA'!$P$5541:$P$5571) -> 0 | R22: =SUM('DAILY DATA'!P5906:P5936) -> 0 | S22: =SUM('DAILY DATA'!$P$6272:$P$6302) -> 22762 | U22: =MIN(B22:S22) -> 0 | V22: =MAX(B22:S22) -> 513054
A23: APR | B23: =SUM('DAILY DATA'!$P$93:$P$122) -> 72978.821 | C23: =SUM('DAILY DATA'!$P$459:$P$488) -> 57298.046 | D23: =SUM('DAILY DATA'!$P$824:$P$853) -> 62346.684 | E23: =SUM('DAILY DATA'!$P$1189:$P$1218) -> 120385.28 | F23: =SUM('DAILY DATA'!$P$1554:$P$1583) -> 0 | G23: =SUM('DAILY DATA'!$P$1920:$P$1949) -> 486206 | H23: =SUM('DAILY DATA'!$P$2285:$P$2314) -> 35033 | I23: =SUM('DAILY DATA'!$P$2650:$P$2679) -> 89544 | J23: =SUM('DAILY DATA'!$P$3015:$P$3044) -> 153405 | K23: =SUM('DAILY DATA'!$P$3381:$P$3410) -> 84160 | L23: =SUM('DAILY DATA'!$P3746:$P$3775) -> 35589 | M23: =SUM('DAILY DATA'!$P$4111:$P$4140) -> 34267 | N23: =SUM('DAILY DATA'!$P$4476:$P$4505) -> 270788 | O23: =SUM('DAILY DATA'!$P$4842:$P$4871) -> 177665 | P23: =SUM('DAILY DATA'!$P$5207:$P$5236) -> 406564 | Q23: =SUM('DAILY DATA'!$P$5572:$P$5601) -> 130038 | R23: =SUM('DAILY DATA'!$P$5937:$P$5966) -> 188360 | S23: =SUM('DAILY DATA'!$P$6303:$P$6332) -> 766942 | U23: =MIN(B23:S23) -> 0 | V23: =MAX(B23:S23) -> 766942
A24: MAY | B24: =SUM('DAILY DATA'!$P$123:$P$153) -> 136846.79 | C24: =SUM('DAILY DATA'!$P$489:$P$519) -> 187270.25 | D24: =SUM('DAILY DATA'!$P$854:$P$884) -> 54226.95 | E24: =SUM('DAILY DATA'!$P$1219:$P$1249) -> 516995.15 | F24: =SUM('DAILY DATA'!$P$1584:$P$1614) -> 103527 | G24: =SUM('DAILY DATA'!$P$1950:$P$1980) -> 383842 | H24: =SUM('DAILY DATA'!$P$2315:$P$2345) -> 130980 | I24: =SUM('DAILY DATA'!$P$2680:$P$2710) -> 53735 | J24: =SUM('DAILY DATA'!$P$3045:$P$3075) -> 0 | K24: =SUM('DAILY DATA'!$P$3411:$P$3441) -> 499834 | L24: =SUM('DAILY DATA'!$P$3776:$P$3806) -> 0 | M24: =SUM('DAILY DATA'!$P$4141:$P$4171) -> 74365 | N24: =SUM('DAILY DATA'!$P$4506:$P$4536) -> 90305 | O24: =SUM('DAILY DATA'!$P$4872:$P$4902) -> 1951 | P24: =SUM('DAILY DATA'!$P$5237:$P$5267) -> 220444 | Q24: =SUM('DAILY DATA'!$P$5602:$P$5632) -> 658255 | R24: =SUM('DAILY DATA'!$P$5967:$P$5997) -> 375501 | S24: =SUM('DAILY DATA'!$P$6333:$P$6363) -> 1535993 | U24: =MIN(B24:S24) -> 0 | V24: =MAX(B24:S24) -> 1535993
A25: JUN | B25: =SUM('DAILY DATA'!$P$154:$P$183) -> 55182.182 | C25: =SUM('DAILY DATA'!$P$520:$P$549) -> 104802.95 | D25: =SUM('DAILY DATA'!$P$885:$P$914) -> 299058.36 | E25: =SUM('DAILY DATA'!$P$1250:$P$1279) -> 411178.82 | F25: =SUM('DAILY DATA'!$P$1615:$P$1644) -> 461489 | G25: =SUM('DAILY DATA'!$P$1981:$P$2010) -> 192266 | H25: =SUM('DAILY DATA'!$P$2346:$P$2375) -> 296339 | I25: =SUM('DAILY DATA'!$P$2711:$P$2740) -> 478091 | J25: =SUM('DAILY DATA'!$P$3076:$P$3105) -> 77711 | K25: =SUM('DAILY DATA'!$P$3442:$P$3471) -> 196093 | L25: =SUM('DAILY DATA'!$P$3807:$P$3836) -> 526775 | M25: =SUM('DAILY DATA'!$P$4172:$P$4201) -> 521521 | N25: =SUM('DAILY DATA'!$P$4537:$P$4566) -> 289436 | O25: =SUM('DAILY DATA'!$P$4903:$P$4932) -> 627824 | P25: =SUM('DAILY DATA'!$P$5268:$P$5297) -> 0 | Q25: =SUM('DAILY DATA'!$P$5633:$P$5662) -> 954481 | R25: =SUM('DAILY DATA'!$P$5998:$P$6027) -> 641771 | S25: =SUM('DAILY DATA'!$P$6364:$P$6393) -> 1470169 | U25: =MIN(B25:S25) -> 0 | V25: =MAX(B25:S25) -> 1470169
A26: JUL | B26: =SUM('DAILY DATA'!$P$184:$P$214) -> 362573.32 | C26: =SUM('DAILY DATA'!$P$550:$P$580) -> 172458.05 | D26: =SUM('DAILY DATA'!$P$915:$P$945) -> 563954.44 | E26: =SUM('DAILY DATA'!$P$1280:$P$1310) -> 534739.55 | F26: =SUM('DAILY DATA'!$P$1645:$P$1675) -> 1003645 | G26: =SUM('DAILY DATA'!$P$2011:$P$2041) -> 189252 | H26: =SUM('DAILY DATA'!$P$2376:$P$2406) -> 423726 | I26: =SUM('DAILY DATA'!$P$2741:$P$2771) -> 865757 | J26: =SUM('DAILY DATA'!$P$3106:$P$3136) -> 292765 | K26: =SUM('DAILY DATA'!$P$3472:$P$3502) -> 226888 | L26: =SUM('DAILY DATA'!$P$3837:$P$3867) -> 795070 | M26: =SUM('DAILY DATA'!$P$4202:$P$4232) -> 905845 | N26: =SUM('DAILY DATA'!$P$4567:$P$4597) -> 609448 | O26: =SUM('DAILY DATA'!$P$4933:$P$4963) -> 810705 | P26: =SUM('DAILY DATA'!$P$5298:$P$5328) -> 356890 | Q26: =SUM('DAILY DATA'!$P$5663:$P$5693) -> 1218925 | R26: =SUM('DAILY DATA'!$P$6028:$P$6058) -> 1196320 | S26: =SUM('DAILY DATA'!$P$6394:$P$6424) -> 1392739 | U26: =MIN(B26:S26) -> 172458.05 | V26: =MAX(B26:S26) -> 1392739
A27: AUG | B27: =SUM('DAILY DATA'!$P$215:$P$245) -> 638410.77 | C27: =SUM('DAILY DATA'!$P$581:$P$611) -> 50947.866 | D27: =SUM('DAILY DATA'!$P$946:$P$976) -> 388927.16 | E27: =SUM('DAILY DATA'!$P$1311:$P$1341) -> 742750.26 | F27: =SUM('DAILY DATA'!$P$1676:$P$1706) -> 867697 | G27: =SUM('DAILY DATA'!$P$2042:$P$2072) -> 200889 | H27: =SUM('DAILY DATA'!$P$2407:$P$2437) -> 820787 | I27: =SUM('DAILY DATA'!$P$2772:$P$2802) -> 863582 | J27: =SUM('DAILY DATA'!$P$3137:$P$3167) -> 374955 | K27: =SUM('DAILY DATA'!$P$3503:$P$3533) -> 215381 | L27: =SUM('DAILY DATA'!$P$3868:$P$3898) -> 936875 | M27: =SUM('DAILY DATA'!$P$4233:$P$4263) -> 874604 | N27: =SUM('DAILY DATA'!$P$4598:$P$4628) -> 942205 | O27: =SUM('DAILY DATA'!$P$4964:$P$4994) -> 838886 | P27: =SUM('DAILY DATA'!$P$5329:$P$5359) -> 1070458 | Q27: =SUM('DAILY DATA'!$P$5694:$P$5724) -> 1395764 | R27: =SUM('DAILY DATA'!$P$6059:$P$6089) -> 1018821 | U27: =MIN(B27:S27) -> 50947.866 | V27: =MAX(B27:S27) -> 1395764
A28: SEP | B28: =SUM('DAILY DATA'!$P$246:$P$275) -> 287018.76 | C28: =SUM('DAILY DATA'!$P$612:$P$641) -> 87316.47 | D28: =SUM('DAILY DATA'!$P$977:$P$1006) -> 224420.77 | E28: =SUM('DAILY DATA'!$P$1342:$P$1371) -> 505852.07 | F28: =SUM('DAILY DATA'!$P$1707:$P$1736) -> 464066 | G28: =SUM('DAILY DATA'!$P$2073:$P$2102) -> 81850 | H28: =SUM('DAILY DATA'!$P$2438:$P$2467) -> 685929 | I28: =SUM('DAILY DATA'!$P$2803:$P$2832) -> 562940 | J28: =SUM('DAILY DATA'!$P$3168:$P$3197) -> 71806 | K28: =SUM('DAILY DATA'!$P$3534:$P$3563) -> 12984 | L28: =SUM('DAILY DATA'!$P$3899:$P$3928) -> 428199 | M28: =SUM('DAILY DATA'!$P$4264:$P$4293) -> 0 | N28: =SUM('DAILY DATA'!$P$4629:$P$4658) -> 586049 | O28: =SUM('DAILY DATA'!$P$4995:$P$5024) -> 694442 | P28: =SUM('DAILY DATA'!$P$5360:$P$5389) -> 499765 | Q28: =SUM('DAILY DATA'!$P$5725:$P$5754) -> 804897 | R28: =SUM('DAILY DATA'!$P$6090:$P$6119) -> 517715 | U28: =MIN(B28:S28) -> 0 | V28: =MAX(B28:S28) -> 804897
A29: OCT | B29: =SUM('DAILY DATA'!$P$276:$P$306) -> 54269.31 | C29: =SUM('DAILY DATA'!$P$642:$P$672) -> 68806.121 | D29: =SUM('DAILY DATA'!$P$1007:$P$1037) -> 257287.84 | E29: =SUM('DAILY DATA'!$P$1372:$P$1402) -> 369980.65 | F29: =SUM('DAILY DATA'!$P$1737:$P$1767) -> 153789.21 | G29: =SUM('DAILY DATA'!$P$2103:$P$2133) -> 34955 | H29: =SUM('DAILY DATA'!$P$2468:$P$2498) -> 343132 | I29: =SUM('DAILY DATA'!$P$2833:$P$2863) -> 214622 | J29: =SUM('DAILY DATA'!$P$3198:$P$3228) -> 0 | K29: =SUM('DAILY DATA'!$P$3564:$P$3594) -> 11 | L29: =SUM('DAILY DATA'!$P$3929:$P$3959) -> 55325 | M29: =SUM('DAILY DATA'!$P$4294:$P$4324) -> 3989 | N29: =SUM('DAILY DATA'!$P$4659:$P$4689) -> 299544 | O29: =SUM('DAILY DATA'!$P$5025:$P$5055) -> 454718 | P29: =SUM('DAILY DATA'!$P$5390:$P$5420) -> 0 | Q29: =SUM('DAILY DATA'!$P$5755:$P$5785) -> 938026 | R29: =SUM('DAILY DATA'!$P$6120:$P$6150) -> 199239 | U29: =MIN(B29:S29) -> 0 | V29: =MAX(B29:S29) -> 938026
A30: NOV | B30: =SUM('DAILY DATA'!$P$307:$P$336) -> 307590.03 | C30: =SUM('DAILY DATA'!$P$673:$P$702) -> 168626.64 | D30: =SUM('DAILY DATA'!$P$1038:$P$1067) -> 75900.883 | E30: =SUM('DAILY DATA'!$P$1403:$P$1432) -> 0 | F30: =SUM('DAILY DATA'!$P$1768:$P$1797) -> 262480 | G30: =SUM('DAILY DATA'!$P$2134:$P$2163) -> 3858 | H30: =SUM('DAILY DATA'!$P$2499:$P$2528) -> 805099 | I30: =SUM('DAILY DATA'!$P$2864:$P$2893) -> 13222 | J30: =SUM('DAILY DATA'!$P$3229:$P$3258) -> 1614 | K30: =SUM('DAILY DATA'!$P$3595:$P$3624) -> 123 | L30: =SUM('DAILY DATA'!$P$3960:$P$3989) -> 125161 | M30: =SUM('DAILY DATA'!$P$4325:$P$4354) -> 48098 | N30: =SUM('DAILY DATA'!$P$4690:$P$4719) -> 56796 | O30: =SUM('DAILY DATA'!$P$5056:$P$5085) -> 96506 | P30: =SUM('DAILY DATA'!$P$5421:$P$5450) -> 462319 | Q30: =SUM('DAILY DATA'!$P$5786:$P$5815) -> 3835 | R30: =SUM('DAILY DATA'!$P$6151:$P$6180) -> 0 | U30: =MIN(B30:S30) -> 0 | V30: =MAX(B30:S30) -> 805099
A31: DEC | B31: =SUM('DAILY DATA'!$P$337:$P$367) -> 143294.61 | C31: =SUM('DAILY DATA'!$P$703:$P$733) -> 61450.869 | D31: =SUM('DAILY DATA'!$P$1068:$P$1098) -> 55522.9 | E31: =SUM('DAILY DATA'!$P$1433:$P$1463) -> 0 | F31: =SUM('DAILY DATA'!$P$1798:$P$1828) -> 148939 | G31: =SUM('DAILY DATA'!$P$2164:$P$2194) -> 2131 | H31: =SUM('DAILY DATA'!$P$2529:$P$2559) -> 594995 | I31: =SUM('DAILY DATA'!$P$2894:$P$2924) -> 608 | J31: =SUM('DAILY DATA'!$P$3259:$P$3289) -> 0 | K31: =SUM('DAILY DATA'!$P$3625:$P$3655) -> 21 | L31: =SUM('DAILY DATA'!$P$3990:$P$4020) -> 237494 | M31: =SUM('DAILY DATA'!$P$4355:$P$4385) -> 0 | N31: =SUM('DAILY DATA'!$P$4720:$P$4750) -> 243469 | O31: =SUM('DAILY DATA'!$P$5086:$P$5116) -> 16917 | P31: =SUM('DAILY DATA'!$P$5451:$P$5481) -> 0 | Q31: =SUM('DAILY DATA'!$P$5816:$P$5846) -> 145920 | R31: =SUM('DAILY DATA'!$P$6181:$P$6211) -> 350895 | U31: =MIN(B31:S31) -> 0 | V31: =MAX(B31:S31) -> 594995
A32: TOTAL | B32: =SUM(B20:B31) -> 2322785.7 | C32: =SUM(C20:C31) -> 1213240.3 | D32: =SUM(D20:D31) -> 2189571.3 | E32: =SUM(E20:E31) -> 3321694.9 | F32: =SUM(F20:F31) -> 3465632.2 | G32: =SUM(G20:G31) -> 2389685 | H32: =SUM(H20:H31) -> 4136081 | I32: =SUM(I20:I31) -> 4857886 | ... R32: =SUM(R20:R31) -> 4488622 | U32: =MIN(B32:S32) -> 1213240.3 | V32: =MAX(B32:S32) -> 6250141 | X32: Yr Demand$
A33: FY TOTALS | C33: =SUM(B26:B31,C20:C25) -> 2396791.1 | D33: =SUM(C26:C31,D20:D25) -> 1233163.4 | E33: =SUM(D26:D31,E20:E25) -> 2734386.4 | F33: =SUM(E26:E31,F20:F25) -> 2718338.5 | G33: =SUM(F26:F31,G20:G25) -> 4777366.2 | H33: =SUM(G26:G31,H20:H25) -> 975348 | I33: =SUM(H26:H31,I20:I25) -> 6010823 | J33: =SUM(I26:I31,J20:J25) -> 3243165 | ... S33: =SUM(R26:R31,S20:S25) -> 7091846 | U33: =MIN(B33:R33) -> 975348 | V33: =MAX(B33:R33) -> 6010823 | W33: =AVERAGE(C33:O33) -> 2845736.4 | X33: =0.8876*53520*12 -> 570052.22
A34: FY RPE % | C34: =C33/C16 -> 0.10748689 | D34: =D33/D16 -> 0.05857489 | E34: =E33/E16 -> 0.12062049 | F34: =F33/F16 -> 0.12076772 | G34: =G33/G16 -> 0.1904672 | H34: =H33/H16 -> 0.043930607 | I34: =I33/I16 -> 0.25344894 | J34: =J33/J16 -> 0.13382657 | ... R34: =R33/R16 -> 0.24440558 | U34: =X33/U33 -> 0.58446034 | V34: =X33/V33 -> 0.094837633 | W34: =X33/W33 -> 0.200318
A35: RPE LF | B35: =B32/(52000*365) -> 0.1223807 | C35: =C32/(52000*365) -> 0.06392204 | D35: =D32/(52000*365) -> 0.11536203 | E35: =E32/(52000*365) -> 0.17501027 | F35: =F32/(52000*365) -> 0.1825939 | G35: =G32/(52000*365) -> 0.12590543 | H35: =H32/(52000*365) -> 0.21791786 | I35: =I32/(52000*365) -> 0.25594763 | ... R35: =R32/(52000*365) -> 0.2364922
B37: COR TOT | C37: COR TOT | D37: COR TOT | E37: COR TOT | F37: COR TOT | G37: COR TOT | H37: COR TOT | I37: COR TOT | J37: COR TOT | K37: COR TOT | L37: COR TOT | M37: COR TOT | N37: COR TOT | O37: COR TOT | P37: COR TOT | Q37: COR TOT | R37: COR TOT | S37: COR TOT | U37: COR TOT | V37: COR TOT | W37: COR TOT
B38: 95 | C38: 96 | D38: 97 | E38: 98 | F38: 99 | G38: 00 | H38: 01 | I38: 02 | J38: 03 | K38: 04 | L38: 05 | M38: 06 | N38: 07 | O38: 08 | P38: 09 | Q38: 10 | R38: 11 | S38: 12 | U38: MIN | V38: MAX | W38: RANGE
A39: JAN | B39: =SUM('DAILY DATA'!$S$3:$S$33) -> 2820808.9 | C39: =SUM('DAILY DATA'!$S$368:$S$398) -> 2952839.1 | D39: =SUM('DAILY DATA'!$S$734:$S$764) -> 3129090.1 | E39: =SUM('DAILY DATA'!$S$1099:$S$1129) -> 2773120.5 | F39: =SUM('DAILY DATA'!$S$1464:$S$1494) -> 2936679.4 | G39: =SUM('DAILY DATA'!$S$1829:$S$1859) -> 3465392 | H39: =SUM('DAILY DATA'!$S$2195:$S$2225) -> 3267238 | I39: =SUM('DAILY DATA'!$S$2560:$S$2590) -> 2835547 | J39: =SUM('DAILY DATA'!$S$2925:$S$2955) -> 3722637 | K39: =SUM('DAILY DATA'!$S$3290:$S$3320) -> 3588754 | L39: =SUM('DAILY DATA'!$S$3656:$S$3686) -> 3260791 | M39: =SUM('DAILY DATA'!$S$4021:$S$4051) -> 2510126 | N39: =SUM('DAILY DATA'!$S$4386:$S$4416) -> 2796245 | O39: =SUM('DAILY DATA'!$S$4751:$S$4781) -> 3147783 | P39: =SUM('DAILY DATA'!$S$5117:$S$5147) -> 3450458.3 | Q39: =SUM('DAILY DATA'!$S$5482:$S$5512) -> 3339891.1 | R39: =SUM('DAILY DATA'!$S$5847:$S$5877) -> 3422696.5 | S39: =SUM('DAILY DATA'!$S$6212:$S$6242) -> 2556651.4 | U39: =MIN(B39:S39) -> 2510126 | V39: =MAX(B39:S39) -> 3722637 | W39: =V39-U39 -> 1212511
A40: FEB | B40: =SUM('DAILY DATA'!$S$34:$S$61) -> 2584258.3 | C40: =SUM('DAILY DATA'!$S$399:$S$427) -> 2638185.6 | D40: =SUM('DAILY DATA'!$S$765:$S$792) -> 2459968.4 | E40: =SUM('DAILY DATA'!$S$1130:$S$1157) -> 2472864.9 | F40: =SUM('DAILY DATA'!$S$1495:$S$1522) -> 2597355.2 | G40: =SUM('DAILY DATA'!$S$1860:$S$1888) -> 2762063 | H40: =SUM('DAILY DATA'!$S$2226:$S$2253) -> 2448915 | I40: =SUM('DAILY DATA'!$S$2591:$S$2618) -> 2491620 | J40: =SUM('DAILY DATA'!$S$2956:$S$2983) -> 3212065 | K40: =SUM('DAILY DATA'!$S$3321:$S$3349) -> 2959114 | L40: =SUM('DAILY DATA'!$S$3687:$S$3714) -> 2726233 | M40: =SUM('DAILY DATA'!$S$4052:$S$4079) -> 2635713 | N40: =SUM('DAILY DATA'!$S$4417:$S$4444) -> 3190963 | O40: =SUM('DAILY DATA'!$S$4782:$S$4810) -> 2594660 | P40: =SUM('DAILY DATA'!$S$5148:$S$5175) -> 2482954.9 | Q40: =SUM('DAILY DATA'!$S$5513:$S$5540) -> 3080897.3 | R40: =SUM('DAILY DATA'!$S$5878:$S$5905) -> 2174305 | S40: =SUM('DAILY DATA'!$S$6243:$S$6271) -> 2178667.5 | U40: =MIN(B40:S40) -> 2174305 | V40: =MAX(B40:S40) -> 3212065 | W40: =V40-U40 -> 1037760
A41: MAR | B41: =SUM('DAILY DATA'!$S$62:$S$92) -> 1918105.6 | C41: =SUM('DAILY DATA'!$S$428:$S$458) -> 2491029.6 | D41: =SUM('DAILY DATA'!$S$793:$S$823) -> 2077688.1 | E41: =SUM('DAILY DATA'!$S$1158:$S$1188) -> 2400682.9 | F41: =SUM('DAILY DATA'!$S$1523:$S$1553) -> 2686665.9 | G41: =SUM('DAILY DATA'!$S$1889:$S$1919) -> 2030008 | H41: =SUM('DAILY DATA'!$S$2254:$S$2284) -> 2485846 | I41: =SUM('DAILY DATA'!$S$2619:$S$2649) -> 2117306 | J41: =SUM('DAILY DATA'!$S$2984:$S$3014) -> 2129756 | K41: =SUM('DAILY DATA'!$S$3350:$S$3380) -> 2054755 | L41: =SUM('DAILY DATA'!$S$3715:$S$3745) -> 2618985 | M41: =SUM('DAILY DATA'!$S$4080:$S$4110) -> 2082778 | N41: =SUM('DAILY DATA'!$S$4445:$S$4475) -> 1956147 | O41: =SUM('DAILY DATA'!$S$4811:$S$4841) -> 1963177 | P41: =SUM('DAILY DATA'!$S$5176:$S$5206) -> 2194461.1 | Q41: =SUM('DAILY DATA'!$S$5541:$S$5571) -> 1791028.6 | R41: =SUM('DAILY DATA'!$S$5906:$S$5936) -> 1931910 | S41: =SUM('DAILY DATA'!$S$6272:$S$6302) -> 1242393.2 | U41: =MIN(B41:S41) -> 1242393.2 | V41: =MAX(B41:S41) -> 2686665.9 | W41: =V41-U41 -> 1444272.7
A42: APR | B42: =SUM('DAILY DATA'!$S$93:$S$122) -> 1235588.5 | C42: =SUM('DAILY DATA'!$S$459:$S$488) -> 1415973.9 | D42: =SUM('DAILY DATA'!$S$824:$S$853) -> 1621778.8 | E42: =SUM('DAILY DATA'!$S$1189:$S$1218) -> 1377854.2 | F42: =SUM('DAILY DATA'!$S$1554:$S$1583) -> 1378100.2 | G42: =SUM('DAILY DATA'!$S$1920:$S$1949) -> 1554921 | H42: =SUM('DAILY DATA'!$S$2285:$S$2314) -> 1332169 | I42: =SUM('DAILY DATA'!$S$2650:$S$2679) -> 1229241 | J42: =SUM('DAILY DATA'!$S$3015:$S$3044) -> 1458419 | K42: =SUM('DAILY DATA'!$S$3381:$S$3410) -> 1441062 | L42: =SUM('DAILY DATA'!$S$3746:$S$3775) -> 1353010 | M42: =SUM('DAILY DATA'!$S$4111:$S$4140) -> 1136371 | N42: =SUM('DAILY DATA'!$S$4476:$S$4505) -> 1427964 | O42: =SUM('DAILY DATA'!$S$4842:$S$4871) -> 1333966 | P42: =SUM('DAILY DATA'!$S$5207:$S$5236) -> 1156086.1 | Q42: =SUM('DAILY DATA'!$S$5572:$S$5601) -> 870173.3 | R42: =SUM('DAILY DATA'!$S$5937:$S$5966) -> 1045003.5 | S42: =SUM('DAILY DATA'!$S$6303:$S$6332) -> 1009685.2 | U42: =MIN(B42:S42) -> 870173.3 | V42: =MAX(B42:S42) -> 1621778.8 | W42: =V42-U42 -> 751605.48
A43: MAY | B43: =SUM('DAILY DATA'!$S$123:$S$153) -> 918010.53 | C43: =SUM('DAILY DATA'!$S$489:$S$519) -> 983815.26 | D43: =SUM('DAILY DATA'!$S$854:$S$884) -> 1014813.8 | E43: =SUM('DAILY DATA'!$S$1219:$S$1249) -> 1016675.3 | F43: =SUM('DAILY DATA'!$S$1584:$S$1614) -> 1017935 | G43: =SUM('DAILY DATA'!$S$1950:$S$1980) -> 1008225 | H43: =SUM('DAILY DATA'!$S$2315:$S$2345) -> 885505 | I43: =SUM('DAILY DATA'!$S$2680:$S$2710) -> 915099 | J43: =SUM('DAILY DATA'!$S$3045:$S$3075) -> 977032 | K43: =SUM('DAILY DATA'!$S$3411:$S$3441) -> 808272 | L43: =SUM('DAILY DATA'!$S$3776:$S$3806) -> 1001037 | M43: =SUM('DAILY DATA'!$S$4141:$S$4171) -> 946332 | N43: =SUM('DAILY DATA'!$S$4506:$S$4536) -> 873592 | O43: =SUM('DAILY DATA'!$S$4872:$S$4902) -> 931005 | P43: =SUM('DAILY DATA'!$S$5237:$S$5267) -> 785168.35 | Q43: =SUM('DAILY DATA'!$S$5602:$S$5632) -> 680531.3 | R43: =SUM('DAILY DATA'!$S$5967:$S$5997) -> 713379.9 | S43: =SUM('DAILY DATA'!$S$6333:$S$6363) -> 662801.2 | U43: =MIN(B43:S43) -> 662801.2 | V43: =MAX(B43:S43) -> 1017935 | W43: =V43-U43 -> 355133.8
A44: JUN | B44: =SUM('DAILY DATA'!$S$154:$S$183) -> 771739.8 | C44: =SUM('DAILY DATA'!$S$520:$S$549) -> 783795.51 | D44: =SUM('DAILY DATA'!$S$885:$S$914) -> 869026.76 | E44: =SUM('DAILY DATA'!$S$1250:$S$1279) -> 808796.57 | F44: =SUM('DAILY DATA'!$S$1615:$S$1644) -> 903622 | G44: =SUM('DAILY DATA'!$S$1981:$S$2010) -> 845777 | H44: =SUM('DAILY DATA'!$S$2346:$S$2375) -> 736493 | I44: =SUM('DAILY DATA'!$S$2711:$S$2740) -> 696592 | J44: =SUM('DAILY DATA'!$S$3076:$S$3105) -> 730094 | K44: =SUM('DAILY DATA'!$S$3442:$S$3471) -> 691574 | L44: =SUM('DAILY DATA'!$S$3807:$S$3836) -> 738474 | M44: =SUM('DAILY DATA'!$S$4172:$S$4201) -> 728760 | N44: =SUM('DAILY DATA'!$S$4537:$S$4566) -> 749904 | O44: =SUM('DAILY DATA'!$S$4903:$S$4932) -> 709708 | P44: =SUM('DAILY DATA'!$S$5268:$S$5297) -> 631075 | Q44: =SUM('DAILY DATA'!$S$5633:$S$5662) -> 576001.2 | R44: =SUM('DAILY DATA'!$S$5998:$S$6027) -> 584412.4 | S44: =SUM('DAILY DATA'!$S$6364:$S$6393) -> 602829.1 | U44: =MIN(B44:S44) -> 576001.2 | V44: =MAX(B44:S44) -> 903622 | W44: =V44-U44 -> 327620.8
A45: JUL | B45: =SUM('DAILY DATA'!$S$184:$S$214) -> 732595.79 | C45: =SUM('DAILY DATA'!$S$550:$S$580) -> 767469.06 | D45: =SUM('DAILY DATA'!$S$915:$S$945) -> 815687.74 | E45: =SUM('DAILY DATA'!$S$1280:$S$1310) -> 815778.94 | F45: =SUM('DAILY DATA'!$S$1645:$S$1675) -> 874056 | G45: =SUM('DAILY DATA'!$S$2011:$S$2041) -> 806588 | H45: =SUM('DAILY DATA'!S2398:S2428) -> 725302 | I45: =SUM('DAILY DATA'!$S$2741:$S$2771) -> 672415 | J45: =SUM('DAILY DATA'!$S$3106:$S$3136) -> 647821 | K45: =SUM('DAILY DATA'!$S$3472:$S$3502) -> 674266 | L45: =SUM('DAILY DATA'!$S$3837:$S$3867) -> 636807 | M45: =SUM('DAILY DATA'!$S$4202:$S$4232) -> 661169 | N45: =SUM('DAILY DATA'!$S$4567:$S$4597) -> 731611 | O45: =SUM('DAILY DATA'!$S$4933:$S$4963) -> 687253 | P45: =SUM('DAILY DATA'!$S$5298:$S$5328) -> 590526.8 | Q45: =SUM('DAILY DATA'!$S$5663:$S$5693) -> 564635.8 | R45: =SUM('DAILY DATA'!$S$6028:$S$6058) -> 559648.3 | S45: =SUM('DAILY DATA'!$S$6394:$S$6424) -> 559619.6 | U45: =MIN(B45:S45) -> 559619.6 | V45: =MAX(B45:S45) -> 874056 | W45: =V45-U45 -> 314436.4
A46: AUG | B46: =SUM('DAILY DATA'!$S$215:$S$245) -> 750049.07 | C46: =SUM('DAILY DATA'!$S$581:$S$611) -> 786203.77 | D46: =SUM('DAILY DATA'!$S$946:$S$976) -> 825786.04 | E46: =SUM('DAILY DATA'!$S$1311:$S$1341) -> 824592.06 | F46: =SUM('DAILY DATA'!$S$1676:$S$1706) -> 898123 | G46: =SUM('DAILY DATA'!$S$2042:$S$2072) -> 849639 | H46: =SUM('DAILY DATA'!$S$2407:$S$2437) -> 716174 | I46: =SUM('DAILY DATA'!$S$2772:$S$2802) -> 727064 | J46: =SUM('DAILY DATA'!$S$3137:$S$3167) -> 674243 | K46: =SUM('DAILY DATA'!$S$3503:$S$3533) -> 723694 | L46: =SUM('DAILY DATA'!$S$3868:$S$3898) -> 672967 | M46: =SUM('DAILY DATA'!$S$4233:$S$4263) -> 698124 | N46: =SUM('DAILY DATA'!$S$4598:$S$4628) -> 741292 | O46: =SUM('DAILY DATA'!$S$4964:$S$4994) -> 696250 | P46: =SUM('DAILY DATA'!$S$5329:$S$5359) -> 590561.2 | Q46: =SUM('DAILY DATA'!$S$5694:$S$5724) -> 588250.3 | R46: =SUM('DAILY DATA'!$S$6059:$S$6089) -> 601212.5 | U46: =MIN(B46:S46) -> 588250.3 | V46: =MAX(B46:S46) -> 898123 | W46: =V46-U46 -> 309872.7
A47: SEP | B47: =SUM('DAILY DATA'!$S$246:$S$275) -> 810477.41 | C47: =SUM('DAILY DATA'!$S$612:$S$641) -> 804525.71 | D47: =SUM('DAILY DATA'!$S$977:$S$1006) -> 857095.93 | E47: =SUM('DAILY DATA'!$S$1342:$S$1371) -> 821848.28 | F47: =SUM('DAILY DATA'!$S$1707:$S$1736) -> 878762 | G47: =SUM('DAILY DATA'!$S$2073:$S$2102) -> 948175 | H47: =SUM('DAILY DATA'!$S$2438:$S$2467) -> 807885 | I47: =SUM('DAILY DATA'!$S$2803:$S$2832) -> 762600 | J47: =SUM('DAILY DATA'!$S$3168:$S$3197) -> 694424 | K47: =SUM('DAILY DATA'!$S$3534:$S$3563) -> 765309 | L47: =SUM('DAILY DATA'!$S$3899:$S$3928) -> 677004 | M47: =SUM('DAILY DATA'!$S$4264:$S$4293) -> 741776 | N47: =SUM('DAILY DATA'!$S$4629:$S$4658) -> 741138 | O47: =SUM('DAILY DATA'!$S$4995:$S$5024) -> 731894.9 | P47: =SUM('DAILY DATA'!$S$5360:$S$5389) -> 609051.4 | Q47: =SUM('DAILY DATA'!$S$5725:$S$5754) -> 593891.5 | R47: =SUM('DAILY DATA'!$S$6090:$S$6119) -> 647172.6 | U47: =MIN(B47:S47) -> 593891.5 | V47: =MAX(B47:S47) -> 948175 | W47: =V47-U47 -> 354283.5
A48: OCT | B48: =SUM('DAILY DATA'!$S$276:$S$306) -> 1093506.3 | C48: =SUM('DAILY DATA'!$S$642:$S$672) -> 1255149.9 | D48: =SUM('DAILY DATA'!$S$1007:$S$1037) -> 1368091.6 | E48: =SUM('DAILY DATA'!$S$1372:$S$1402) -> 1208201.9 | F48: =SUM('DAILY DATA'!$S$1737:$S$1767) -> 1385138.8 | G48: =SUM('DAILY DATA'!$S$2103:$S$2133) -> 1351546 | H48: =SUM('DAILY DATA'!$S$2468:$S$2498) -> 1289640 | I48: =SUM('DAILY DATA'!$S$2833:$S$2863) -> 1257455 | J48: =SUM('DAILY DATA'!$S$3198:$S$3228) -> 1218329 | K48: =SUM('DAILY DATA'!$S$3564:$S$3594) -> 1163726 | L48: =SUM('DAILY DATA'!$S$3929:$S$3959) -> 1156137 | M48: =SUM('DAILY DATA'!$S$4294:$S$4324) -> 1322533 | N48: =SUM('DAILY DATA'!$S$4659:$S$4689) -> 990915 | O48: =SUM('DAILY DATA'!$S$5025:$S$5055) -> 1279812.8 | P48: =SUM('DAILY DATA'!$S$5390:$S$5420) -> 1088406.4 | Q48: =SUM('DAILY DATA'!$S$5755:$S$5785) -> 905745.1 | R48: =SUM('DAILY DATA'!$S$6120:$S$6150) -> 1017464.5 | U48: =MIN(B48:S48) -> 905745.1 | V48: =MAX(B48:S48) -> 1385138.8 | W48: =V48-U48 -> 479393.69
A49: NOV | B49: =SUM('DAILY DATA'!$S$307:$S$336) -> 2318814.3 | C49: =SUM('DAILY DATA'!$S$673:$S$702) -> 2461297 | D49: =SUM('DAILY DATA'!$S$1038:$S$1067) -> 2269602.2 | E49: =SUM('DAILY DATA'!$S$1403:$S$1432) -> 1938688.4 | F49: =SUM('DAILY DATA'!$S$1768:$S$1797) -> 1807941 | G49: =SUM('DAILY DATA'!$S$2134:$S$2163) -> 2387941 | H49: =SUM('DAILY DATA'!$S$2499:$S$2528) -> 1574824 | I49: =SUM('DAILY DATA'!$S$2864:$S$2893) -> 2167298 | J49: =SUM('DAILY DATA'!$S$3229:$S$3258) -> 1698077 | K49: =SUM('DAILY DATA'!$S$3595:$S$3624) -> 1805134 | L49: =SUM('DAILY DATA'!$S$3960:$S$3989) -> 1667549 | M49: =SUM('DAILY DATA'!$S$4325:$S$4354) -> 1836986 | N49: =SUM('DAILY DATA'!$S$4690:$S$4719) -> 1926735 | O49: =SUM('DAILY DATA'!$S$5056:$S$5085) -> 2094908.1 | P49: =SUM('DAILY DATA'!$S$5421:$S$5450) -> 1550732.9 | Q49: =SUM('DAILY DATA'!$S$5786:$S$5815) -> 1660138 | R49: =SUM('DAILY DATA'!$S$6151:$S$6180) -> 1494654.8 | U49: =MIN(B49:S49) -> 1494654.8 | V49: =MAX(B49:S49) -> 2461297 | W49: =V49-U49 -> 966642.18
A50: DEC | B50: =SUM('DAILY DATA'!$S$337:$S$367) -> 2930576.7 | C50: =SUM('DAILY DATA'!$S$703:$S$733) -> 2572589.9 | D50: =SUM('DAILY DATA'!$S$1068:$S$1098) -> 2948691.8 | E50: =SUM('DAILY DATA'!$S$1433:$S$1463) -> 2661010.6 | F50: =SUM('DAILY DATA'!$S$1798:$S$1828) -> 2794584 | G50: =SUM('DAILY DATA'!$S$2164:$S$2194) -> 3726612 | H50: =SUM('DAILY DATA'!$S$2529:$S$2559) -> 2341180 | I50: =SUM('DAILY DATA'!$S$2894:$S$2924) -> 3174089 | J50: =SUM('DAILY DATA'!$S$3259:$S$3289) -> 3099683 | K50: =SUM('DAILY DATA'!$S$3625:$S$3655) -> 2857099 | L50: =SUM('DAILY DATA'!$S$3990:$S$4020) -> 3108275 | M50: =SUM('DAILY DATA'!$S$4355:$S$4385) -> 2264866 | N50: =SUM('DAILY DATA'!$S$4720:$S$4750) -> 2619880 | O50: =SUM('DAILY DATA'!$S$5086:$S$5116) -> 2638287.7 | P50: =SUM('DAILY DATA'!$S$5451:$S$5481) -> 2905013.1 | Q50: =SUM('DAILY DATA'!$S$5816:$S$5846) -> 3477708.9 | R50: =SUM('DAILY DATA'!$S$6181:$S$6211) -> 2100274.4 | U50: =MIN(B50:S50) -> 2100274.4 | V50: =MAX(B50:S50) -> 3726612 | W50: =V50-U50 -> 1626337.6
A51: TOTAL | B51: =SUM(B39:B50) -> 18884531 | C51: =SUM(C39:C50) -> 19912874 | D51: =SUM(D39:D50) -> 20257321 | E51: =SUM(E39:E50) -> 19120115 | F51: =SUM(F39:F50) -> 20158962 | G51: =SUM(G39:G50) -> 21736887 | H51: =SUM(H39:H50) -> 18611171 | I51: =SUM(I39:I50) -> 19046326 | ... R51: =SUM(R39:R50) -> 16292134 | U51: =MIN(B51:S51) -> 16292134 | V51: =MAX(B51:S51) -> 21736887 | W51: =V51-U51 -> 5444752.6
A52: FY TOTALS | C52: =SUM(B45:B50,C39:C44) -> 19901658 | D52: =SUM(C45:C50,D39:D44) -> 19819601 | E52: =SUM(D45:D50,E39:E44) -> 19934950 | F52: =SUM(E45:E50,F39:F44) -> 19790478 | G52: =SUM(F45:F50,G39:G44) -> 20304991 | H52: =SUM(G45:G50,H39:H44) -> 21226667 | I52: =SUM(H45:H50,I39:I44) -> 17740410 | J52: =SUM(I45:I50,J39:J44) -> 20990924 | ... R52: =SUM(Q45:Q50,R39:R44) -> 17662077 | U52: =MIN(B52:S52) -> 17662077 | V52: =MAX(B52:S52) -> 21226667 | W52: =V52-U52 -> 3564590.1
B54: COR COL | C54: COR COL | D54: COR COL | E54: COR COL | F54: COR COL | G54: COR COL | H54: COR COL | I54: COR COL | J54: COR COL | K54: COR COL | L54: COR COL | M54: COR COL | N54: COR COL | O54: COR COL | P54: COR COL | Q54: COR COL | R54: COR COL | S54: COR COL | U54: COR COL | V54: COR COL
B55: 95 | C55: 96 | D55: 97 | E55: 98 | F55: 99 | G55: 00 | H55: 01 | I55: 02 | J55: 03 | K55: 04 | L55: 05 | M55: 06 | N55: 07 | O55: 08 | P55: 09 | Q55: 10 | R55: 11 | S55: 12 | U55: MIN | V55: MAX
A56: JAN | B56: =SUM('DAILY DATA'!$V$3:$V$33) -> 2368385.9 | C56: =SUM('DAILY DATA'!$V$368:$V$398) -> 2511791.1 | D56: =SUM('DAILY DATA'!$V$734:$V$764) -> 2666690.1 | E56: =SUM('DAILY DATA'!$V$1099:$V$1129) -> 2398598.5 | F56: =SUM('DAILY DATA'!$V$1464:$V$1494) -> 2414232.4 | G56: =SUM('DAILY DATA'!$V$1829:$V$1859) -> 2813822 | H56: =SUM('DAILY DATA'!$V$2195:$V$2225) -> 2580054 | I56: =SUM('DAILY DATA'!$V$2560:$V$2590) -> 2321981 | J56: =SUM('DAILY DATA'!$V$2925:$V$2955) -> 3000970 | K56: =SUM('DAILY DATA'!$V$3290:$V$3320) -> 2967854 | L56: =SUM('DAILY DATA'!$V$3656:$V$3686) -> 2264247 | M56: =SUM('DAILY DATA'!$V$4021:$V$4051) -> 1755158 | N56: =SUM('DAILY DATA'!$V$4386:$V$4416) -> 2034088 | O56: =SUM('DAILY DATA'!$V$4751:$V$4781) -> 2254042 | P56: =SUM('DAILY DATA'!$V$5117:$V$5147) -> 2415832.3 | Q56: =SUM('DAILY DATA'!$V$5482:$V$5512) -> 2485179.1 | R56: =SUM('DAILY DATA'!$V$5847:$V$5877) -> 2592408.5 | S56: =SUM('DAILY DATA'!$V$6212:$V$6242) -> 2176608.4 | U56: =MIN(B56:S56) -> 1755158 | V56: =MAX(C56:S56) -> 3000970
A57: FEB | B57: =SUM('DAILY DATA'!$V$34:$V$61) -> 2162407.3 | C57: =SUM('DAILY DATA'!$V$399:$V$427) -> 2238659.6 | D57: =SUM('DAILY DATA'!$V$765:$V$792) -> 2127559.4 | E57: =SUM('DAILY DATA'!$V$1130:$V$1157) -> 2131274.9 | F57: =SUM('DAILY DATA'!$V$1495:$V$1522) -> 2197141.2 | G57: =SUM('DAILY DATA'!$V$1860:$V$1888) -> 2191686 | H57: =SUM('DAILY DATA'!$V$2226:$V$2253) -> 1830622 | I57: =SUM('DAILY DATA'!$V$2591:$V$2618) -> 2035612 | J57: =SUM('DAILY DATA'!$V$2956:$V$2983) -> 2568089 | K57: =SUM('DAILY DATA'!$V$3321:$V$3349) -> 2356627 | L57: =SUM('DAILY DATA'!$V$3687:$V$3714) -> 1875364 | M57: =SUM('DAILY DATA'!$V$4052:$V$4079) -> 1809575 | N57: =SUM('DAILY DATA'!$V$4417:$V$4444) -> 2227329 | O57: =SUM('DAILY DATA'!$V$4782:$V$4810) -> 1814687 | P57: =SUM('DAILY DATA'!$V$5148:$V$5175) -> 1711237.9 | Q57: =SUM('DAILY DATA'!$V$5513:$V$5540) -> 2278661.3 | R57: =SUM('DAILY DATA'!$V$5878:$V$5905) -> 1687273 | S57: =SUM('DAILY DATA'!$V$6243:$V$6271) -> 1871641.5 | U57: =MIN(B57:S57) -> 1687273 | V57: =MAX(C57:S57) -> 2568089
A58: MAR | B58: =SUM('DAILY DATA'!$V$62:$V$92) -> 1636884.6 | C58: =SUM('DAILY DATA'!$V$428:$V$458) -> 2254620.6 | D58: =SUM('DAILY DATA'!$V$793:$V$823) -> 1826418.1 | E58: =SUM('DAILY DATA'!$V$1158:$V$1188) -> 1958078.9 | F58: =SUM('DAILY DATA'!$V$1523:$V$1553) -> 2214834.9 | G58: =SUM('DAILY DATA'!$V$1889:$V$1919) -> 1660137 | H58: =SUM('DAILY DATA'!$V$2254:$V$2284) -> 1901278 | I58: =SUM('DAILY DATA'!$V$2619:$V$2649) -> 1738248 | J58: =SUM('DAILY DATA'!$V$2984:$V$3014) -> 1856948 | K58: =SUM('DAILY DATA'!$V$3350:$V$3380) -> 1708263 | L58: =SUM('DAILY DATA'!$V$3715:$V$3745) -> 1931308 | M58: =SUM('DAILY DATA'!$V$4080:$V$4110) -> 1527638 | N58: =SUM('DAILY DATA'!$V$4445:$V$4475) -> 1416642 | O58: =SUM('DAILY DATA'!$V$4811:$V$4841) -> 1514134 | P58: =SUM('DAILY DATA'!$V$5176:$V$5206) -> 1881458.1 | Q58: =SUM('DAILY DATA'!$V$5541:$V$5571) -> 1656100.6 | R58: =SUM('DAILY DATA'!$V$5906:$V$5936) -> 1730568 | S58: =SUM('DAILY DATA'!$V$6272:$V$6302) -> 1189235.2 | U58: =MIN(B58:S58) -> 1189235.2 | V58: =MAX(C58:S58) -> 2254620.6
A59: APR | B59: =SUM('DAILY DATA'!$V$93:$V$122) -> 1193369.5 | C59: =SUM('DAILY DATA'!$V$459:$V$488) -> 1349199.9 | D59: =SUM('DAILY DATA'!$V$824:$V$853) -> 1453780.8 | E59: =SUM('DAILY DATA'!$V$1189:$V$1218) -> 1258311.2 | F59: =SUM('DAILY DATA'!$V$1554:$V$1583) -> 1378100.2 | G59: =SUM('DAILY DATA'!$V$1920:$V$1949) -> 1507057 | H59: =SUM('DAILY DATA'!$V$2285:$V$2314) -> 1224095 | I59: =SUM('DAILY DATA'!$V$2650:$V$2679) -> 1132053 | J59: =SUM('DAILY DATA'!$V$3015:$V$3044) -> 1417567 | K59: =SUM('DAILY DATA'!$V$3381:$V$3410) -> 1367697 | L59: =SUM('DAILY DATA'!$V$3746:$V$3775) -> 1270899 | M59: =SUM('DAILY DATA'!$V$4111:$V$4140) -> 1122855 | N59: =SUM('DAILY DATA'!$V$4476:$V$4505) -> 1397533 | O59: =SUM('DAILY DATA'!$V$4842:$V$4871) -> 1309008 | P59: =SUM('DAILY DATA'!$V$5207:$V$5236) -> 1155566.1 | Q59: =SUM('DAILY DATA'!$V$5572:$V$5601) -> 869405.3 | R59: =SUM('DAILY DATA'!$V$5937:$V$5966) -> 931703.5 | S59: =SUM('DAILY DATA'!$V$6303:$V$6332) -> 830435.2 | U59: =MIN(B59:S59) -> 830435.2 | V59: =MAX(C59:S59) -> 1507057
A60: MAY | B60: =SUM('DAILY DATA'!$V$123:$V$153) -> 918010.53 | C60: =SUM('DAILY DATA'!$V$489:$V$519) -> 983815.26 | D60: =SUM('DAILY DATA'!$V$854:$V$884) -> 1001094.8 | E60: =SUM('DAILY DATA'!$V$1219:$V$1249) -> 1004255.3 | F60: =SUM('DAILY DATA'!$V$1584:$V$1614) -> 1017935 | G60: =SUM('DAILY DATA'!$V$1950:$V$1980) -> 1008225 | H60: =SUM('DAILY DATA'!$V$2315:$V$2345) -> 885505 | I60: =SUM('DAILY DATA'!$V$2680:$V$2710) -> 915099 | J60: =SUM('DAILY DATA'!$V$3045:$V$3075) -> 977032 | K60: =SUM('DAILY DATA'!$V$3411:$V$3441) -> 808272 | L60: =SUM('DAILY DATA'!$V$3776:$V$3806) -> 998671 | M60: =SUM('DAILY DATA'!$V$4141:$V$4171) -> 891647 | N60: =SUM('DAILY DATA'!$V$4506:$V$4536) -> 873581 | O60: =SUM('DAILY DATA'!$V$4872:$V$4902) -> 931005 | P60: =SUM('DAILY DATA'!$V$5237:$V$5267) -> 785115.35 | Q60: =SUM('DAILY DATA'!$V$5602:$V$5632) -> 680531.3 | R60: =SUM('DAILY DATA'!$V$5967:$V$5997) -> 713379.9 | S60: =SUM('DAILY DATA'!$V$6333:$V$6363) -> 662801.2 | U60: =MIN(B60:S60) -> 662801.2 | V60: =MAX(C60:S60) -> 1017935
A61: JUN | B61: =SUM('DAILY DATA'!$V$154:$V$183) -> 771739.8 | C61: =SUM('DAILY DATA'!$V$520:$V$549) -> 783795.51 | D61: =SUM('DAILY DATA'!$V$885:$V$914) -> 869026.76 | E61: =SUM('DAILY DATA'!$V$1250:$V$1279) -> 808796.57 | F61: =SUM('DAILY DATA'!$V$1615:$V$1644) -> 898654 | G61: =SUM('DAILY DATA'!$V$1981:$V$2010) -> 845777 | H61: =SUM('DAILY DATA'!$V$2346:$V$2375) -> 736493 | I61: =SUM('DAILY DATA'!$V$2711:$V$2740) -> 670330 | J61: =SUM('DAILY DATA'!$V$3076:$V$3105) -> 730094 | K61: =SUM('DAILY DATA'!$V$3442:$V$3471) -> 691574 | L61: =SUM('DAILY DATA'!$V$3807:$V$3836) -> 738474 | M61: =SUM('DAILY DATA'!$V$4172:$V$4201) -> 728760 | N61: =SUM('DAILY DATA'!$V$4537:$V$4566) -> 749904 | O61: =SUM('DAILY DATA'!$V$4903:$V$4932) -> 709708 | P61: =SUM('DAILY DATA'!$V$5268:$V$5297) -> 631026 | Q61: =SUM('DAILY DATA'!$V$5633:$V$5662) -> 576001.2 | R61: =SUM('DAILY DATA'!$V$5998:$V$6027) -> 584412.4 | S61: =SUM('DAILY DATA'!$V$6364:$V$6393) -> 602818.1 | U61: =MIN(B61:S61) -> 576001.2 | V61: =MAX(C61:S61) -> 898654
A62: JUL | B62: =SUM('DAILY DATA'!$V$184:$V$214) -> 732595.79 | C62: =SUM('DAILY DATA'!$V$550:$V$580) -> 767469.06 | D62: =SUM('DAILY DATA'!$V$915:$V$945) -> 815687.74 | E62: =SUM('DAILY DATA'!$V$1280:$V$1310) -> 815778.94 | F62: =SUM('DAILY DATA'!$V$1645:$V$1675) -> 874056 | G62: =SUM('DAILY DATA'!$V$2011:$V$2041) -> 806588 | H62: =SUM('DAILY DATA'!$V$2415:$V$2445) -> 711738 | I62: =SUM('DAILY DATA'!$V$2741:$V$2771) -> 672415 | J62: =SUM('DAILY DATA'!$V$3106:$V$3136) -> 647821 | K62: =SUM('DAILY DATA'!$V$3472:$V$3502) -> 674266 | L62: =SUM('DAILY DATA'!$V$3837:$V$3867) -> 636807 | M62: =SUM('DAILY DATA'!$V$4202:$V$4232) -> 661169 | N62: =SUM('DAILY DATA'!$V$4567:$V$4597) -> 731611 | O62: =SUM('DAILY DATA'!$V$4933:$V$4963) -> 687202 | P62: =SUM('DAILY DATA'!$V$5298:$V$5328) -> 590468.8 | Q62: =SUM('DAILY DATA'!$V$5663:$V$5693) -> 564635.8 | R62: =SUM('DAILY DATA'!$V$6028:$V$6058) -> 559648.3 | S62: =SUM('DAILY DATA'!$V$6394:$V$6424) -> 559614.6 | U62: =MIN(B62:S62) -> 559614.6 | V62: =MAX(C62:S62) -> 874056
A63: AUG | B63: =SUM('DAILY DATA'!$V$215:$V$245) -> 750049.07 | C63: =SUM('DAILY DATA'!$V$581:$V$611) -> 786203.77 | D63: =SUM('DAILY DATA'!$V$946:$V$976) -> 825786.04 | E63: =SUM('DAILY DATA'!$V$1311:$V$1341) -> 824592.06 | F63: =SUM('DAILY DATA'!$V$1676:$V$1706) -> 897981 | G63: =SUM('DAILY DATA'!$V$2042:$V$2072) -> 849639 | H63: =SUM('DAILY DATA'!$V$2407:$V$2437) -> 716174 | I63: =SUM('DAILY DATA'!$V$2772:$V$2802) -> 726596 | J63: =SUM('DAILY DATA'!$V$3137:$V$3167) -> 674243 | K63: =SUM('DAILY DATA'!$V$3503:$V$3533) -> 723694 | L63: =SUM('DAILY DATA'!$V$3868:$V$3898) -> 672967 | M63: =SUM('DAILY DATA'!$V$4233:$V$4263) -> 698124 | N63: =SUM('DAILY DATA'!$V$4598:$V$4628) -> 741269 | O63: =SUM('DAILY DATA'!$V$4964:$V$4994) -> 695982 | P63: =SUM('DAILY DATA'!$V$5329:$V$5359) -> 589887.2 | Q63: =SUM('DAILY DATA'!$V$5694:$V$5724) -> 588250.3 | R63: =SUM('DAILY DATA'!$V$6059:$V$6089) -> 601212.5 | U63: =MIN(B63:S63) -> 588250.3 | V63: =MAX(C63:S63) -> 897981
A64: SEP | B64: =SUM('DAILY DATA'!$V$246:$V$275) -> 714667.41 | C64: =SUM('DAILY DATA'!$V$612:$V$641) -> 804525.71 | D64: =SUM('DAILY DATA'!$V$977:$V$1006) -> 857095.93 | E64: =SUM('DAILY DATA'!$V$1342:$V$1371) -> 812060.28 | F64: =SUM('DAILY DATA'!$V$1707:$V$1736) -> 878762 | G64: =SUM('DAILY DATA'!$V$2073:$V$2102) -> 948175 | H64: =SUM('DAILY DATA'!$V$2438:$V$2467) -> 796088 | I64: =SUM('DAILY DATA'!$V$2803:$V$2832) -> 739823 | J64: =SUM('DAILY DATA'!$V$3168:$V$3197) -> 694424 | K64: =SUM('DAILY DATA'!$V$3534:$V$3563) -> 757075 | L64: =SUM('DAILY DATA'!$V$3899:$V$3928) -> 677004 | M64: =SUM('DAILY DATA'!$V$4264:$V$4293) -> 741776 | N64: =SUM('DAILY DATA'!$V$4629:$V$4658) -> 741138 | O64: =SUM('DAILY DATA'!$V$4995:$V$5024) -> 730788.9 | P64: =SUM('DAILY DATA'!$V$5360:$V$5389) -> 608984.4 | Q64: =SUM('DAILY DATA'!$V$5725:$V$5754) -> 593891.5 | R64: =SUM('DAILY DATA'!$V$6090:$V$6119) -> 647172.6 | U64: =MIN(B64:S64) -> 593891.5 | V64: =MAX(C64:S64) -> 948175
