Workbook

Sheet COL GATE TOTALS
B1: 831001-1 | C1: 831001-2 | D1: 831001-3 | E1: 831003-1 | F1: 831038 | G1: 831071 | H1: 831002 | I1: 831080
A2: 40544 | B2: 9109 | C2: 4063.7 | D2: 0 | E2: 14206.2 | F2: 6330.3 | G2: 720.2 | H2: 0 | I2: 3036.7 | J2: =SUM(B2:I2) -> 37466.1
A3: 40545 | B3: 13459.2 | C3: 11059.2 | D3: 4916 | E3: 19358.8 | F3: 10302.8 | G3: 1545.5 | H3: 512.3 | I3: 4862.1 | J3: =SUM(B3:I3) -> 66015.9
A4: 40546 | B4: 13778.8 | C4: 13414.4 | D4: 15720.5 | E4: 22101.1 | F4: 11461 | G4: 3162.1 | H4: 1182.6 | I4: 6943.8 | J4: =SUM(B4:I4) -> 87764.3
A5: 40547 | B5: 13364.4 | C5: 13008.4 | D5: 15246.1 | E5: 21997.4 | F5: 11046.3 | G5: 2818.1 | H5: 865.2 | I5: 6630 | J5: =SUM(B5:I5) -> 84975.9
A6: 40548 | B6: 12958.1 | C6: 12614 | D6: 14784.5 | E6: 21545.7 | F6: 10807.4 | G6: 2697.5 | H6: 1002.8 | I6: 6014.6 | J6: =SUM(B6:I6) -> 82424.6
A7: 40549 | B7: 12407.8 | C7: 12081.2 | D7: 14161.5 | E7: 21428.1 | F7: 10661.7 | G7: 2365.6 | H7: 805.8 | I7: 5048.6 | J7: =SUM(B7:I7) -> 78960.3
A8: 40550 | B8: 12818.2 | C8: 12477.4 | D8: 14624.9 | E8: 21153.7 | F8: 10638.3 | G8: 2581.1 | H8: 922.3 | I8: 6335.8 | J8: =SUM(B8:I8) -> 81551.7
A9: 40551 | B9: 16002.5 | C9: 15572.1 | D9: 18239.8 | E9: 22850.8 | F9: 11625 | G9: 4012.2 | H9: 2335.1 | I9: 9015.4 | J9: =SUM(B9:I9) -> 99652.9
A10: 40552 | B10: 16140.4 | C10: 15708.4 | D10: 18398.2 | E10: 22891.9 | F10: 11590.2 | G10: 4228.1 | H10: 2296.4 | I10: 9393.5 | J10: =SUM(B10:I10) -> 100647.1
A11: 40553 | B11: 15072.9 | C11: 14666.6 | D11: 17179.8 | E11: 22703.9 | F11: 11372.1 | G11: 3695.7 | H11: 1711.3 | I11: 9078.6 | J11: =SUM(B11:I11) -> 95480.9
A12: 40554 | B12: 15198.1 | C12: 14789.3 | D12: 17325.2 | E12: 22939.1 | F12: 11503.9 | G12: 3691.2 | H12: 1749.4 | I12: 9179.4 | J12: =SUM(B12:I12) -> 96375.6
A13: 40555 | B13: 15387.2 | C13: 14973.5 | D13: 17540.5 | E13: 23093.8 | F13: 11529.3 | G13: 3772.1 | H13: 1760.3 | I13: 9292.1 | J13: =SUM(B13:I13) -> 97348.8
... A32: 40574 | B32: 14168.8 | C32: 13786.8 | D32: 16156.1 | E32: 21204.7 | F32: 11210.2 | G32: 3059 | H32: 801.8 | I32: 7280.8 | J32: =SUM(B32:I32) -> 87668.2
B34: =SUM(B2:B32) -> 427065.2 | C34: =SUM(C2:C32) -> 409245.8 | D34: =SUM(D2:D32) -> 439199.2 | E34: =SUM(E2:E32) -> 654993.3 | F34: =SUM(F2:F32) -> 330510.2 | G34: =SUM(G2:G32) -> 85461.6 | H34: =SUM(H3:H32) -> 34274.1 | I34: =SUM(I2:I32) -> 211659.1 | J34: =SUM(J2:J32) -> 2592408.5
A36: 40575 | B36: 11623 | C36: 11413.2 | D36: 6809.1 | E36: 18113.9 | F36: 9306.4 | G36: 1078.3 | H36: 56.2 | I36: 4222.7 | J36: =SUM(B36:I36) -> 62622.8
A37: 40576 | B37: 12524.5 | C37: 9206.2 | D37: 4099.8 | E37: 17081.4 | F37: 8867.7 | G37: 1277 | H37: 419.9 | I37: 4388.1 | J37: =SUM(B37:I37) -> 57864.6
A38: 40577 | B38: 12774.4 | C38: 12435.4 | D38: 14576 | E38: 20268 | F38: 10348.5 | G38: 2191.1 | H38: 396.2 | I38: 5737.3 | J38: =SUM(B38:I38) -> 78726.9
A39: 40578 | B39: 11902.4 | C39: 11589.5 | D39: 13588.7 | E39: 19626.1 | F39: 9841.4 | G39: 1830.7 | H39: 147.9 | I39: 5353.3 | J39: =SUM(B39:I39) -> 73880
A40: 40579 | B40: 11171 | C40: 10879.4 | D40: 12759.8 | E40: 18650.1 | F40: 9172.2 | G40: 1466.7 | H40: 223.3 | I40: 4448.8 | J40: =SUM(B40:I40) -> 68771.3
A41: 40580 | B41: 12856.1 | C41: 12650.8 | D41: 5649.4 | E41: 18457.6 | F41: 9308.3 | G41: 1321.4 | H41: 274 | I41: 4494.7 | J41: =SUM(B41:I41) -> 65012.3
A42: 40581 | B42: 11700 | C42: 11537.2 | D42: 3697.9 | E42: 17790.1 | F42: 9104 | G42: 954.5 | H42: 41.9 | I42: 3833.1 | J42: =SUM(B42:I42) -> 58658.7
A43: 40582 | B43: 13875.8 | C43: 13538.3 | D43: 13713.3 | E43: 20783.7 | F43: 10436.2 | G43: 2379.5 | H43: 877.7 | I43: 6234.1 | J43: =SUM(B43:I43) -> 81838.6
A44: 40583 | B44: 14320.1 | C44: 13936.1 | D44: 16329.3 | E44: 20991.1 | F44: 10817.9 | G44: 3059.8 | H44: 769 | I44: 6737.2 | J44: =SUM(B44:I44) -> 86960.5
A45: 40584 | B45: 14125 | C45: 13750.2 | D45: 16110.6 | E45: 20907 | F45: 10873 | G45: 3164.9 | H45: 999.7 | I45: 7027.3 | J45: =SUM(B45:I45) -> 86957.7
A46: 40585 | B46: 12409 | C46: 12080 | D46: 14162.2 | E46: 19806.3 | F46: 10095.1 | G46: 2088.7 | H46: 1137.8 | I46: 5334.3 | J46: =SUM(B46:I46) -> 77113.4
A47: 40586 | B47: 13337.8 | C47: 13134.7 | D47: 5077.6 | E47: 18218.2 | F47: 8958.8 | G47: 1144.8 | H47: 372.2 | I47: 4061.6 | J47: =SUM(B47:I47) -> 64305.7
... A63: 40602 | B63: 7524.5 | C63: 7399.6 | D63: 4576.2 | E63: 13241.5 | F63: 7139.1 | G63: 851.1 | H63: 517.1 | I63: 3268.4 | J63: =SUM(B63:I63) -> 44517.5
B65: =SUM(B36:B63) -> 316324.2 | C65: =SUM(C36:C63) -> 267299.9 | D65: =SUM(D36:D63) -> 200587.7 | E65: =SUM(E36:E63) -> 477899.5 | F65: =SUM(F36:F63) -> 246544.1 | G65: =SUM(G36:G63) -> 38585.8 | H65: =SUM(H36:H63) -> 17728.5 | I65: =SUM(I36:I63) -> 122303.3 | J65: =SUM(J36:J63) -> 1687273
A67: 40603 | B67: 13108.6 | C67: 12897 | D67: 5835 | E67: 17387.7 | F67: 9318.2 | G67: 1181.7 | H67: 1574.2 | I67: 3018.6 | J67: =SUM(B67:I67) -> 64321
A68: 40604 | B68: 12017 | C68: 11829.9 | D68: 4991.8 | E68: 15753.6 | F68: 8714.4 | G68: 1196.7 | H68: 963.3 | I68: 2899.5 | J68: =SUM(B68:I68) -> 58366.2
A69: 40605 | B69: 12757 | C69: 12417.5 | D69: 14551.4 | E69: 18766.6 | F69: 10198 | G69: 1648.6 | H69: 2318.7 | I69: 4370.4 | J69: =SUM(B69:I69) -> 77028.2
A70: 40606 | B70: 13495.7 | C70: 13293.5 | D70: 4733.3 | E70: 15342.5 | F70: 9640.6 | G70: 779.7 | H70: 651 | I70: 3186.8 | J70: =SUM(B70:I70) -> 61123.1
A71: 40607 | B71: 9718.9 | C71: 5861.7 | D71: 579.3 | E71: 10975.9 | F71: 5570.8 | G71: 762.1 | H71: 2.5 | I71: 2612.9 | J71: =SUM(B71:I71) -> 36084.1
A72: 40608 | B72: 11854.1 | C72: 11682.4 | D72: 4006.8 | E72: 14639.4 | F72: 8729.3 | G72: 997.8 | H72: 837.5 | I72: 3475 | J72: =SUM(B72:I72) -> 56222.3
A73: 40609 | B73: 11815 | C73: 11503.1 | D73: 13479.2 | E73: 17823.2 | F73: 11116.8 | G73: 1199.4 | H73: 1611.5 | I73: 4563.2 | J73: =SUM(B73:I73) -> 73111.4
A74: 40610 | B74: 11240.2 | C74: 10944.6 | D74: 12826.7 | E74: 16951.5 | F74: 10511.9 | G74: 947.7 | H74: 1161.1 | I74: 3917 | J74: =SUM(B74:I74) -> 68500.7
A75: 40611 | B75: 10089 | C75: 9825.9 | D75: 11516.9 | E75: 15767.1 | F75: 8877.4 | G75: 741.4 | H75: 478.6 | I75: 3375.8 | J75: =SUM(B75:I75) -> 60672.1
A76: 40612 | B76: 12067.5 | C76: 11899.5 | D76: 3672.2 | E76: 14752.5 | F76: 8444.7 | G76: 795.3 | H76: 487.2 | I76: 1094.5 | J76: =SUM(B76:I76) -> 53213.4
A77: 40613 | B77: 11998.7 | C77: 11680.5 | D77: 13688.6 | E77: 17198.5 | F77: 10749.8 | G77: 980.9 | H77: 1574.3 | I77: 4887.6 | J77: =SUM(B77:I77) -> 72758.9
...

Sheet HEATING MONTH REGRESSIONS
A1: DESIGN DEGREE DAYS | B1: 55 | F1: NRML DD | N1: NRML DD | V1: NRML DD | AD1: NRML DD | AL1: NRML DD | AT1: NRML DD | BB1: NRML DD | BJ1: NRML DD | BM1: DD TOTAL
F2: 204 | N2: 442 | V2: 745 | AD2: 836 | AL2: 675 | AT2: 524 | BB2: 247 | BJ2: 78 | BM2: =SUM(F2,N2,V2,AD2,AL2,AT2,BB2,BJ2) -> 3751
B4: INTCPT | C4: SLOPE | D4: RSQ | E4: DESIGN DAY | F4: MTHDD | G4: HEAT MDQ | J4: INTCPT | K4: SLOPE | L4: RSQ | M4: DESIGN DAY | N4: MTHDD | O4: HEAT MDQ | R4: INTCPT | S4: SLOPE | T4: RSQ | U4: DESIGN DAY | V4: MTHDD | W4: HEAT MDQ | Z4: INTCPT | AA4: SLOPE | AB4: RSQ | AC4: DESIGN DAY | AD4: MTHDD | AE4: HEAT MDQ | AH4: INTCPT | AI4: SLOPE | AJ4: RSQ | AK4: DESIGN DAY | AL4: MTHDD | AM4: HEAT MDQ | AP4: INTCPT | AQ4: SLOPE | AR4: RSQ | AS4: DESIGN DAY | AT4: MTHDD | AU4: HEAT MDQ | AX4: INTCPT | AY4: SLOPE | AZ4: RSQ | BA4: DESIGN DAY | BB4: MTHDD | BC4: HEAT MDQ | BF4: INTCPT | BG4: SLOPE | BH4: RSQ | BI4: DESIGN DAY | BJ4: MTHDD | BK4: HEAT MDQ | BM4: DD TOTAL | BO4: MAX INTCPT | BP4: MAX SLOPE | BQ4: MAX PEAKDAY
A5: 34973 | B5: 27908.995 | C5: 1208.0819 | D5: 0.72561918 | E5: =B5+(C5*$B$1) -> 94353.498 | F5: 189 | G5: =(C5*F5)/31 -> 7365.4024 | I5: 35004 | J5: 33093.534 | K5: 2108.1212 | L5: 0.86978598 | M5: =J5+(K5*$B$1) -> 149040.2 | N5: 629 | O5: =(K5*N5)/30 -> 44200.275 | Q5: 35034 | R5: 27424.819 | S5: 2521.6065 | T5: 0.88167486 | U5: =R5+(S5*$B$1) -> 166113.18 | V5: 904 | W5: =(S5*V5)/31 -> 73533.3 | Y5: 35065 | Z5: 45655.318 | AA5: 2052.4913 | AB5: 0.9398151 | AC5: =Z5+(AA5*$B$1) -> 158542.34 | AD5: 953 | AE5: =(AA5*AD5)/31 -> 63097.555 | AG5: 35096 | AH5: 34808.651 | AI5: 2505.4362 | AJ5: 0.966062 | AK5: =AH5+(AI5*$B$1) -> 172607.64 | AL5: 779 | AM5: =(AI5*AL5)/28 -> 69704.814 | AO5: 35125 | AP5: 31479.864 | AQ5: 2285.7303 | AR5: 0.90338053 | AS5: =AP5+(AQ5*$B$1) -> 157195.03 | AT5: 683 | AU5: =(AQ5*AT5)/31 -> 50359.799 | AW5: 35156 | AX5: 30730.762 | AY5: 1952.7707 | AZ5: 0.84320134 | BA5: =AX5+(AY5*$B$1) -> 138133.15 | BB5: 253 | BC5: =(AY5*BB5)/30 -> 16468.366 | BE5: 35186 | BF5: 26751.821 | BG5: 1226.2605 | BH5: 0.61234241 | BI5: =BF5+(BG5*$B$1) -> 94196.15 | BJ5: 126 | BK5: =(BG5*BJ5)/31 -> 4984.1557 | BM5: =SUM(F5,N5,V5,AD5,AL5,AT5,BB5,BJ5) -> 4516 | BN5: 95-96 | BO5: =MAX(B5,J5,R5,Z5,AH5,AP5,AX5,BF5) -> 45655.318 | BP5: =MAX(C5,K5,S5,AA5,AI5,AQ5,AY5,BG5) -> 2521.6065 | BQ5: =MAX(E5,M5,U5,AC5,AK5,AS5,BA5,BI5) -> 172607.64
A6: 35339 | B6: 32715.485 | C6: 1100.319 | D6: 0.78628752 | E6: =B6+(C6*$B$1) -> 93233.03 | F6: 219 | G6: =(C6*F6)/31 -> 7773.2213 | I6: 35370 | J6: 29295.852 | K6: 2376.0082 | L6: 0.89553222 | M6: =J6+(K6*$B$1) -> 159976.3 | N6: 666 | O6: =(K6*N6)/30 -> 52747.381 | Q6: 35400 | R6: 30485.872 | S6: 2420.9403 | T6: 0.85219419 | U6: =R6+(S6*$B$1) -> 163637.59 | V6: 689 | W6: =(S6*V6)/31 -> 53807.35 | Y6: 35431 | Z6: 31595.989 | AA6: 2570.7588 | AB6: 0.94920634 | AC6: =Z6+(AA6*$B$1) -> 172987.72 | AD6: 869 | AE6: =(AA6*AD6)/31 -> 72064.174 | AG6: 35462 | AH6: 34351.358 | AI6: 2451.9318 | AJ6: 0.91690109 | AK6: =AH6+(AI6*$B$1) -> 169207.61 | AL6: 611 | AM6: =(AI6*AL6)/28 -> 53504.655 | AO6: 35490 | AP6: 31538.327 | AQ6: 2263.3743 | AR6: 0.89719727 | AS6: =AP6+(AQ6*$B$1) -> 156023.92 | AT6: 486 | AU6: =(AQ6*AT6)/31 -> 35483.869 | AW6: 35521 | AX6: 29332.608 | AY6: 2175.3682 | AZ6: 0.90823555 | BA6: =AX6+(AY6*$B$1) -> 148977.86 | BB6: 341 | BC6: =(AY6*BB6)/30 -> 24726.685 | BE6: 35551 | BF6: 29118.382 | BG6: 919.21317 | BH6: 0.44012974 | BI6: =BF6+(BG6*$B$1) -> 79675.106 | BJ6: 122 | BK6: =(BG6*BJ6)/31 -> 3617.5486 | BM6: =SUM(F6,N6,V6,AD6,AL6,AT6,BB6,BJ6) -> 4003 | BN6: 96-97 | BO6: =MAX(B6,J6,R6,Z6,AH6,AP6,AX6,BF6) -> 34351.358 | BP6: =MAX(C6,K6,S6,AA6,AI6,AQ6,AY6,BG6) -> 2570.7588 | BQ6: =MAX(E6,M6,U6,AC6,AK6,AS6,BA6,BI6) -> 172987.72
A7: 35704 | B7: 26506.793 | C7: 919.21317 | D7: 0.44012974 | E7: =B7+(C7*$B$1) -> 77063.517 | F7: 264 | G7: =(C7*F7)/31 -> 7828.138 | I7: 35735 | J7: 26742.575 | K7: 2592.4469 | L7: 0.93821183 | M7: =J7+(K7*$B$1) -> 169327.16 | N7: 566 | O7: =(K7*N7)/30 -> 48910.832 | Q7: 35765 | R7: 24849.567 | S7: 2706.0313 | T7: 0.75890256 | U7: =R7+(S7*$B$1) -> 173681.29 | V7: 805 | W7: =(S7*V7)/31 -> 70269.523 | Y7: 35796 | Z7: 33571.594 | AA7: 2562.7235 | AB7: 0.91216972 | AC7: =Z7+(AA7*$B$1) -> 174521.39 | AD7: 676 | AE7: =(AA7*AD7)/31 -> 55883.907 | AG7: 35827 | AH7: 36959.268 | AI7: 2462.338 | AJ7: 0.8433532 | AK7: =AH7+(AI7*$B$1) -> 172387.86 | AL7: 584 | AM7: =(AI7*AL7)/28 -> 51357.336 | AO7: 35855 | AP7: 33012.977 | AQ7: 2536.4284 | AR7: 0.97470695 | AS7: =AP7+(AQ7*$B$1) -> 172516.54 | AT7: 543 | AU7: =(AQ7*AT7)/31 -> 44428.407 | AW7: 35886 | AX7: 33788.579 | AY7: 1486.5179 | AZ7: 0.91297067 | BA7: =AX7+(AY7*$B$1) -> 115547.06 | BB7: 245 | BC7: =(AY7*BB7)/30 -> 12139.896 | BE7: 35916 | BF7: 29733.042 | BG7: 1507.159 | BH7: 0.65861244 | BI7: =BF7+(BG7*$B$1) -> 112626.79 | BJ7: 63 | BK7: =(BG7*BJ7)/31 -> 3062.936 | BM7: =SUM(F7,N7,V7,AD7,AL7,AT7,BB7,BJ7) -> 3746 | BN7: 97-98 | BO7: =MAX(B7,J7,R7,Z7,AH7,AP7,AX7,BF7) -> 36959.268 | BP7: =MAX(C7,K7,S7,AA7,AI7,AQ7,AY7,BG7) -> 2706.0313 | BQ7: =MAX(E7,M7,U7,AC7,AK7,AS7,BA7,BI7) -> 174521.39
A8: 36069 | B8: 28006.426 | C8: 1626.8072 | D8: 0.72951591 | E8: =B8+(C8*$B$1) -> 117480.82 | F8: 209 | G8: =(C8*F8)/31 -> 10967.829 | I8: 36100 | J8: 33642.558 | K8: 2060.7798 | L8: 0.88258156 | M8: =J8+(K8*$B$1) -> 146985.45 | N8: 451 | O8: =(K8*N8)/30 -> 30980.39 | Q8: 36130 | R8: 31261.647 | S8: 2555.7394 | T8: 0.94951326 | U8: =R8+(S8*$B$1) -> 171827.31 | V8: 662 | W8: =(S8*V8)/31 -> 54577.403 | Y8: 36161 | Z8: 32428.37 | AA8: 2793.611 | AB8: 0.91824497 | AC8: =Z8+(AA8*$B$1) -> 186076.97 | AD8: 720 | AE8: =(AA8*AD8)/31 -> 64883.868 | AG8: 36192 | AH8: 29265.856 | AI8: 2718.5187 | AJ8: 0.94400556 | AK8: =AH8+(AI8*$B$1) -> 178784.39 | AL8: 654 | AM8: =(AI8*AL8)/28 -> 63496.83 | AO8: 36220 | AP8: 31943.747 | AQ8: 2679.9522 | AR8: 0.92242667 | AS8: =AP8+(AQ8*$B$1) -> 179341.12 | AT8: 633 | AU8: =(AQ8*AT8)/31 -> 54722.895 | AW8: 36251 | AX8: 33960.677 | AY8: 1425.7137 | AZ8: 0.66522391 | BA8: =AX8+(AY8*$B$1) -> 112374.93 | BB8: 252 | BC8: =(AY8*BB8)/30 -> 11975.995 | BE8: 36281 | BF8: 29897.347 | BG8: 1283.3415 | BH8: 0.58915285 | BI8: =BF8+(BG8*$B$1) -> 100481.13 | BJ8: 71 | BK8: =(BG8*BJ8)/31 -> 2939.2661 | BM8: =SUM(F8,N8,V8,AD8,AL8,AT8,BB8,BJ8) -> 3652 | BN8: 98-99 | BO8: =MAX(B8,J8,R8,Z8,AH8,AP8,AX8,BF8) -> 33960.677 | BP8: =MAX(C8,K8,S8,AA8,AI8,AQ8,AY8,BG8) -> 2793.611 | BQ8: =MAX(E8,M8,U8,AC8,AK8,AS8,BA8,BI8) -> 186076.97
A9: 36434 | B9: 27622.754 | C9: 1283.3415 | D9: 0.58915285 | E9: =B9+(C9*$B$1) -> 98206.538 | F9: 274 | G9: =(C9*F9)/31 -> 11343.083 | I9: 36465 | J9: 27367.706 | K9: 2610.8726 | L9: 0.89962956 | M9: =J9+(K9*$B$1) -> 170965.7 | N9: 378 | O9: =(K9*N9)/30 -> 32896.994 | Q9: 36495 | R9: 31538.638 | S9: 2606.7234 | T9: 0.85540328 | U9: =R9+(S9*$B$1) -> 174908.43 | V9: 697 | W9: =(S9*V9)/31 -> 58609.233 | Y9: 36526 | Z9: 34607.938 | AA9: 2796.6141 | AB9: 0.95505889 | AC9: =Z9+(AA9*$B$1) -> 188421.71 | AD9: 902 | AE9: =(AA9*AD9)/31 -> 81372.449 | AG9: 36557 | AH9: 30037.25 | AI9: 2925.4089 | AJ9: 0.91611105 | AK9: =AH9+(AI9*$B$1) -> 190934.74 | AL9: 631 | AM9: =(AI9*AL9)/28 -> 65926.178 | AO9: 36586 | AP9: 33237.041 | AQ9: 2397.2656 | AR9: 0.88594132 | AS9: =AP9+(AQ9*$B$1) -> 165086.65 | AT9: 417 | AU9: =(AQ9*AT9)/31 -> 32247.088 | AW9: 36617 | AX9: 33740.344 | AY9: 1987.9512 | AZ9: 0.79690567 | BA9: =AX9+(AY9*$B$1) -> 143077.66 | BB9: 273 | BC9: =(AY9*BB9)/30 -> 18090.356 | BE9: 36647 | BF9: 31562.07 | BG9: 647.84405 | BH9: 0.19301452 | BI9: =BF9+(BG9*$B$1) -> 67193.493 | BJ9: 46 | BK9: =(BG9*BJ9)/31 -> 961.31698 | BM9: =SUM(F9,N9,V9,AD9,AL9,AT9,BB9,BJ9) -> 3618 | BN9: 99-00 | BO9: =MAX(B9,J9,R9,Z9,AH9,AP9,AX9,BF9) -> 34607.938 | BP9: =MAX(C9,K9,S9,AA9,AI9,AQ9,AY9,BG9) -> 2925.4089 | BQ9: =MAX(E9,M9,U9,AC9,AK9,AS9,BA9,BI9) -> 190934.74
A10: 36800 | B10: 30723.22 | C10: 1649.2818 | D10: 0.83270398 | E10: =B10+(C10*$B$1) -> 121433.72 | F10: 242 | G10: =(C10*F10)/31 -> 12875.038 | I10: 36831 | J10: 26368.869 | K10: 2725.0426 | L10: 0.91100222 | M10: =J10+(K10*$B$1) -> 176246.21 | N10: 586 | O10: =(K10*N10)/30 -> 53229.165 | Q10: 36861 | R10: 57206.591 | S10: 2126.6003 | T10: 0.77030727 | U10: =R10+(S10*$B$1) -> 174169.61 | V10: 989 | W10: =(S10*V10)/31 -> 67845.409 | Y10: 36892 | Z10: 29358.345 | AA10: 2857.1275 | AB10: 0.93828953 | AC10: =Z10+(AA10*$B$1) -> 186500.36 | AD10: 881 | AE10: =(AA10*AD10)/31 -> 81197.719 | AG10: 36923 | AH10: 33920.978 | AI10: 2387.1459 | AJ10: 0.92889542 | AK10: =AH10+(AI10*$B$1) -> 165214 | AL10: 628 | AM10: =(AI10*AL10)/28 -> 53540.272 | AO10: 36951 | AP10: 25850.489 | AQ10: 2610.9236 | AR10: 0.79484974 | AS10: =AP10+(AQ10*$B$1) -> 169451.28 | AT10: 645.16667 | AU10: =(AQ10*AT10)/31 -> 54338.092 | AW10: 36982 | AX10: 27317.307 | AY10: 2092.4481 | AZ10: 0.83367334 | BA10: =AX10+(AY10*$B$1) -> 142401.95 | BB10: 245 | BC10: =(AY10*BB10)/30 -> 17088.326 | BE10: 37012 | BF10: 26404.064 | BG10: 893.05359 | BH10: 0.68128481 | BI10: =BF10+(BG10*$B$1) -> 75522.012 | BJ10: 75 | BK10: =(BG10*BJ10)/31 -> 2160.6135 | BM10: =SUM(F10,N10,V10,AD10,AL10,AT10,BB10,BJ10) -> 4291.1667 | BN10: 00-01 | BO10: =MAX(B10,J10,R10,Z10,AH10,AP10,AX10,BF10) -> 57206.591 | BP10: =MAX(C10,K10,S10,AA10,AI10,AQ10,AY10,BG10) -> 2857.1275 | BQ10: =MAX(E10,M10,U10,AC10,AK10,AS10,BA10,BI10) -> 186500.36
A11: 37165 | B11: 27623.399 | C11: 1813.0319 | D11: 0.90705097 | E11: =B11+(C11*$B$1) -> 127340.15 | F11: 239 | G11: =(C11*F11)/31 -> 13977.891 | I11: 37196 | J11: 30949.902 | K11: 1982.598 | L11: 0.95133226 | M11: =J11+(K11*$B$1) -> 139992.79 | N11: 326 | O11: =(K11*N11)/30 -> 21544.231 | Q11: 37226 | R11: 26023.86 | S11: 2519.6065 | T11: 0.94413359 | U11: =R11+(S11*$B$1) -> 164602.22 | V11: 609 | W11: =(S11*V11)/31 -> 49498.076 | Y11: 37257 | Z11: 32151.506 | AA11: 2686.7396 | AB11: 0.94577558 | AC11: =Z11+(AA11*$B$1) -> 179922.18 | AD11: 690 | AE11: =(AA11*AD11)/31 -> 59801.624 | AG11: 37288 | AH11: 28636.143 | AI11: 2623.9255 | AJ11: 0.89573465 | AK11: =AH11+(AI11*$B$1) -> 172952.04 | AL11: 644 | AM11: =(AI11*AL11)/28 -> 60350.286 | AO11: 37316 | AP11: 27921.246 | AQ11: 2575.6119 | AR11: 0.88651074 | AS11: =AP11+(AQ11*$B$1) -> 169579.9 | AT11: 486 | AU11: =(AQ11*AT11)/31 -> 40378.948 | AW11: 37347 | AX11: 27763.559 | AY11: 1834.8806 | AZ11: 0.87851542 | BA11: =AX11+(AY11*$B$1) -> 128681.99 | BB11: 216 | BC11: =(AY11*BB11)/30 -> 13211.141 | BE11: 37377 | BF11: 25641.571 | BG11: 1054.4762 | BH11: 0.79979093 | BI11: =BF11+(BG11*$B$1) -> 83637.765 | BJ11: 114 | BK11: =(BG11*BJ11)/31 -> 3877.7513 | BM11: =SUM(F11,N11,V11,AD11,AL11,AT11,BB11,BJ11) -> 3324 | BN11: 01-02 | BO11: =MAX(B11,J11,R11,Z11,AH11,AP11,AX11,BF11) -> 32151.506 | BP11: =MAX(C11,K11,S11,AA11,AI11,AQ11,AY11,BG11) -> 2686.7396 | BQ11: =MAX(E11,M11,U11,AC11,AK11,AS11,BA11,BI11) -> 179922.18
A12: 37530 | B12: 22420.956 | C12: 2343.3557 | D12: 0.90843176 | E12: =B12+(C12*$B$1) -> 151305.52 | F12: 240 | G12: =(C12*F12)/31 -> 18142.109 | I12: 37561 | J12: 30745.55 | K12: 2335.7064 | L12: 0.94592216 | M12: =J12+(K12*$B$1) -> 159209.4 | N12: 533 | O12: =(K12*N12)/30 -> 41497.717 | Q12: 37591 | R12: 28084.418 | S12: 2835.3245 | T12: 0.90463017 | U12: =R12+(S12*$B$1) -> 184027.26 | V12: 823 | W12: =(S12*V12)/31 -> 75273.292 | Y12: 37622 | Z12: 29568.434 | AA12: 2946.642 | AB12: 0.94088377 | AC12: =Z12+(AA12*$B$1) -> 191633.75 | AD12: 993 | AE12: =(AA12*AD12)/31 -> 94387.598 | AG12: 37653 | AH12: 30228.927 | AI12: 3014.6053 | AJ12: 0.9496418 | AK12: =AH12+(AI12*$B$1) -> 196032.22 | AL12: 798 | AM12: =(AI12*AL12)/28 -> 85916.251 | AO12: 37681 | AP12: 24418.691 | AQ12: 2773.286 | AR12: 0.94832124 | AS12: =AP12+(AQ12*$B$1) -> 176949.42 | AT12: 495 | AU12: =(AQ12*AT12)/31 -> 44283.115 | AW12: 37712 | AX12: 25257.709 | AY12: 2557.2545 | AZ12: 0.87475472 | BA12: =AX12+(AY12*$B$1) -> 165906.71 | BB12: 274 | BC12: =(AY12*BB12)/30 -> 23356.258 | BE12: 37742 | BF12: 26659.449 | BG12: 1583.8221 | BH12: 0.92405766 | BI12: =BF12+(BG12*$B$1) -> 113769.66 | BJ12: 32 | BK12: =(BG12*BJ12)/31 -> 1634.9131 | BM12: =SUM(F12,N12,V12,AD12,AL12,AT12,BB12,BJ12) -> 4188 | BN12: 02-03 | BO12: =MAX(B12,J12,R12,Z12,AH12,AP12,AX12,BF12) -> 30745.55 | BP12: =MAX(C12,K12,S12,AA12,AI12,AQ12,AY12,BG12) -> 3014.6053 | BQ12: =MAX(E12,M12,U12,AC12,AK12,AS12,BA12,BI12) -> 196032.22
A13: 37895 | B13: 26949.237 | C13: 1562.8679 | D13: 0.8169573 | E13: =B13+(C13*$B$1) -> 112906.97 | F13: 245 | G13: =(C13*F13)/31 -> 12351.698 | I13: 37926 | J13: 29956.303 | K13: 2196.1207 | L13: 0.92633484 | M13: =J13+(K13*$B$1) -> 150742.94 | N13: 364 | O13: =(K13*N13)/30 -> 26646.265 | Q13: 37956 | R13: 26186.299 | S13: 2877.8714 | T13: 0.91413103 | U13: =R13+(S13*$B$1) -> 184469.22 | V13: 795 | W13: =(S13*V13)/31 -> 73803.475 | Y13: 37987 | Z13: 24364.777 | AA13: 3057.0737 | AB13: 0.97257363 | AC13: =Z13+(AA13*$B$1) -> 192503.83 | AD13: 989 | AE13: =(AA13*AD13)/31 -> 97530.514 | AG13: 38018 | AH13: 21250.084 | AI13: 3163.0047 | AJ13: 0.93079524 | AK13: =AH13+(AI13*$B$1) -> 195215.34 | AL13: 766 | AM13: =(AI13*AL13)/28 -> 86530.77 | AO13: 38047 | AP13: 27568.647 | AQ13: 2575.3797 | AR13: 0.95373315 | AS13: =AP13+(AQ13*$B$1) -> 169214.53 | AT13: 466 | AU13: =(AQ13*AT13)/31 -> 38713.773 | AW13: 38078 | AX13: 25477.72 | AY13: 2653.8447 | AZ13: 0.9272006 | BA13: =AX13+(AY13*$B$1) -> 171439.18 | BB13: 255 | BC13: =(AY13*BB13)/30 -> 22557.68 | BE13: 38108 | BF13: 26659.449 | BG13: 1583.8221 | BH13: 0.92405766 | BI13: =BF13+(BG13*$B$1) -> 113769.66 | BJ13: 32 | BK13: =(BG13*BJ13)/31 -> 1634.9131 | BM13: =SUM(F13,N13,V13,AD13,AL13,AT13,BB13,BJ13) -> 3912 | BN13: 03-04 | BO13: =MAX(B13,J13,R13,Z13,AH13,AP13,AX13,BF13) -> 29956.303 | BP13: =MAX(C13,K13,S13,AA13,AI13,AQ13,AY13,BG13) -> 3163.0047 | BQ13: =MAX(E13,M13,U13,AC13,AK13,AS13,BA13,BI13) -> 195215.34
A14: 38261 | B14: 27519.584 | C14: 1661.0636 | D14: 0.80415079 | E14: =B14+(C14*$B$1) -> 118878.08 | F14: 187 | G14: =(C14*F14)/31 -> 10019.964 | I14: 38292 | J14: 29001.675 | K14: 2447.8633 | L14: 0.9480869 | M14: =J14+(K14*$B$1) -> 163634.15 | N14: 382 | O14: =(K14*N14)/30 -> 31169.459 | Q14: 38322 | R14: 28377.441 | S14: 2857.512 | T14: 0.95787582 | U14: =R14+(S14*$B$1) -> 185540.6 | V14: 692 | W14: =(S14*V14)/31 -> 63787.043 | Y14: 38353 | Z14: 26903.409 | AA14: 3171.701 | AB14: 0.97434112 | AC14: =Z14+(AA14*$B$1) -> 201346.97 | AD14: 785 | AE14: =(AA14*AD14)/31 -> 80315.655 | AG14: 38384 | AH14: 31637.669 | AI14: 2862.1746 | AJ14: 0.95465126 | AK14: =AH14+(AI14*$B$1) -> 189057.27 | AL14: 643 | AM14: =(AI14*AL14)/28 -> 65727.795 | AO14: 38412 | AP14: 21388.104 | AQ14: 3159.8607 | AR14: 0.94720098 | AS14: =AP14+(AQ14*$B$1) -> 195180.44 | AT14: 619 | AU14: =(AQ14*AT14)/31 -> 63095.283 | AW14: 38443 | AX14: 30674.165 | AY14: 1958.3034 | AZ14: 0.84789653 | BA14: =AX14+(AY14*$B$1) -> 138380.85 | BB14: 221 | BC14: =(AY14*BB14)/30 -> 14426.168 | BE14: 38473 | BF14: 25836.724 | BG14: 1770.7837 | BH14: 0.86684252 | BI14: =BF14+(BG14*$B$1) -> 123229.83 | BJ14: 113 | BK14: =(BG14*BJ14)/31 -> 6454.7923 | BM14: =SUM(F14,N14,V14,AD14,AL14,AT14,BB14,BJ14) -> 3642 | BN14: 04-05 | BO14: =MAX(B14,J14,R14,Z14,AH14,AP14,AX14,BF14) -> 31637.669 | BP14: =MAX(C14,K14,S14,AA14,AI14,AQ14,AY14,BG14) -> 3171.701 | BQ14: =MAX(E14,M14,U14,AC14,AK14,AS14,BA14,BI14) -> 201346.97
A15: 38626 | B15: 24936.988 | C15: 2201.6688 | D15: 0.91338595 | E15: =B15+(C15*$B$1) -> 146028.77 | F15: 174 | G15: =(C15*F15)/31 -> 12357.754 | I15: 38657 | J15: 29630.604 | K15: 2139.0958 | L15: 0.95752307 | M15: =J15+(K15*$B$1) -> 147280.87 | N15: 364 | O15: =(K15*N15)/30 -> 25954.362 | Q15: 38687 | R15: 21121.935 | S15: 2938.3174 | T15: 0.9098767 | U15: =R15+(S15*$B$1) -> 182729.39 | V15: 835 | W15: =(S15*V15)/31 -> 79145 | Y15: 38718 | Z15: 28932.971 | AA15: 2610.3623 | AB15: 0.92618471 | AC15: =Z15+(AA15*$B$1) -> 172502.9 | AD15: 618 | AE15: =(AA15*AD15)/31 -> 52038.836 | AG15: 38749 | AH15: 30316.873 | AI15: 2635.4581 | AJ15: 0.97281486 | AK15: =AH15+(AI15*$B$1) -> 175267.07 | AL15: 678 | AM15: =(AI15*AL15)/28 -> 63815.735 | AO15: 38777 | AP15: 30454.538 | AQ15: 2372.2653 | AR15: 0.96059838 | AS15: =AP15+(AQ15*$B$1) -> 160929.13 | AT15: 480 | AU15: =(AQ15*AT15)/31 -> 36731.849 | AW15: 38808 | AX15: 28819.28 | AY15: 1563.464 | AZ15: 0.81781773 | BA15: =AX15+(AY15*$B$1) -> 114809.8 | BB15: 173.84 | BC15: =(AY15*BB15)/30 -> 9059.753 | BE15: 38838 | BF15: 26716.602 | BG15: 1406.1586 | BH15: 0.73111225 | BI15: =BF15+(BG15*$B$1) -> 104055.33 | BJ15: 84 | BK15: =(BG15*BJ15)/31 -> 3810.2363 | BM15: =SUM(F15,N15,V15,AD15,AL15,AT15,BB15,BJ15) -> 3406.84 | BN15: 05-06 | BO15: =MAX(B15,J15,R15,Z15,AH15,AP15,AX15,BF15) -> 30454.538 | BP15: =MAX(C15,K15,S15,AA15,AI15,AQ15,AY15,BG15) -> 2938.3174 | BQ15: =MAX(E15,M15,U15,AC15,AK15,AS15,BA15,BI15) -> 182729.39
A16: 38991 | B16: 29033.324 | C16: 2071.0782 | D16: 0.82961184 | E16: =B16+(C16*$B$1) -> 142942.62 | F16: 204 | G16: =(C16*F16)/31 -> 13629.03 | I16: 39022 | J16: 34003.021 | K16: 2262.8681 | L16: 0.93739289 | M16: =J16+(K16*$B$1) -> 158460.77 | N16: 361 | O16: =(K16*N16)/30 -> 27229.846 | Q16: 39053 | R16: 26382.16 | S16: 2616.6709 | T16: 0.91995499 | U16: =R16+(S16*$B$1) -> 170299.06 | V16: 553 | W16: =(S16*V16)/31 -> 46678.033 | Y16: 39083 | Z16: 29777.911 | AA16: 2825.2334 | AB16: 0.97830766 | AC16: =Z16+(AA16*$B$1) -> 185165.75 | AD16: 663 | AE16: =(AA16*AD16)/31 -> 60423.54 | AG16: 39114 | AH16: 23316.697 | AI16: 3094.9762 | AJ16: 0.95023101 | AK16: =AH16+(AI16*$B$1) -> 193540.39 | AL16: 820 | AM16: =(AI16*AL16)/28 -> 90638.588 | AO16: 39142 | AP16: 28931.164 | AQ16: 2539.633 | AR16: 0.92948096 | AS16: =AP16+(AQ16*$B$1) -> 168610.98 | AT16: 417.1 | AU16: =(AQ16*AT16)/31 -> 34170.353 | AW16: 39173 | AX16: 28115.387 | AY16: 2189.1476 | AZ16: 0.94969168 | BA16: =AX16+(AY16*$B$1) -> 148518.5 | BB16: 267 | BC16: =(AY16*BB16)/30 -> 19483.413 | BE16: 39203 | BF16: 25698.672 | BG16: 1165.6542 | BH16: 0.74598325 | BI16: =BF16+(BG16*$B$1) -> 89809.654 | BJ16: 66 | BK16: =(BG16*BJ16)/31 -> 2481.7154 | BM16: =SUM(F16,N16,V16,AD16,AL16,AT16,BB16,BJ16) -> 3351.1 | BN16: 06-07 | BO16: =MAX(B16,J16,R16,Z16,AH16,AP16,AX16,BF16) -> 34003.021 | BP16: =MAX(C16,K16,S16,AA16,AI16,AQ16,AY16,BG16) -> 3094.9762 | BQ16: =MAX(E16,M16,U16,AC16,AK16,AS16,BA16,BI16) -> 193540.39
A17: 39362 | B17: 27611.707 | C17: 1569.2104 | D17: 0.8985769 | E17: =B17+(C17*$B$1) -> 113918.28 | F17: 86 | G17: =(C17*F17)/31 -> 4353.2933 | I17: 39387 | J17: 31860.807 | K17: 2079.0381 | L17: 0.93574236 | M17: 146207.9 | N17: 467 | O17: =(K17*N17)/30 -> 32363.693 | Q17: 39417 | R17: 27812.602 | S17: 2683.4952 | T17: 0.94230094 | U17: =R17+(S17*$B$1) -> 175404.84 | V17: 655 | W17: =(S17*V17)/31 -> 56699.656 | Y17: 39448 | Z17: 27535.018 | AA17: 2964.0794 | AB17: 0.96603259 | AC17: =Z17+(AA17*$B$1) -> 190559.38 | AD17: 774 | AE17: =(AA17*AD17)/31 -> 74006.369 | AG17: 39479 | AH17: 33123.583 | AI17: 2639.8644 | AJ17: 0.92578753 | AK17: =AH17+(AI17*$B$1) -> 178316.13 | AL17: 619 | AM17: =(AI17*AL17)/28 -> 58359.86 | AO17: 39508 | AP17: 34952.072 | AQ17: 2054.1279 | AR17: 0.86576242 | AS17: =AP17+(AQ17*$B$1) -> 147929.11 | AT17: 428 | AU17: =(AQ17*AT17)/31 -> 28360.218 | AW17: 39539 | AX17: 29122.553 | AY17: 2140.8809 | AZ17: 0.88737257 | BA17: =AX17+(AY17*$B$1) -> 146871 | BB17: 215 | BC17: =(AY17*BB17)/30 -> 15342.98 | BE17: 39569 | BF17: 26937.06 | BG17: 1573.0515 | BH17: 0.76526238 | BI17: 113454.89 | BJ17: 61 | BK17: =(BG17*BJ17)/31 -> 3095.3594 | BM17: =SUM(F17,N17,V17,AD17,AL17,AT17,BB17,BJ17) -> 3305 | BN17: 07-08 | BO17: =MAX(B17,J17,R17,Z17,AH17,AP17,AX17,BF17) -> 34952.072 | BP17: =MAX(C17,K17,S17,AA17,AI17,AQ17,AY17,BG17) -> 2964.0794 | BQ17: =MAX(E17,M17,U17,AC17,AK17,AS17,BA17,BI17) -> 190559.38
A18: 39722 | B18: 23527.782 | C18: 2184.3316 | D18: 0.87636837 | E18: =B18+(C18*$B$1) -> 143666.02 | F18: 252 | G18: =(C18*F18)/31 -> 17756.502 | I18: 39753 | J18: 25818.991 | K18: 2667.3502 | L18: 0.95177692 | M18: 172523.25 | N18: 495 | O18: =(K18*N18)/30 -> 44011.279 | Q18: 39783 | R18: 31970.921 | S18: 2565.7152 | T18: 0.94699387 | U18: 173085.26 | V18: 642 | W18: =(S18*V18)/31 -> 53135.134 | Y18: 39814 | Z18: 25041.016 | AA18: 2909.8877 | AB18: 0.90587903 | AC18: =Z18+(AA18*$B$1) -> 185084.84 | AD18: 919 | AE18: =(AA18*AD18)/31 -> 86264.091 | AG18: 39845 | AH18: 25365.289 | AI18: 2765.5644 | AJ18: 0.94211375 | AK18: =AH18+(AI18*$B$1) -> 177471.33 | AL18: 641 | AM18: =(AI18*AL18)/28 -> 63311.671 | AO18: 39873 | AP18: 24506 | AQ18: 2539 | AR18: 0.96 | AS18: =AP18+(AQ18*$B$1) -> 164151 | AT18: 565.075 | AU18: =(AQ18*AT18)/31 -> 46281.465 | AW18: 39904 | AX18: 23255 | AY18: 2084 | AZ18: 0.92 | BA18: =AX18+(AY18*$B$1) -> 137875 | BB18: 220 | BC18: =(AY18*BB18)/30 -> 15282.667 | BE18: 39934 | BF18: 22934.797 | BG18: 1141.379 | BH18: 0.68980525 | BI18: 85710.644 | BJ18: 65 | BK18: =(BG18*BJ18)/31 -> 2393.2141 | BM18: =SUM(F18,N18,V18,AD18,AL18,AT18,BB18,BJ18) -> 3799.075 | BN18: 08-09 | BO18: =MAX(B18,J18,R18,Z18,AH18,AP18,AX18,BF18) -> 31970.921 | BP18: =MAX(C18,K18,S18,AA18,AI18,AQ18,AY18,BG18) -> 2909.8877 | BQ18: =MAX(E18,M18,U18,AC18,AK18,AS18,BA18,BI18) -> 185084.84
A19: 40087 | B19: 22970 | C19: 1836 | D19: 0.89 | E19: =B19+(C19*$B$1) -> 123950 | F19: 205 | G19: =(C19*F19)/31 -> 12141.29 | I19: 40118 | J19: 25980.99 | K19: 2048.0701 | L19: 0.81395668 | M19: 138624.85 | N19: 376.6 | O19: =(K19*N19)/30 -> 25710.107 | Q19: 40148 | R19: 26382.16 | S19: 2616.6709 | T19: 0.91995499 | U19: 170299.06 | V19: 553 | W19: =(S19*V19)/31 -> 46678.033 | Y19: 40179 | Z19: 22680.82 | AA19: 2923.2657 | AB19: 0.95697252 | AC19: 183460.43 | AD19: 902 | AE19: =(AA19*AD19)/31 -> 85057.602 | AG19: 40210 | AH19: 21041.662 | AI19: 2987.8301 | AJ19: 0.88218538 | AK19: 185372.32 | AL19: 834 | AM19: =(AI19*AL19)/28 -> 88994.652 | AO19: 40238 | AP19: 21118.65 | AQ19: 2771.5865 | AR19: 0.95064177 | AS19: 173555.91 | AT19: 410 | AU19: =(AQ19*AT19)/31 -> 36656.466 | AW19: 40269 | AX19: 23724.789 | AY19: 1417.9179 | AZ19: 0.88208287 | BA19: 101710.27 | BB19: 142 | BC19: =(AY19*BB19)/30 -> 6711.4781 | BE19: 40299 | BF19: 20353.365 | BG19: 1054.8294 | BH19: 0.77500406 | BI19: 78368.981 | BJ19: 47 | BK19: =(BG19*BJ19)/31 -> 1599.2574 | BM19: =SUM(F19,N19,V19,AD19,AL19,AT19,BB19,BJ19) -> 3469.6 | BN19: 09-10 | BO19: =MAX(B19,J19,R19,Z19,AH19,AP19,AX19,BF19) -> 26382.16 | BP19: =MAX(C19,K19,S19,AA19,AI19,AQ19,AY19,BG19) -> 2987.8301 | BQ19: =MAX(E19,M19,U19,AC19,AK19,AS19,BA19,BI19) -> 185372.32
A20: 40452 | B20: 22740.95 | C20: 1169.5229 | D20: 0.85284979 | E20: =B20+(C20*$B$1) -> 87064.712 | F20: 171 | G20: =(C20*F20)/31 -> 6451.2395 | I20: 40483 | J20: 27249.763 | K20: 1856.0465 | L20: 0.86853147 | M20: 129332.32 | N20: 454 | O20: =(K20*N20)/30 -> 28088.17 | Q20: 40522 | R20: 3469.4914 | S20: 3380.2956 | T20: 0.92409787 | U20: 189385.75 | V20: 997 | W20: =(S20*V20)/31 -> 108714.67 | Y20: 40544 | Z20: 18894.202 | AA20: 2983.1506 | AB20: 0.94765373 | AC20: 182967.49 | AD20: 951 | AE20: =(AA20*AD20)/31 -> 91515.362 | AG20: 40575 | AH20: 28770.305 | AI20: 2409.7473 | AJ20: 0.9121244 | AK20: 161306.41 | AL20: 568 | AM20: =(AI20*AL20)/28 -> 48883.445 | AO20: 40603 | AP20: 25166.487 | AQ20: 2302.5058 | AR20: 0.79786084 | AS20: 151804.31 | AT20: 500 | AU20: =(AQ20*AT20)/31 -> 37137.19 | AW20: 40634 | AX20: 24486.304 | AY20: 1825.967 | AZ20: 0.71249287 | BA20: 124914.49 | BB20: 170 | BC20: =(AY20*BB20)/30 -> 10347.146 | BE20: 40664 | BF20: 21841.007 | BG20: 1030.0339 | BH20: 0.41035224 | BI20: 78492.87 | BJ20: 35.25 | BK20: =(BG20*BJ20)/31 -> 1171.2482 | BM20: =SUM(F20,N20,V20,AD20,AL20,AT20,BB20,BJ20) -> 3846.25 | BN20: 10-11 | BO20: =MAX(B20,J20,R20,Z20,AH20,AP20,AX20,BF20) -> 28770.305 | BP20: =MAX(C20,K20,S20,AA20,AI20,AQ20,AY20,BG20) -> 3380.2956 | BQ20: =MAX(E20,M20,U20,AC20,AK20,AS20,BA20,BI20) -> 189385.75
A21: 40817 | B21: 20817.644 | C21: 1888.9214 | D21: 0.85992199 | E21: =B21+(C21*$B$1) -> 124708.32 | F21: 197 | G21: =(C21*F21)/31 -> 12003.791 | I21: 40858 | J21: 25742.343 | K21: 2124.1397 | L21: 0.78041858 | M21: 142570.03 | N21: 340.08333 | O21: =(K21*N21)/30 -> 24079.484 | Q21: 40878 | R21: 24817.503 | S21: 2322.7431 | T21: 0.85089008 | U21: 152568.37 | V21: 573 | W21: =(S21*V21)/31 -> 42933.284 | Y21: 40909 | Z21: 25377.204 | AA21: 2583.8804 | AB21: 0.80862674 | AC21: 167490.63 | AD21: 685 | AE21: =(AA21*AD21)/31 -> 57095.421 | AG21: 40940 | AH21: 27935.721 | AI21: 2366.3371 | AJ21: 0.8039795 | AK21: 158084.26 | AL21: 578.33333 | AM21: =(AI21*AL21)/28 -> 48876.128 | AO21: 40969 | AP21: 23789.565 | AQ21: 2167.0244 | AR21: 0.86403503 | AS21: 142975.91 | AT21: 233 | AU21: =(AQ21*AT21)/31 -> 16287.635 | AW21: 41000 | AX21: 21947.647 | AY21: 1581.0463 | AZ21: 0.79721001 | BA21: 108905.19 | BB21: 222.16667 | BC21: =(AY21*BB21)/30 -> 11708.526 | BE21: 41041 | BF21: 21044.934 | BG21: 1040.8254 | BH21: 0.16426131 | BI21: 78290.329 | BJ21: 10 | BK21: =(BG21*BJ21)/31 -> 335.75012 | BM21: =SUM(F21,N21,V21,AD21,AL21,AT21,BB21,BJ21) -> 2838.5833 | BN21: 11-12 | BO21: =MAX(B21,J21,R21,Z21,AH21,AP21,AX21,BF21) -> 27935.721 | BP21: =MAX(C21,K21,S21,AA21,AI21,AQ21,AY21,BG21) -> 2583.8804 | BQ21: =MAX(E21,M21,U21,AC21,AK21,AS21,BA21,BI21) -> 167490.63
A23: MIN | B23: =MIN(B5:B21) -> 20817.644 | C23: =MIN(C5:C21) -> 919.21317 | E23: =MIN(E5:E21) -> 77063.517 | F23: =MIN(F5:F21) -> 86 | G23: =MIN(G5:G21) -> 4353.2933 | I23: MIN | J23: =MIN(J5:J21) -> 25742.343 | K23: =MIN(K5:K21) -> 1856.0465 | M23: =MIN(M5:M21) -> 129332.32 | N23: =MIN(N5:N21) -> 326 | O23: =MIN(O5:O20) -> 21544.231 | Q23: MIN | R23: =MIN(R5:R21) -> 3469.4914 | S23: =MIN(S5:S21) -> 2126.6003 | U23: =MIN(U5:U21) -> 152568.37 | V23: =MIN(V5:V21) -> 553 | W23: =MIN(W5:W20) -> 46678.033 | Y23: MIN | Z23: =MIN(Z5:Z21) -> 18894.202 | AA23: =MIN(AA5:AA21) -> 2052.4913 | AC23: =MIN(AC5:AC21) -> 158542.34 | AD23: =MIN(AD5:AD21) -> 618 | AE23: =MIN(AE5:AE21) -> 52038.836 | AG23: MIN | AH23: =MIN(AH5:AH21) -> 21041.662 | AI23: =MIN(AI5:AI21) -> 2366.3371 | AK23: =MIN(AK5:AK21) -> 158084.26 | AL23: =MIN(AL5:AL21) -> 568 | AM23: =MIN(AM5:AM21) -> 48876.128 | AO23: MIN | AP23: =MIN(AP5:AP21) -> 21118.65 | AQ23: =MIN(AQ5:AQ21) -> 2054.1279 | AS23: =MIN(AS5:AS21) -> 142975.91 | AW23: MIN | AX23: =MIN(AX5:AX21) -> 21947.647 | AY23: =MIN(AY5:AY21) -> 1417.9179 | BA23: =MIN(BA5:BA21) -> 101710.27 | BE23: MIN | BF23: =MIN(BF5:BF21) -> 20353.365 | BG23: =MIN(BG5:BG21) -> 647.84405 | BI23: =MIN(BI5:BI21) -> 67193.493 | BN23: MIN | BO23: =MIN(BO5:BO20) -> 26382.16 | BP23: =MIN(BP5:BP20) -> 2521.6065 | BQ23: =MIN(BQ5:BQ20) -> 172607.64
A24: MAX | B24: =MAX(B5:B21) -> 32715.485 | C24: =MAX(C5:C21) -> 2343.3557 | E24: =MAX(E5:E21) -> 151305.52 | F24: =MAX(F5:F21) -> 274 | G24: =MAX(G5:G21) -> 18142.109 | I24: MAX | J24: =MAX(J5:J21) -> 34003.021 | K24: =MAX(K5:K21) -> 2725.0426 | M24: =MAX(M5:M21) -> 176246.21 | N24: =MAX(N5:N21) -> 666 | O24: =MAX(O5:O20) -> 53229.165 | Q24: MAX | R24: =MAX(R5:R21) -> 57206.591 | S24: =MAX(S5:S21) -> 3380.2956 | U24: =MAX(U5:U21) -> 189385.75 | V24: =MAX(V5:V21) -> 997 | W24: =MAX(W5:W20) -> 108714.67 | Y24: MAX | Z24: =MAX(Z5:Z21) -> 45655.318 | AA24: =MAX(AA5:AA21) -> 3171.701 | AC24: =MAX(AC5:AC21) -> 201346.97 | AD24: =MAX(AD5:AD21) -> 993 | AE24: =MAX(AE5:AE21) -> 97530.514 | AG24: MAX | AH24: =MAX(AH5:AH21) -> 36959.268 | AI24: =MAX(AI5:AI21) -> 3163.0047 | AK24: =MAX(AK5:AK21) -> 196032.22 | AL24: =MAX(AL5:AL21) -> 834 | AM24: =MAX(AM5:AM21) -> 90638.588 | AO24: MAX | AP24: =MAX(AP5:AP21) -> 34952.072 | AQ24: =MAX(AQ5:AQ21) -> 3159.8607 | AS24: =MAX(AS5:AS21) -> 195180.44 | AW24: MAX | AX24: =MAX(AX5:AX21) -> 33960.677 | AY24: =MAX(AY5:AY21) -> 2653.8447 | BA24: =MAX(BA5:BA21) -> 171439.18 | BE24: MAX | BF24: =MAX(BF5:BF21) -> 31562.07 | BG24: =MAX(BG5:BG21) -> 1770.7837 | BI24: =MAX(BI5:BI21) -> 123229.83 | BN24: MAX | BO24: =MAX(BO5:BO20) -> 57206.591 | BP24: =MAX(BP5:BP20) -> 3380.2956 | BQ24: =MAX(BQ5:BQ20) -> 201346.97

Sheet DAILY DATA
F1: 831001 | G1: 831003 | H1: 831038 | I1: 831071 | J1: 831002 | K1: 831080 | L1: 22600
A2: DATE | B2: MTH | C2: DAY | D2: INT | E2: DD | F2: WEST | G2: SOUTH | H2: EAST | I2: HUGUENOT | J2: DIOCESE | K2: RPE | L2: NORTH | M2: CHARLES CITY | O2: TOTAL | P2: RPE PLANT | Q2: RPE COR | S2: COR TOT | T2: ADJ COR TOT | U2: DAY SWING | V2: COR COL | W2: COR COL% | X2: COR DTI | Y2: COR DTI% | AA2: INTCPT | AB2: SLOPE | AC2: RSQ | AD2: DESIGN DAY | AE2: MTHDD
A3: 34700 | B3: Jan | C3: =IF(WEEKDAY(A3)=1,"Sun",IF(WEEKDAY(A3)=2,"Mon",IF(WEEKDAY(A3)=3,"Tue",IF(WEEKDAY(A3)=4,"Wed",IF(WEEKDAY(A3)=5,"Thur",IF(WEEKDAY(A3)=6,"Fri",IF(WEEKDAY(A3)=7,"Sat"))))))) -> Sun | E3: 15 | F3: 17797 | G3: 16349 | H3: 13155 | I3: 3920 | J3: 104 | K3: 2272 | L3: 5860 | O3: =SUM(F3:M3) -> 59457 | P3: 2271.654 | Q3: =K3-P3 -> 0.346 | S3: =O3-P3 -> 57185.346 | T3: =SUM(S3,D3) -> 57185.346 | V3: =SUM(F3:K3)-P3 -> 51325.346 | W3: =V3/S3 -> 0.89752619 | X3: =SUM(L3:M3) -> 5860 | Y3: =X3/S3 -> 0.10247381 | AA3: =INTERCEPT(T3:T33,E3:E33) -> 29133.597 | AB3: =SLOPE(T3:T33,E3:E33) -> 2556.7109 | AC3: =RSQ(T3:T33,E3:E33) -> 0.92506463 | AD3: =AA3+(AB3*55) -> 169752.69 | AE3: =SUM(E3:E33) -> 770
A4: 34701 | B4: Jan | C4: =IF(WEEKDAY(A4)=1,"Sun",IF(WEEKDAY(A4)=2,"Mon",IF(WEEKDAY(A4)=3,"Tue",IF(WEEKDAY(A4)=4,"Wed",IF(WEEKDAY(A4)=5,"Thur",IF(WEEKDAY(A4)=6,"Fri",IF(WEEKDAY(A4)=7,"Sat"))))))) -> Mon | E4: 31 | F4: 37130 | G4: 23621 | H4: 17345 | I4: 5550 | J4: 209 | K4: 2433 | L4: 12510 | O4: =SUM(F4:M4) -> 98798 | P4: 2433.319 | Q4: =K4-P4 -> -0.319 | S4: =O4-P4 -> 96364.681 | T4: =SUM(S4,D4) -> 96364.681 | U4: =S4-S3 -> 39179.335 | V4: =SUM(F4:K4)-P4 -> 83854.681 | W4: =V4/S4 -> 0.87018065 | X4: =SUM(L4:M4) -> 12510 | Y4: =X4/S4 -> 0.12981935
A5: 34702 | B5: Jan | C5: =IF(WEEKDAY(A5)=1,"Sun",IF(WEEKDAY(A5)=2,"Mon",IF(WEEKDAY(A5)=3,"Tue",IF(WEEKDAY(A5)=4,"Wed",IF(WEEKDAY(A5)=5,"Thur",IF(WEEKDAY(A5)=6,"Fri",IF(WEEKDAY(A5)=7,"Sat"))))))) -> Tue | E5: 35 | F5: 45588 | G5: 27354 | H5: 20178 | I5: 6390 | J5: 208 | K5: 2503 | L5: 16718 | O5: =SUM(F5:M5) -> 118939 | P5: 2503.28 | Q5: =K5-P5 -> -0.28 | S5: =O5-P5 -> 116435.72 | T5: =SUM(S5,D5) -> 116435.72 | U5: =S5-S4 -> 20071.039 | V5: =SUM(F5:K5)-P5 -> 99717.72 | W5: =V5/S5 -> 0.85641863 | X5: =SUM(L5:M5) -> 16718 | Y5: =X5/S5 -> 0.14358137
A6: 34703 | B6: Jan | C6: =IF(WEEKDAY(A6)=1,"Sun",IF(WEEKDAY(A6)=2,"Mon",IF(WEEKDAY(A6)=3,"Tue",IF(WEEKDAY(A6)=4,"Wed",IF(WEEKDAY(A6)=5,"Thur",IF(WEEKDAY(A6)=6,"Fri",IF(WEEKDAY(A6)=7,"Sat"))))))) -> Wed | D6: 17000 | E6: 35 | F6: 38908 | G6: 23741 | H6: 17612 | I6: 5699 | J6: 208 | K6: 28262 | L6: 18417 | O6: =SUM(F6:M6) -> 132847 | P6: 15377.2 | Q6: =K6-P6 -> 12884.8 | S6: =O6-P6 -> 117469.8 | T6: =SUM(S6,D6) -> 134469.8 | U6: =S6-S5 -> 1034.08 | V6: =SUM(F6:K6)-P6 -> 99052.8 | W6: =V6/S6 -> 0.84321928 | X6: =SUM(L6:M6) -> 18417 | Y6: =X6/S6 -> 0.15678072
A7: 34704 | B7: Jan | C7: =IF(WEEKDAY(A7)=1,"Sun",IF(WEEKDAY(A7)=2,"Mon",IF(WEEKDAY(A7)=3,"Tue",IF(WEEKDAY(A7)=4,"Wed",IF(WEEKDAY(A7)=5,"Thur",IF(WEEKDAY(A7)=6,"Fri",IF(WEEKDAY(A7)=7,"Sat"))))))) -> Thur | D7: 17000 | E7: 45 | F7: 42538 | G7: 21499 | H7: 16293 | I7: 5678 | J7: 208 | K7: 20706 | L7: 21298 | O7: =SUM(F7:M7) -> 128220 | P7: 1343.427 | Q7: =K7-P7 -> 19362.573 | S7: =O7-P7 -> 126876.57 | T7: =SUM(S7,D7) -> 143876.57 | U7: =S7-S6 -> 9406.773 | V7: =SUM(F7:K7)-P7 -> 105578.57 | W7: =V7/S7 -> 0.83213607 | X7: =SUM(L7:M7) -> 21298 | Y7: =X7/S7 -> 0.16786393
A8: 34705 | B8: Jan | C8: =IF(WEEKDAY(A8)=1,"Sun",IF(WEEKDAY(A8)=2,"Mon",IF(WEEKDAY(A8)=3,"Tue",IF(WEEKDAY(A8)=4,"Wed",IF(WEEKDAY(A8)=5,"Thur",IF(WEEKDAY(A8)=6,"Fri",IF(WEEKDAY(A8)=7,"Sat"))))))) -> Fri | D8: 17000 | E8: 29 | F8: 32467 | G8: 20800 | H8: 15184 | I8: 5156 | J8: 208 | K8: 18977 | L8: 20865 | O8: =SUM(F8:M8) -> 113657 | P8: 1445.249 | Q8: =K8-P8 -> 17531.751 | S8: =O8-P8 -> 112211.75 | T8: =SUM(S8,D8) -> 129211.75 | U8: =S8-S7 -> -14664.822 | V8: =SUM(F8:K8)-P8 -> 91346.751 | W8: =V8/S8 -> 0.81405691 | X8: =SUM(L8:M8) -> 20865 | Y8: =X8/S8 -> 0.18594309
A9: 34706 | B9: Jan | C9: =IF(WEEKDAY(A9)=1,"Sun",IF(WEEKDAY(A9)=2,"Mon",IF(WEEKDAY(A9)=3,"Tue",IF(WEEKDAY(A9)=4,"Wed",IF(WEEKDAY(A9)=5,"Thur",IF(WEEKDAY(A9)=6,"Fri",IF(WEEKDAY(A9)=7,"Sat"))))))) -> Sat | E9: 23 | F9: 21766 | G9: 16931 | H9: 13070 | I9: 4283 | J9: 104 | K9: 15247 | L9: 17944 | O9: =SUM(F9:M9) -> 89345 | P9: 2402.168 | Q9: =K9-P9 -> 12844.832 | S9: =O9-P9 -> 86942.832 | T9: =SUM(S9,D9) -> 86942.832 | U9: =S9-S8 -> -25268.919 | V9: =SUM(F9:K9)-P9 -> 68998.832 | W9: =V9/S9 -> 0.79361151 | X9: =SUM(L9:M9) -> 17944 | Y9: =X9/S9 -> 0.20638849
A10: 34707 | B10: Jan | C10: =IF(WEEKDAY(A10)=1,"Sun",IF(WEEKDAY(A10)=2,"Mon",IF(WEEKDAY(A10)=3,"Tue",IF(WEEKDAY(A10)=4,"Wed",IF(WEEKDAY(A10)=5,"Thur",IF(WEEKDAY(A10)=6,"Fri",IF(WEEKDAY(A10)=7,"Sat"))))))) -> Sun | E10: 30 | F10: 27814 | G10: 19577 | H10: 14366 | I10: 4761 | J10: 104 | K10: 15903 | L10: 18009 | O10: =SUM(F10:M10) -> 100534 | P10: 2364.96 | Q10: =K10-P10 -> 13538.04 | S10: =O10-P10 -> 98169.04 | T10: =SUM(S10,D10) -> 98169.04 | U10: =S10-S9 -> 11226.208 | V10: =SUM(F10:K10)-P10 -> 80160.04 | W10: =V10/S10 -> 0.81655112 | X10: =SUM(L10:M10) -> 18009 | Y10: =X10/S10 -> 0.18344888
A11: 34708 | B11: Jan | C11: =IF(WEEKDAY(A11)=1,"Sun",IF(WEEKDAY(A11)=2,"Mon",IF(WEEKDAY(A11)=3,"Tue",IF(WEEKDAY(A11)=4,"Wed",IF(WEEKDAY(A11)=5,"Thur",IF(WEEKDAY(A11)=6,"Fri",IF(WEEKDAY(A11)=7,"Sat"))))))) -> Mon | E11: 28 | F11: 31063 | G11: 21446 | H11: 15970 | I11: 5067 | J11: 208 | K11: 15637 | L11: 15333 | O11: =SUM(F11:M11) -> 104724 | P11: 2030.08 | Q11: =K11-P11 -> 13606.92 | S11: =O11-P11 -> 102693.92 | T11: =SUM(S11,D11) -> 102693.92 | U11: =S11-S10 -> 4524.88 | V11: =SUM(F11:K11)-P11 -> 87360.92 | W11: =V11/S11 -> 0.85069223 | X11: =SUM(L11:M11) -> 15333 | Y11: =X11/S11 -> 0.14930777
A12: 34709 | B12: Jan | C12: =IF(WEEKDAY(A12)=1,"Sun",IF(WEEKDAY(A12)=2,"Mon",IF(WEEKDAY(A12)=3,"Tue",IF(WEEKDAY(A12)=4,"Wed",IF(WEEKDAY(A12)=5,"Thur",IF(WEEKDAY(A12)=6,"Fri",IF(WEEKDAY(A12)=7,"Sat"))))))) -> Tue | E12: 28 | F12: 30663 | G12: 21011 | H12: 15928 | I12: 5002 | J12: 208 | K12: 23773 | L12: 14852 | O12: =SUM(F12:M12) -> 111437 | P12: 10021.89 | Q12: =K12-P12 -> 13751.11 | S12: =O12-P12 -> 101415.11 | T12: =SUM(S12,D12) -> 101415.11 | U12: =S12-S11 -> -1278.81 | V12: =SUM(F12:K12)-P12 -> 86563.11 | W12: =V12/S12 -> 0.85355239 | X12: =SUM(L12:M12) -> 14852 | Y12: =X12/S12 -> 0.14644761
A13: 34710 | B13: Jan | C13: =IF(WEEKDAY(A13)=1,"Sun",IF(WEEKDAY(A13)=2,"Mon",IF(WEEKDAY(A13)=3,"Tue",IF(WEEKDAY(A13)=4,"Wed",IF(WEEKDAY(A13)=5,"Thur",IF(WEEKDAY(A13)=6,"Fri",IF(WEEKDAY(A13)=7,"Sat"))))))) -> Wed | E13: 18 | F13: 22196 | G13: 18691 | H13: 14379 | I13: 4404 | J13: 208 | K13: 12344 | L13: 12486 | O13: =SUM(F13:M13) -> 84708 | P13: 2260.864 | Q13: =K13-P13 -> 10083.136 | S13: =O13-P13 -> 82447.136 | T13: =SUM(S13,D13) -> 82447.136 | U13: =S13-S12 -> -18967.974 | V13: =SUM(F13:K13)-P13 -> 69961.136 | W13: =V13/S13 -> 0.8485575 | X13: =SUM(L13:M13) -> 12486 | Y13: =X13/S13 -> 0.1514425
A14: 34711 | B14: Jan | C14: =IF(WEEKDAY(A14)=1,"Sun",IF(WEEKDAY(A14)=2,"Mon",IF(WEEKDAY(A14)=3,"Tue",IF(WEEKDAY(A14)=4,"Wed",IF(WEEKDAY(A14)=5,"Thur",IF(WEEKDAY(A14)=6,"Fri",IF(WEEKDAY(A14)=7,"Sat"))))))) -> Thur | E14: 10 | F14: 13421 | G14: 17119 | H14: 13813 | I14: 3876 | J14: 208 | K14: 2708 | L14: 10373 | O14: =SUM(F14:M14) -> 61518 | P14: 2199.633 | Q14: =K14-P14 -> 508.367 | S14: =O14-P14 -> 59318.367 | T14: =SUM(S14,D14) -> 59318.367 | U14: =S14-S13 -> -23128.769 | V14: =SUM(F14:K14)-P14 -> 48945.367 | W14: =V14/S14 -> 0.82513005 | X14: =SUM(L14:M14) -> 10373 | Y14: =X14/S14 -> 0.17486995
A15: 34712 | B15: Jan | C15: =IF(WEEKDAY(A15)=1,"Sun",IF(WEEKDAY(A15)=2,"Mon",IF(WEEKDAY(A15)=3,"Tue",IF(WEEKDAY(A15)=4,"Wed",IF(WEEKDAY(A15)=5,"Thur",IF(WEEKDAY(A15)=6,"Fri",IF(WEEKDAY(A15)=7,"Sat"))))))) -> Fri | E15: 4 | F15: 6165 | G15: 13976 | H15: 12297 | I15: 3186 | J15: 166 | K15: 2086 | L15: 7613 | O15: =SUM(F15:M15) -> 45489 | P15: 2086.444 | Q15: =K15-P15 -> -0.444 | S15: =O15-P15 -> 43402.556 | T15: =SUM(S15,D15) -> 43402.556 | U15: =S15-S14 -> -15915.811 | V15: =SUM(F15:K15)-P15 -> 35789.556 | W15: =V15/S15 -> 0.82459558 | X15: =SUM(L15:M15) -> 7613 | Y15: =X15/S15 -> 0.17540442
A16: 34713 | B16: Jan | C16: =IF(WEEKDAY(A16)=1,"Sun",IF(WEEKDAY(A16)=2,"Mon",IF(WEEKDAY(A16)=3,"Tue",IF(WEEKDAY(A16)=4,"Wed",IF(WEEKDAY(A16)=5,"Thur",IF(WEEKDAY(A16)=6,"Fri",IF(WEEKDAY(A16)=7,"Sat"))))))) -> Sat | E16: 0 | F16: 1794 | G16: 10273 | H16: 11537 | I16: 2457 | J16: 104 | K16: 1971 | L16: 4448 | O16: =SUM(F16:M16) -> 32584 | P16: 1971.464 | Q16: =K16-P16 -> -0.464 | S16: =O16-P16 -> 30612.536 | T16: =SUM(S16,D16) -> 30612.536 | U16: =S16-S15 -> -12790.02 | V16: =SUM(F16:K16)-P16 -> 26164.536 | W16: =V16/S16 -> 0.85470005 | X16: =SUM(L16:M16) -> 4448 | Y16: =X16/S16 -> 0.14529995
A17: 34714 | B17: Jan | C17: =IF(WEEKDAY(A17)=1,"Sun",IF(WEEKDAY(A17)=2,"Mon",IF(WEEKDAY(A17)=3,"Tue",IF(WEEKDAY(A17)=4,"Wed",IF(WEEKDAY(A17)=5,"Thur",IF(WEEKDAY(A17)=6,"Fri",IF(WEEKDAY(A17)=7,"Sat"))))))) -> Sun | E17: 5 | F17: 3441 | G17: 12230 | H17: 11707 | I17: 2889 | J17: 104 | K17: 2037 | L17: 5713 | O17: =SUM(F17:M17) -> 38121 | P17: 2037.11 | Q17: =K17-P17 -> -0.11 | S17: =O17-P17 -> 36083.89 | T17: =SUM(S17,D17) -> 36083.89 | U17: =S17-S16 -> 5471.354 | V17: =SUM(F17:K17)-P17 -> 30370.89 | W17: =V17/S17 -> 0.8416745 | X17: =SUM(L17:M17) -> 5713 | Y17: =X17/S17 -> 0.1583255
A18: 34715 | B18: Jan | C18: =IF(WEEKDAY(A18)=1,"Sun",IF(WEEKDAY(A18)=2,"Mon",IF(WEEKDAY(A18)=3,"Tue",IF(WEEKDAY(A18)=4,"Wed",IF(WEEKDAY(A18)=5,"Thur",IF(WEEKDAY(A18)=6,"Fri",IF(WEEKDAY(A18)=7,"Sat"))))))) -> Mon | E18: 17 | F18: 19193 | G18: 18869 | H18: 14803 | I18: 4264 | J18: 167 | K18: 2113 | L18: 11419 | O18: =SUM(F18:M18) -> 70828 | P18: 2113.23 | Q18: =K18-P18 -> -0.23 | S18: =O18-P18 -> 68714.77 | T18: =SUM(S18,D18) -> 68714.77 | U18: =S18-S17 -> 32630.88 | V18: =SUM(F18:K18)-P18 -> 57295.77 | W18: =V18/S18 -> 0.8338203 | X18: =SUM(L18:M18) -> 11419 | Y18: =X18/S18 -> 0.1661797
A19: 34716 | B19: Jan | C19: =IF(WEEKDAY(A19)=1,"Sun",IF(WEEKDAY(A19)=2,"Mon",IF(WEEKDAY(A19)=3,"Tue",IF(WEEKDAY(A19)=4,"Wed",IF(WEEKDAY(A19)=5,"Thur",IF(WEEKDAY(A19)=6,"Fri",IF(WEEKDAY(A19)=7,"Sat"))))))) -> Tue | E19: 18 | F19: 22745 | G19: 19940 | H19: 15246 | I19: 4572 | J19: 166 | K19: 2142 | L19: 12623 | O19: =SUM(F19:M19) -> 77434 | P19: 2142.418 | Q19: =K19-P19 -> -0.418 | S19: =O19-P19 -> 75291.582 | T19: =SUM(S19,D19) -> 75291.582 | U19: =S19-S18 -> 6576.812 | V19: =SUM(F19:K19)-P19 -> 62668.582 | W19: =V19/S19 -> 0.83234514 | X19: =SUM(L19:M19) -> 12623 | Y19: =X19/S19 -> 0.16765486
A20: 34717 | B20: Jan | C20: =IF(WEEKDAY(A20)=1,"Sun",IF(WEEKDAY(A20)=2,"Mon",IF(WEEKDAY(A20)=3,"Tue",IF(WEEKDAY(A20)=4,"Wed",IF(WEEKDAY(A20)=5,"Thur",IF(WEEKDAY(A20)=6,"Fri",IF(WEEKDAY(A20)=7,"Sat"))))))) -> Wed | E20: 18 | F20: 22607 | G20: 20003 | H20: 15196 | I20: 4550 | J20: 166 | K20: 2275 | L20: 12568 | O20: =SUM(F20:M20) -> 77365 | P20: 2275.41 | Q20: =K20-P20 -> -0.41 | S20: =O20-P20 -> 75089.59 | T20: =SUM(S20,D20) -> 75089.59 | U20: =S20-S19 -> -201.992 | V20: =SUM(F20:K20)-P20 -> 62521.59 | W20: =V20/S20 -> 0.8326266 | X20: =SUM(L20:M20) -> 12568 | Y20: =X20/S20 -> 0.1673734
... A33: 34730 | B33: Jan | C33: =IF(WEEKDAY(A33)=1,"Sun",IF(WEEKDAY(A33)=2,"Mon",IF(WEEKDAY(A33)=3,"Tue",IF(WEEKDAY(A33)=4,"Wed",IF(WEEKDAY(A33)=5,"Thur",IF(WEEKDAY(A33)=6,"Fri",IF(WEEKDAY(A33)=7,"Sat"))))))) -> Tue | E33: 29 | F33: 37922 | G33: 25090 | H33: 18663 | I33: 5849 | J33: 312 | K33: 5433 | L33: 16809 | O33: =SUM(F33:M33) -> 110078 | P33: 4010.973 | Q33: =K33-P33 -> 1422.027 | S33: =O33-P33 -> 106067.03 | T33: =SUM(S33,D33) -> 106067.03 | U33: =S33-S32 -> -13158.774 | V33: =SUM(F33:K33)-P33 -> 89258.027 | W33: =V33/S33 -> 0.84152474 | X33: =SUM(L33:M33) -> 16809 | Y33: =X33/S33 -> 0.15847526
A34: 34731 | B34: Feb | C34: =IF(WEEKDAY(A34)=1,"Sun",IF(WEEKDAY(A34)=2,"Mon",IF(WEEKDAY(A34)=3,"Tue",IF(WEEKDAY(A34)=4,"Wed",IF(WEEKDAY(A34)=5,"Thur",IF(WEEKDAY(A34)=6,"Fri",IF(WEEKDAY(A34)=7,"Sat"))))))) -> Wed | E34: 19 | F34: 27002.499 | G34: 21257.22 | H34: 16161.525 | I34: 4924.971 | J34: 312.3 | K34: 11990.238 | L34: 14017 | O34: =SUM(F34:M34) -> 95665.753 | P34: 10955.484 | Q34: =K34-P34 -> 1034.754 | S34: =O34-P34 -> 84710.269 | T34: =SUM(S34,D34) -> 84710.269 | U34: =S34-S33 -> -21356.758 | V34: =SUM(F34:K34)-P34 -> 70693.269 | W34: =V34/S34 -> 0.8345301 | X34: =SUM(L34:M34) -> 14017 | Y34: =X34/S34 -> 0.1654699 | AA34: =INTERCEPT(T34:T61,E34:E61) -> 28823.459 | AB34: =SLOPE(T34:T61,E34:E61) -> 2617.2062 | AC34: =RSQ(T34:T61,E34:E61) -> 0.93641741 | AD34: =AA34+(AB34*55) -> 172769.8 | AE34: =SUM(E34:E61) -> 744
A35: 34732 | B35: Feb | C35: =IF(WEEKDAY(A35)=1,"Sun",IF(WEEKDAY(A35)=2,"Mon",IF(WEEKDAY(A35)=3,"Tue",IF(WEEKDAY(A35)=4,"Wed",IF(WEEKDAY(A35)=5,"Thur",IF(WEEKDAY(A35)=6,"Fri",IF(WEEKDAY(A35)=7,"Sat"))))))) -> Thur | E35: 23 | F35: 28986.645 | G35: 21948.444 | H35: 16530.039 | I35: 5070.711 | J35: 364.35 | K35: 2535.876 | L35: 14128 | O35: =SUM(F35:M35) -> 89564.065 | P35: 2408.874 | Q35: =K35-P35 -> 127.002 | S35: =O35-P35 -> 87155.191 | T35: =SUM(S35,D35) -> 87155.191 | U35: =S35-S34 -> 2444.922 | V35: =SUM(F35:K35)-P35 -> 73027.191 | W35: =V35/S35 -> 0.83789835 | X35: =SUM(L35:M35) -> 14128 | Y35: =X35/S35 -> 0.16210165
A36: 34733 | B36: Feb | C36: =IF(WEEKDAY(A36)=1,"Sun",IF(WEEKDAY(A36)=2,"Mon",IF(WEEKDAY(A36)=3,"Tue",IF(WEEKDAY(A36)=4,"Wed",IF(WEEKDAY(A36)=5,"Thur",IF(WEEKDAY(A36)=6,"Fri",IF(WEEKDAY(A36)=7,"Sat"))))))) -> Fri | E36: 30 | F36: 29064.506 | G36: 20510.728 | H36: 15676.89 | I36: 5016.188 | J36: 416.8 | K36: 12862.448 | L36: 15973 | O36: =SUM(F36:M36) -> 99520.56 | P36: 2334.08 | Q36: =K36-P36 -> 10528.368 | S36: =O36-P36 -> 97186.48 | T36: =SUM(S36,D36) -> 97186.48 | U36: =S36-S35 -> 10031.289 | V36: =SUM(F36:K36)-P36 -> 81213.48 | W36: =V36/S36 -> 0.83564586 | X36: =SUM(L36:M36) -> 15973 | Y36: =X36/S36 -> 0.16435414
A37: 34734 | B37: Feb | C37: =IF(WEEKDAY(A37)=1,"Sun",IF(WEEKDAY(A37)=2,"Mon",IF(WEEKDAY(A37)=3,"Tue",IF(WEEKDAY(A37)=4,"Wed",IF(WEEKDAY(A37)=5,"Thur",IF(WEEKDAY(A37)=6,"Fri",IF(WEEKDAY(A37)=7,"Sat"))))))) -> Sat | D37: 17000 | E37: 32 | F37: 33496.26 | G37: 20360.37 | H37: 14756.208 | I37: 5239.824 | J37: 519 | K37: 13274.982 | L37: 16721 | O37: =SUM(F37:M37) -> 104367.64 | P37: 2364.564 | Q37: =K37-P37 -> 10910.418 | S37: =O37-P37 -> 102003.08 | T37: =SUM(S37,D37) -> 119003.08 | U37: =S37-S36 -> 4816.6 | V37: =SUM(F37:K37)-P37 -> 85282.08 | W37: =V37/S37 -> 0.83607358 | X37: =SUM(L37:M37) -> 16721 | Y37: =X37/S37 -> 0.16392642
A38: 34735 | B38: Feb | C38: =IF(WEEKDAY(A38)=1,"Sun",IF(WEEKDAY(A38)=2,"Mon",IF(WEEKDAY(A38)=3,"Tue",IF(WEEKDAY(A38)=4,"Wed",IF(WEEKDAY(A38)=5,"Thur",IF(WEEKDAY(A38)=6,"Fri",IF(WEEKDAY(A38)=7,"Sat"))))))) -> Sun | D38: 17000 | E38: 42 | F38: 41848.289 | G38: 26719.574 | H38: 16480.443 | I38: 5798.037 | J38: 521.5 | K38: 12893.566 | L38: 23744 | O38: =SUM(F38:M38) -> 128005.41 | P38: 389.039 | Q38: =K38-P38 -> 12504.527 | S38: =O38-P38 -> 127616.37 | T38: =SUM(S38,D38) -> 144616.37 | U38: =S38-S37 -> 25613.29 | V38: =SUM(F38:K38)-P38 -> 103872.37 | W38: =V38/S38 -> 0.81394236 | X38: =SUM(L38:M38) -> 23744 | Y38: =X38/S38 -> 0.18605764
A39: 34736 | B39: Feb | C39: =IF(WEEKDAY(A39)=1,"Sun",IF(WEEKDAY(A39)=2,"Mon",IF(WEEKDAY(A39)=3,"Tue",IF(WEEKDAY(A39)=4,"Wed",IF(WEEKDAY(A39)=5,"Thur",IF(WEEKDAY(A39)=6,"Fri",IF(WEEKDAY(A39)=7,"Sat"))))))) -> Mon | D39: 17000 | E39: 45 | F39: 43930.2 | G39: 27879.021 | H39: 16226.067 | I39: 5904.552 | J39: 520.5 | K39: 13830.726 | L39: 24705 | O39: =SUM(F39:M39) -> 132996.07 | P39: 0 | Q39: =K39-P39 -> 13830.726 | S39: =O39-P39 -> 132996.07 | T39: =SUM(S39,D39) -> 149996.07 | U39: =S39-S38 -> 5379.696 | V39: =SUM(F39:K39)-P39 -> 108291.07 | W39: =V39/S39 -> 0.81424263 | X39: =SUM(L39:M39) -> 24705 | Y39: =X39/S39 -> 0.18575737
A40: 34737 | B40: Feb | C40: =IF(WEEKDAY(A40)=1,"Sun",IF(WEEKDAY(A40)=2,"Mon",IF(WEEKDAY(A40)=3,"Tue",IF(WEEKDAY(A40)=4,"Wed",IF(WEEKDAY(A40)=5,"Thur",IF(WEEKDAY(A40)=6,"Fri",IF(WEEKDAY(A40)=7,"Sat"))))))) -> Tue | D40: 17000 | E40: 38 | F40: 33737.758 | G40: 25443.832 | H40: 14451.632 | I40: 5180.852 | J40: 518.5 | K40: 10544.216 | L40: 22801 | O40: =SUM(F40:M40) -> 112677.79 | P40: 0 | Q40: =K40-P40 -> 10544.216 | S40: =O40-P40 -> 112677.79 | T40: =SUM(S40,D40) -> 129677.79 | U40: =S40-S39 -> -20318.276 | V40: =SUM(F40:K40)-P40 -> 89876.79 | W40: =V40/S40 -> 0.79764424 | X40: =SUM(L40:M40) -> 22801 | Y40: =X40/S40 -> 0.20235576
A41: 34738 | B41: Feb | C41: =IF(WEEKDAY(A41)=1,"Sun",IF(WEEKDAY(A41)=2,"Mon",IF(WEEKDAY(A41)=3,"Tue",IF(WEEKDAY(A41)=4,"Wed",IF(WEEKDAY(A41)=5,"Thur",IF(WEEKDAY(A41)=6,"Fri",IF(WEEKDAY(A41)=7,"Sat"))))))) -> Wed | D41: 17000 | E41: 42 | F41: 40675.957 | G41: 27182.666 | H41: 15414.497 | I41: 5689.565 | J41: 677.95 | K41: 12511.828 | L41: 23935 | O41: =SUM(F41:M41) -> 126087.46 | P41: 205.471 | Q41: =K41-P41 -> 12306.357 | S41: =O41-P41 -> 125881.99 | T41: =SUM(S41,D41) -> 142881.99 | U41: =S41-S40 -> 13204.202 | V41: =SUM(F41:K41)-P41 -> 101946.99 | W41: =V41/S41 -> 0.8098616 | X41: =SUM(L41:M41) -> 23935 | Y41: =X41/S41 -> 0.1901384
A42: 34739 | B42: Feb | C42: =IF(WEEKDAY(A42)=1,"Sun",IF(WEEKDAY(A42)=2,"Mon",IF(WEEKDAY(A42)=3,"Tue",IF(WEEKDAY(A42)=4,"Wed",IF(WEEKDAY(A42)=5,"Thur",IF(WEEKDAY(A42)=6,"Fri",IF(WEEKDAY(A42)=7,"Sat"))))))) -> Thur | D42: 17000 | E42: 32 | F42: 31391.355 | G42: 24974.631 | H42: 14242.962 | I42: 5030.112 | J42: 676.65 | K42: 14319.996 | L42: 22278 | O42: =SUM(F42:M42) -> 112913.71 | P42: 5256.009 | Q42: =K42-P42 -> 9063.987 | S42: =O42-P42 -> 107657.7 | T42: =SUM(S42,D42) -> 124657.7 | U42: =S42-S41 -> -18224.295 | V42: =SUM(F42:K42)-P42 -> 85379.697 | W42: =V42/S42 -> 0.79306635 | X42: =SUM(L42:M42) -> 22278 | Y42: =X42/S42 -> 0.20693365
A43: 34740 | B43: Feb | C43: =IF(WEEKDAY(A43)=1,"Sun",IF(WEEKDAY(A43)=2,"Mon",IF(WEEKDAY(A43)=3,"Tue",IF(WEEKDAY(A43)=4,"Wed",IF(WEEKDAY(A43)=5,"Thur",IF(WEEKDAY(A43)=6,"Fri",IF(WEEKDAY(A43)=7,"Sat"))))))) -> Fri | D43: 17000 | E43: 27 | F43: 23543.256 | G43: 22645.914 | H43: 13168.65 | I43: 4327.437 | J43: 624.6 | K43: 11559.264 | L43: 20610 | O43: =SUM(F43:M43) -> 96479.121 | P43: 6674.892 | Q43: =K43-P43 -> 4884.372 | S43: =O43-P43 -> 89804.229 | T43: =SUM(S43,D43) -> 106804.23 | U43: =S43-S42 -> -17853.468 | V43: =SUM(F43:K43)-P43 -> 69194.229 | W43: =V43/S43 -> 0.77050079 | X43: =SUM(L43:M43) -> 20610 | Y43: =X43/S43 -> 0.22949921
A44: 34741 | B44: Feb | C44: =IF(WEEKDAY(A44)=1,"Sun",IF(WEEKDAY(A44)=2,"Mon",IF(WEEKDAY(A44)=3,"Tue",IF(WEEKDAY(A44)=4,"Wed",IF(WEEKDAY(A44)=5,"Thur",IF(WEEKDAY(A44)=6,"Fri",IF(WEEKDAY(A44)=7,"Sat"))))))) -> Sat | D44: 17000 | E44: 22 | F44: 13438.269 | G44: 18870.207 | H44: 12581.526 | I44: 3161.517 | J44: 624.6 | K44: 703.716 | L44: 18141 | O44: =SUM(F44:M44) -> 67520.835 | P44: 0 | Q44: =K44-P44 -> 703.716 | S44: =O44-P44 -> 67520.835 | T44: =SUM(S44,D44) -> 84520.835 | U44: =S44-S43 -> -22283.394 | V44: =SUM(F44:K44)-P44 -> 49379.835 | W44: =V44/S44 -> 0.73132737 | X44: =SUM(L44:M44) -> 18141 | Y44: =X44/S44 -> 0.26867263
A45: 34742 | B45: Feb | C45: =IF(WEEKDAY(A45)=1,"Sun",IF(WEEKDAY(A45)=2,"Mon",IF(WEEKDAY(A45)=3,"Tue",IF(WEEKDAY(A45)=4,"Wed",IF(WEEKDAY(A45)=5,"Thur",IF(WEEKDAY(A45)=6,"Fri",IF(WEEKDAY(A45)=7,"Sat"))))))) -> Sun | D45: 17000 | E45: 41 | F45: 33409.854 | G45: 24865.326 | H45: 14595.861 | I45: 5020.743 | J45: 624.6 | K45: 7616.997 | L45: 22571 | O45: =SUM(F45:M45) -> 108704.38 | P45: 321.669 | Q45: =K45-P45 -> 7295.328 | S45: =O45-P45 -> 108382.71 | T45: =SUM(S45,D45) -> 125382.71 | U45: =S45-S44 -> 40861.877 | V45: =SUM(F45:K45)-P45 -> 85811.712 | W45: =V45/S45 -> 0.79174723 | X45: =SUM(L45:M45) -> 22571 | Y45: =X45/S45 -> 0.20825277
A46: 34743 | B46: Feb | C46: =IF(WEEKDAY(A46)=1,"Sun",IF(WEEKDAY(A46)=2,"Mon",IF(WEEKDAY(A46)=3,"Tue",IF(WEEKDAY(A46)=4,"Wed",IF(WEEKDAY(A46)=5,"Thur",IF(WEEKDAY(A46)=6,"Fri",IF(WEEKDAY(A46)=7,"Sat"))))))) -> Mon | D46: 17000 | E46: 38 | F46: 32842.509 | G46: 25327.53 | H46: 14266.905 | I46: 5089.449 | J46: 676.65 | K46: 9383.574 | L46: 22339 | O46: =SUM(F46:M46) -> 109925.62 | P46: 1008.729 | Q46: =K46-P46 -> 8374.845 | S46: =O46-P46 -> 108916.89 | T46: =SUM(S46,D46) -> 125916.89 | U46: =S46-S45 -> 534.176 | V46: =SUM(F46:K46)-P46 -> 86577.888 | W46: =V46/S46 -> 0.79489866 | X46: =SUM(L46:M46) -> 22339 | Y46: =X46/S46 -> 0.20510134
A47: 34744 | B47: Feb | C47: =IF(WEEKDAY(A47)=1,"Sun",IF(WEEKDAY(A47)=2,"Mon",IF(WEEKDAY(A47)=3,"Tue",IF(WEEKDAY(A47)=4,"Wed",IF(WEEKDAY(A47)=5,"Thur",IF(WEEKDAY(A47)=6,"Fri",IF(WEEKDAY(A47)=7,"Sat"))))))) -> Tue | E47: 33 | F47: 36540.141 | G47: 26247.774 | H47: 15632.697 | I47: 5199.795 | J47: 676.65 | K47: 14282.52 | L47: 18745 | O47: =SUM(F47:M47) -> 117324.58 | P47: 2393.259 | Q47: =K47-P47 -> 11889.261 | S47: =O47-P47 -> 114931.32 | T47: =SUM(S47,D47) -> 114931.32 | U47: =S47-S46 -> 6014.43 | V47: =SUM(F47:K47)-P47 -> 96186.318 | W47: =V47/S47 -> 0.83690259 | X47: =SUM(L47:M47) -> 18745 | Y47: =X47/S47 -> 0.16309741
A48: 34745 | B48: Feb | C48: =IF(WEEKDAY(A48)=1,"Sun",IF(WEEKDAY(A48)=2,"Mon",IF(WEEKDAY(A48)=3,"Tue",IF(WEEKDAY(A48)=4,"Wed",IF(WEEKDAY(A48)=5,"Thur",IF(WEEKDAY(A48)=6,"Fri",IF(WEEKDAY(A48)=7,"Sat"))))))) -> Wed | E48: 29 | F48: 36383.36 | G48: 25803.44 | H48: 16798.08 | I48: 4999.28 | J48: 676 | K48: 14513.2 | L48: 14429 | O48: =SUM(F48:M48) -> 113602.36 | P48: 2216.24 | Q48: =K48-P48 -> 12296.96 | S48: =O48-P48 -> 111386.12 | T48: =SUM(S48,D48) -> 111386.12 | U48: =S48-S47 -> -3545.198 | V48: =SUM(F48:K48)-P48 -> 96957.12 | W48: =V48/S48 -> 0.87045962 | X48: =SUM(L48:M48) -> 14429 | Y48: =X48/S48 -> 0.12954038
A49: 34746 | B49: Feb | C49: =IF(WEEKDAY(A49)=1,"Sun",IF(WEEKDAY(A49)=2,"Mon",IF(WEEKDAY(A49)=3,"Tue",IF(WEEKDAY(A49)=4,"Wed",IF(WEEKDAY(A49)=5,"Thur",IF(WEEKDAY(A49)=6,"Fri",IF(WEEKDAY(A49)=7,"Sat"))))))) -> Thur | E49: 23 | F49: 29043.04 | G49: 23699.52 | H49: 15361.84 | I49: 4340.96 | J49: 676 | K49: 12415.52 | L49: 11831 | O49: =SUM(F49:M49) -> 97367.88 | P49: 2280.72 | Q49: =K49-P49 -> 10134.8 | S49: =O49-P49 -> 95087.16 | T49: =SUM(S49,D49) -> 95087.16 | U49: =S49-S48 -> -16298.96 | V49: =SUM(F49:K49)-P49 -> 83256.16 | W49: =V49/S49 -> 0.87557731 | X49: =SUM(L49:M49) -> 11831 | Y49: =X49/S49 -> 0.12442269
A50: 34747 | B50: Feb | C50: =IF(WEEKDAY(A50)=1,"Sun",IF(WEEKDAY(A50)=2,"Mon",IF(WEEKDAY(A50)=3,"Tue",IF(WEEKDAY(A50)=4,"Wed",IF(WEEKDAY(A50)=5,"Thur",IF(WEEKDAY(A50)=6,"Fri",IF(WEEKDAY(A50)=7,"Sat"))))))) -> Fri | E50: 25 | F50: 28045.68 | G50: 23565.36 | H50: 15168.4 | I50: 4190.16 | J50: 676 | K50: 10934.56 | L50: 11582 | O50: =SUM(F50:M50) -> 94162.16 | P50: 2049.84 | Q50: =K50-P50 -> 8884.72 | S50: =O50-P50 -> 92112.32 | T50: =SUM(S50,D50) -> 92112.32 | U50: =S50-S49 -> -2974.84 | V50: =SUM(F50:K50)-P50 -> 80530.32 | W50: =V50/S50 -> 0.87426221 | X50: =SUM(L50:M50) -> 11582 | Y50: =X50/S50 -> 0.12573779
A51: 34748 | B51: Feb | C51: =IF(WEEKDAY(A51)=1,"Sun",IF(WEEKDAY(A51)=2,"Mon",IF(WEEKDAY(A51)=3,"Tue",IF(WEEKDAY(A51)=4,"Wed",IF(WEEKDAY(A51)=5,"Thur",IF(WEEKDAY(A51)=6,"Fri",IF(WEEKDAY(A51)=7,"Sat"))))))) -> Sat | E51: 24 | F51: 27575.877 | G51: 22692.551 | H51: 14419.475 | I51: 4170.957 | J51: 625.8 | K51: 11315.507 | L51: 11478 | O51: =SUM(F51:M51) -> 92278.167 | P51: 2579.339 | Q51: =K51-P51 -> 8736.168 | S51: =O51-P51 -> 89698.828 | T51: =SUM(S51,D51) -> 89698.828 | U51: =S51-S50 -> -2413.492 | V51: =SUM(F51:K51)-P51 -> 78220.828 | W51: =V51/S51 -> 0.87203846 | X51: =SUM(L51:M51) -> 11478 | Y51: =X51/S51 -> 0.12796154
A52: 34749 | B52: Feb | C52: =IF(WEEKDAY(A52)=1,"Sun",IF(WEEKDAY(A52)=2,"Mon",IF(WEEKDAY(A52)=3,"Tue",IF(WEEKDAY(A52)=4,"Wed",IF(WEEKDAY(A52)=5,"Thur",IF(WEEKDAY(A52)=6,"Fri",IF(WEEKDAY(A52)=7,"Sat"))))))) -> Sun | E52: 16 | F52: 17234.796 | G52: 20443.158 | H52: 13300.857 | I52: 3270.822 | J52: 520.5 | K52: 5973.258 | L52: 8591 | O52: =SUM(F52:M52) -> 69334.391 | P52: 2559.819 | Q52: =K52-P52 -> 3413.439 | S52: =O52-P52 -> 66774.572 | T52: =SUM(S52,D52) -> 66774.572 | U52: =S52-S51 -> -22924.256 | V52: =SUM(F52:K52)-P52 -> 58183.572 | W52: =V52/S52 -> 0.87134324 | X52: =SUM(L52:M52) -> 8591 | Y52: =X52/S52 -> 0.12865676
...

Sheet DAILY STATS & GRAPHS
X1: ORIGINAL | Y1: HEDGE
B2: COR TOT | C2: COR TOT | D2: COR TOT | E2: COR TOT | F2: COR TOT | G2: COR TOT | H2: COR TOT | I2: COR TOT | J2: COR TOT | K2: COR TOT | L2: COR TOT | M2: COR TOT | N2: COR TOT | O2: COR TOT | P2: COR TOT | Q2: COR TOT | R2: COR TOT | S2: COR TOT | X2: HEDGE | Y2: vs
B3: 95 | C3: 96 | D3: 97 | E3: 98 | F3: 99 | G3: 00 | H3: 01 | I3: 02 | J3: 03 | K3: 04 | L3: 05 | M3: 06 | N3: 07 | O3: 08 | P3: 09 | Q3: 10 | R3: 11 | S3: 12 | T3: 3 LOWEST AVG | U3: 3 YR AVG | V3: MIN | W3: MAX | X3: POLICY | Y3: MIN
A4: JAN MIN | B4: =MIN('DAILY DATA'!$S$3:$S$33) -> 30612.536 | C4: =MIN('DAILY DATA'!$S$368:$S$398) -> 48042.517 | D4: =MIN('DAILY DATA'!$S$734:$S$764) -> 36950.111 | E4: =MIN('DAILY DATA'!$S$1099:$S$1129) -> 37005.092 | F4: =MIN('DAILY DATA'!$S$1464:$S$1494) -> 36366.148 | G4: =MIN('DAILY DATA'!$S$1829:$S$1859) -> 44003 | H4: =MIN('DAILY DATA'!$S$2195:$S$2225) -> 59384 | I4: =MIN('DAILY DATA'!$S$2560:$S$2590) -> 39223 | J4: =MIN('DAILY DATA'!$S$2925:$S$2955) -> 51997 | K4: =MIN('DAILY DATA'!$S$3290:$S$3320) -> 35275 | L4: =MIN('DAILY DATA'!$S$3656:$S$3686) -> 36667 | M4: =MIN('DAILY DATA'!$S$4021:$S$4051) -> 43699 | N4: =MIN('DAILY DATA'!$S$4386:$S$4416) -> 33978 | O4: =MIN('DAILY DATA'!$S$4751:$S$4781) -> 40237 | P4: =MIN('DAILY DATA'!$S$5117:$S$5147) -> 67955.6 | Q4: =MIN('DAILY DATA'!$S$5482:$S$5512) -> 56671.7 | R4: =MIN('DAILY DATA'!$S$5847:$S$5877) -> 47420.1 | S4: =MIN('DAILY DATA'!$S$6212:$S$6242) -> 42253.5 | T4: =AVERAGE(B4,N4,K4) -> 33288.512 | U4: =AVERAGE(Q4:S4) -> 48781.767 | V4: =MIN(B4:S4) -> 30612.536 | W4: =MAX(B4:S4) -> 67955.6 | X4: 35000 | Y4: =X4-V4 -> 4387.464
