Workbook
Name COMMODITY: #REF!
Name DEGREE_DAYS: #REF!
Name FIRM_REQS: #REF!
Name INTERRUP_REQ: #REF!
Name JUL_ACT_DEMAND: #REF!
Name LNG_WACOG: #REF!
Name PrintArea: #REF!
Name STOR_WACOG: #REF!
Name STORAGE: #REF!
Name STORAGE_DATA: #REF!
Name SUMMARY: #REF!
Name YR_REPORT0203: 'YR REPORTS'!#REF!
Name YR_REPORT0304: 'YR REPORTS'!#REF!
Name YR_REPORT0405: 'YR REPORTS'!#REF!
Name Yr_Summaries: 'YR SUMMARIES'!$A$3:$G$25

Sheet PGC BREAKOUT
A1: FACTOR | G1: PIPELINE FUEL | H1: COR LOSS | I1: BTU FACTOR
A2: 1000000 | G2: 0.05 | H2: 0.05 | I2: 1.04
F3: RECEIPT | G3: CG | H3: Burner | I3: Burner
B4: $/CCF | F4: MMDTH | G4: MMDTH | H4: MMDTH | I4: BCF
A5: DISTRIBUTION | B5: 0.456 | C5: =B5/$B$8 -> 0.43664715
A6: PIPELINE DEMAND | B6: =(D6/I6)/10 -> 0.20449742 | C6: =B6/$B$8 -> 0.19581845 | D6: =('YR REPORTS'!P22-'YR REPORTS'!P71)/'PGC BREAKOUT'!A2 -> 19.037018 | I6: =+'YR REPORTS'!P12/A2 -> 9.3091727
A7: GAS COMMODITY | B7: =((D7/I6))/10 -> 0.38382406 | C7: =B7/$B$8 -> 0.36753439 | D7: =+'YR REPORTS'!P35/A2 -> 35.730845
A8: TOTAL | B8: =SUM(B5:B7) -> 1.0443215 | D8: =D6+D7 -> 54.767863
A9: PGC TOTAL | B9: =B6+B7 -> 0.58832148
K10: % of TOTAL COST
A11: HEDGED | B11: =(D11/I11)/10 -> 0.4319224 | D11: ='FT GAS'!S53/A2 -> 13.266695 | E11: =D11/$D$14 -> 0.37129531 | F11: ='FT GAS'!S51/A2 -> 3.5825 | G11: =F11*(1-$G$2) -> 3.403375 | H11: =G11*(1-$H$2) -> 3.2332062 | I11: =H11*(1-$H$2) -> 3.0715459 | J11: =I11/$I$14 -> 0.35101462 | K11: =J11*$C$7 -> 0.12900995
A12: INDEX | B12: =(D12/I12)/10 -> 0.32027194 | D12: =D7-D11-D13 -> 9.5648346 | E12: =D12/$D$14 -> 0.26769125 | F12: =('FT GAS'!S107-'FT GAS'!S5)/A2 -> 3.4414756 | G12: =F12*(1-$G$2) -> 3.2694018 | H12: =G12*(1-$H$2) -> 3.1059317 | I12: =H12/$I$2 -> 2.9864728 | J12: =I12/$I$14 -> 0.34129251 | K12: =J12*$C$7 -> 0.12543674
A13: STORAGE | B13: =(D13/I13)/10 -> 0.47909034 | D13: =-SUM('STORAGE TOT'!G12:K12)/A2 -> 12.899315 | E13: =D13/$D$14 -> 0.36101344 | F13: =G13*(1+G2) -> 3.0949118 | G13: =-SUM('STORAGE TOT'!G10:K10)/'PGC BREAKOUT'!A2 -> 2.947535 | H13: =G13*(1-$H$2) -> 2.8001582 | I13: =H13/$I$2 -> 2.6924599 | J13: =I13/$I$14 -> 0.30769287 | K13: =J13*$C$7 -> 0.11308771
B14: =D14/I14/10 -> 0.40833018 | D14: =SUM(D11:D13) -> 35.730845 | F14: =SUM(F11:F13) -> 10.118887 | G14: =F14*(1-$G$2) -> 9.612943 | H14: =G14*(1-$H$2) -> 9.1322958 | I14: =SUM(I11:I13) -> 8.7504786 | J14: =SUM(J11:J13) -> 1 | K14: =SUM(K11:K13) -> 0.36753439
A16: HEDGED + STORAGE | I16: =SUM(I11,I13)/I14 -> 0.65870749

Sheet WORKBOOK NOTES
A1: Year Report
A2: RS,GS,MS Mcfs | B2: Actual Mcfs and Projected PGC - CIS
A3: CIS Mcfs | B3: Actual Mcfs and Projected Mcfs
A4: PGC Mcfs | B4: Actual sum and Projected Mcfs
A5: Non-PGC Mcfs | B5: Actual Mcfs and Projected Mcfs
A6: Total Mcfs | B6: Sum
A8: Total Commodity Costs of Sales | B8: Actual FSA Total - Demand, Proj Rec Total Dths*FT Wacog (NYMEX & hedge) and STOW Nov-Mar - COR fuel is weighted average of PGC and non-PGC
A9: Total Demand Costs
A10: Total Cost of Sales | B10: Actual from Energy Services FSA, Planned Comd + Demand
A11: Cumulative Cost of Sales
A13: PGC Commodity Costs (RS,GS,MS,CIS) | B13: Total Commodity - Non-PGC Commodity
A14: PGC Unit Commodity Costs
A15: RS,GS,MS Demand Costs | B15: Total Demand - LVS Demand - CIS Demand
A16: RS,GS,MS Unit Demand Costs
A17: RS,GS,MS Unit PGC | B17: PGC Unit Commodity + RS,GS,MS Unit Demand
A18: RS,GS,MS PGC Costs | B18: (PGC Commodity - CIS Commodity) + RS,GS,MS Demand
A19: RS,GS,MS PGC Cumulative Costs
A20: CIS Unit PGC (w/o Demand) | B20: same as PGC Unit Commodity
A21: CIS PGC Costs (w/o Demand) | B21: CIS Unit PGC * CIS Mcfs
A22: CIS PGC Cumulative Costs (w/o Demand)
A23: Total PGC Costs (w/o CIS Demand) | B23: PGC gas + RS,GS,MS demand
A24: PGC Cumulative Costs (w/o CIS Demand)
A25: CIS Demand Costs | B25: Fin Ops
A26: Total PGC Costs (with CIS Demand) | B26: PGC gas + PGC Demand (incl CIS)
A27: PGC Cumulative Costs (with CIS Demand)
A29: Non-PGC Hedge Mcf | B29: Link to LVS Hedge page
A30: Non-PGC Hedge $/Mcf | B30: Input based on citygate hedge quote
A31: Non-PGC Hedge Costs
A32: Non-PGC WACOG Mcfs | B32: Non-PGC Total Mcfs - Hedged Mcfs
A33: Non-PGC WACOG $/Mcf | B33: Actual COR Wacog, Planned FT Gas INDEX WACOG w non-PGC COR loss
A34: Non-PGC WACOG Costs
A35: Non-PGC Commodity Costs
A36: Non-PGC Demand Costs
A37: Total Non-PGC Costs
A39: RS,GS,MS PGC Rate
A40: RS,GS,MS PGC Revenue
A41: RS,GS,MS PGC Cumulative Revenue
A42: RS,GS,MS Mth Revenue vs Cost
A43: RS,GS,MS Cumulative PGC Recovery
A44: CIS PGC Rate
...

Sheet HEDGE REPORT
A1: City of Richmond
A2: Department of Public Utilities
A3: Comparison of Hedge Contracts and Storage vs Market
A5: PGC Hedges | H5: =NOW()-1 -> 41148.357 | I5: Hedge vs
A6: Hedge Dates | B6: Delivery Months | C6: Type | D6: Dth/Day | E6: Total Dths | F6: %PGC Reqs | G6: Hedge $/Dth | H6: NYMEX | I6: NYMEX or Index | J6: Total $
A7: 11/1/10,2/28/11,3/10/11,9/7/11,9/15/11,10/21/11,11/1/11,11/7/11 | B7: Jul11-Jun12 | C7: Collar - Columbia | D7: =+'FT GAS'!S52 -> 9788.2514 | E7: =+'FT GAS'!S51 -> 3582500 | F7: =E7/MCFS!P13 -> 0.29425253 | G7: =+'FT GAS'!S54 -> 3.7031947 | H7: =('FT GAS'!G51*'FT GAS'!G109+'FT GAS'!H51*'FT GAS'!H109+'FT GAS'!I51*'FT GAS'!I109+'FT GAS'!J51*'FT GAS'!J109+'FT GAS'!K51*'FT GAS'!K109+'FT GAS'!L51*'FT GAS'!L109+'FT GAS'!M51*'FT GAS'!M109+'FT GAS'!N51*'FT GAS'!N109+'FT GAS'!O51*'FT GAS'!O109+'FT GAS'!P51*'FT GAS'!P109+'FT GAS'!Q51*'FT GAS'!Q109+'FT GAS'!R51*'FT GAS'!R109)/'FT GAS'!S51 -> 3.1793203 | I7: =H7-G7 -> -0.52387439 | J7: =E7*I7 -> -1876780 | K7: =+'[1]HEDGE - RESULTS'!$N$500 -> 0
A8: PGC FY1112 Hedge Totals | E8: =SUM(E7:E7) -> 3582500 | F8: =SUM(F7:F7) -> 0.29425253 | G8: =(E7*G7)/E8 -> 3.7031947 | H8: =(E7*H7)/E8 -> 3.1793203 | I8: =I7 -> -0.52387439 | J8: =SUM(J7:J7) -> -1876780
H10: =H5 -> 41148.357 | I10: Storage vs
E11: Storage Dths | F11: %PGC Reqs | G11: Storage WACOG | H11: NYMEX + BASIS | I11: NYMEX + BASIS | J11: Total $
A12: PGC Storage (75% Planned Use) | E12: =ROUND(-SUM('STORAGE TOT'!H9:K9),-5) -> 3100000 | F12: =E12/MCFS!$P$13 -> 0.25462187 | G12: =+'STORAGE TOT'!F19 -> 4.4198088 | H12: =AVERAGE('FT GAS'!L109:O109)+((0.64*AVERAGE('FT GAS'!L113:O113))+(0.36*AVERAGE('FT GAS'!L111:O111))) -> 2.92477 | I12: =H12-G12 -> -1.4950388 | J12: =E12*I12 -> -4634620.3
H14: =H5 -> 41148.357 | I14: Hedge & Storage vs
E15: Hedge & Storage Dths | F15: %PGC Reqs | G15: Hedge & Storage WACOG | H15: NYMEX | I15: NYMEX or Index | J15: Total $
A16: PGC FY1112 Hedge & Storage | E16: =SUM(E8,E12) -> 6682500 | F16: =SUM(F8,F12) -> 0.5488744 | G16: =(E8*G8+E12*G12)/E16 -> 4.0356307 | H16: =(E8*H8+E12*H12)/E16 -> 3.0612349 | I16: =H16-G16 -> -0.97439585 | J16: =SUM(J8,J12) -> -6511400.3
A18: NON-PGC Hedges | H18: =NOW()-1 -> 41148.357 | I18: Hedge vs
A19: Hedge Dates | B19: Delivery Months | C19: Type | D19: Dth/Day | E19: Total Dths | F19: %NON-PGC Reqs | G19: Hedge $/Dth | H19: NYMEX | I19: NYMEX or Index | J19: Total $
A20: 4/26/2011,4/24/12 | B20: Jul11-Jun12 | C20: Fixed Price - Columbia | D20: =+'FT GAS'!S68 -> 2915.3005 | E20: =+'FT GAS'!S67 -> 1067000 | F20: =E20/MCFS!P15 -> 0.2618042 | G20: =+'FT GAS'!S70 -> 4.3552671 | H20: =('FT GAS'!G67*'FT GAS'!G109+'FT GAS'!H67*'FT GAS'!H109+'FT GAS'!I67*'FT GAS'!I109+'FT GAS'!J67*'FT GAS'!J109+'FT GAS'!K67*'FT GAS'!K109+'FT GAS'!L67*'FT GAS'!L109+'FT GAS'!M67*'FT GAS'!M109+'FT GAS'!N67*'FT GAS'!N109+'FT GAS'!O67*'FT GAS'!O109+'FT GAS'!P67*'FT GAS'!P109+'FT GAS'!Q67*'FT GAS'!Q109+'FT GAS'!R67*'FT GAS'!R109)/'FT GAS'!S67 -> 3.1315942 | I20: =H20-G20 -> -1.2236729 | J20: =I20*E20 -> -1305659
A24: PGC Hedges | H24: =NOW()-1 -> 41148.357 | I24: Hedge vs
A25: Hedge Dates | B25: Delivery Months | C25: Type | D25: Dth/Day | E25: Total Dths | F25: %PGC Reqs | G25: Hedge $/Dth | H25: NYMEX | I25: NYMEX or Index | J25: Total $
A26: 9/15/11/11/7/11,1/5/12,4/4/12 | B26: Jul12-Jun13 | C26: Collar - Columbia | D26: =+'FT GAS'!AJ52 -> 5410.9589 | E26: =+'FT GAS'!AJ51 -> 1975000 | F26: =E26/MCFS!AF13 -> 0.16094864 | G26: =+'FT GAS'!AJ54 -> 3.4586886 | H26: =('FT GAS'!X51*'FT GAS'!X109+'FT GAS'!Y51*'FT GAS'!Y109+'FT GAS'!Z51*'FT GAS'!Z109+'FT GAS'!AA51*'FT GAS'!AA109+'FT GAS'!AB51*'FT GAS'!AB109+'FT GAS'!AC51*'FT GAS'!AC109+'FT GAS'!AD51*'FT GAS'!AD109+'FT GAS'!AE51*'FT GAS'!AE109+'FT GAS'!AF51*'FT GAS'!AF109+'FT GAS'!AG51*'FT GAS'!AG109+'FT GAS'!AH51*'FT GAS'!AH109+'FT GAS'!AI51*'FT GAS'!AI109)/'FT GAS'!AJ51 -> 3.335038 | I26: =H26-G26 -> -0.12365063 | J26: =E26*I26 -> -244210
A27: PGC FY1213 Hedge Totals | E27: =SUM(E26:E26) -> 1975000 | F27: =SUM(F26:F26) -> 0.16094864 | G27: =(E26*G26)/E27 -> 3.4586886 | H27: =(E26*H26)/E27 -> 3.335038 | I27: =I26 -> -0.12365063 | J27: =SUM(J26:J26) -> -244210
H29: =H24 -> 41148.357 | I29: Storage vs
E30: Storage Dths | F30: %PGC Reqs | G30: Storage WACOG | H30: NYMEX + BASIS | I30: NYMEX + BASIS | J30: Total $
A31: PGC Storage (75% Planned Use) | E31: =ROUND(-SUM('STORAGE TOT'!T9:W9),-5) -> 3100000 | F31: =E31/MCFS!$AF$13 -> 0.25262825 | G31: =+'STORAGE TOT'!R19 -> 3.2618875 | H31: =AVERAGE('FT GAS'!AC109:AF109)+(0.64*AVERAGE('FT GAS'!AC113:AF113)+0.36*AVERAGE('FT GAS'!AC111:AF111)) -> 3.5102 | I31: =H31-G31 -> 0.24831247 | J31: =E31*I31 -> 769768.65
H33: =H24 -> 41148.357 | I33: Hedge & Storage vs
E34: Hedge & Storage Dths | F34: %PGC Reqs | G34: Hedge & Storage WACOG | H34: NYMEX | I34: NYMEX or Index | J34: Total $
A35: PGC FY1213 Hedge & Storage | E35: =SUM(E27,E31) -> 5075000 | F35: =SUM(F27,F31) -> 0.41357689 | G35: =(E27*G27+E31*G31)/E35 -> 3.3384751 | H35: =(E27*H27+E31*H31)/E35 -> 3.4420335 | I35: =H35-G35 -> 0.10355836 | J35: =SUM(J27,J31) -> 525558.65
A37: NON-PGC Hedges | H37: =NOW()-1 -> 41148.357 | I37: Hedge vs
A38: Hedge Dates | B38: Delivery Months | C38: Type | D38: Dth/Day | E38: Total Dths | F38: %NON-PGC Reqs | G38: Hedge $/Dth | H38: NYMEX | I38: NYMEX or Index | J38: Total $
A39: 41023 | B39: Jul12-Apr13 | C39: Fixed Price - Columbia | D39: =+'FT GAS'!AJ68 -> 3745.0658 | E39: =+'FT GAS'!AJ67 -> 1138500 | F39: =E39/MCFS!AF15 -> 0.27311176 | G39: =+'FT GAS'!AJ70 -> 2.69 | H39: =('FT GAS'!X67*'FT GAS'!X109+'FT GAS'!Y67*'FT GAS'!Y109+'FT GAS'!Z67*'FT GAS'!Z109+'FT GAS'!AA67*'FT GAS'!AA109+'FT GAS'!AB67*'FT GAS'!AB109+'FT GAS'!AC67*'FT GAS'!AC109+'FT GAS'!AD67*'FT GAS'!AD109+'FT GAS'!AE67*'FT GAS'!AE109+'FT GAS'!AF67*'FT GAS'!AF109+'FT GAS'!AG67*'FT GAS'!AG109)/'FT GAS'!AJ67 -> 3.3226891 | I39: =H39-G39 -> 0.63268906 | J39: =I39*E39 -> 720316.5
A43: PGC Hedges | H43: =NOW()-1 -> 41148.357 | I43: Hedge vs
A44: Hedge Dates | B44: Delivery Months | C44: Type | D44: Dth/Day | E44: Total Dths | F44: %PGC Reqs | G44: Hedge $/Dth | H44: NYMEX | I44: NYMEX or Index | J44: Total $
A45: 4/4/12 | B45: Jul13-Oct13 | C45: Collar - Columbia | D45: =+'FT GAS'!BA52 -> 2500 | E45: =+'FT GAS'!BA51 -> 307500 | F45: =E45/MCFS!AV13 -> 0.024709211 | G45: =+'FT GAS'!BA54 -> 3.632252 | H45: =('FT GAS'!AO51*'FT GAS'!AO109+'FT GAS'!AP51*'FT GAS'!AP109+'FT GAS'!AQ51*'FT GAS'!AQ109+'FT GAS'!AR51*'FT GAS'!AR109)/'FT GAS'!BA51 -> 3.632252 | I45: =H45-G45 -> 0 | J45: =E45*I45 -> 0
A46: PGC FY1314 Hedge Totals | E46: =SUM(E45:E45) -> 307500 | F46: =SUM(F45:F45) -> 0.024709211 | G46: =(E45*G45)/E46 -> 3.632252 | H46: =(E45*H45)/E46 -> 3.632252 | I46: =I45 -> 0 | J46: =SUM(J45:J45) -> 0
H48: =H43 -> 41148.357 | I48: Storage vs
E49: Storage Dths | F49: %PGC Reqs | G49: Storage WACOG | H49: NYMEX + BASIS | I49: NYMEX + BASIS | J49: Total $
A50: PGC Storage (75% Planned Use) | E50: =ROUND(-SUM('STORAGE TOT'!AE9:AI9),-5) -> 3100000 | F50: =E50/MCFS!$AV$13 -> 0.24910099 | G50: =+'STORAGE TOT'!AD19 -> 3.4481917 | H50: =AVERAGE('FT GAS'!AT109:AW109)+(0.64*AVERAGE('FT GAS'!AT113:AW113)+0.36*AVERAGE('FT GAS'!AT111:AW111)) -> 3.98575 | I50: =H50-G50 -> 0.53755829 | J50: =E50*I50 -> 1666430.7
H52: =H43 -> 41148.357 | I52: Hedge & Storage vs
E53: Hedge & Storage Dths | F53: %PGC Reqs | G53: Hedge & Storage WACOG | H53: NYMEX | I53: NYMEX or Index | J53: Total $
A54: PGC FY1314 Hedge & Storage | E54: =SUM(E46,E50) -> 3407500 | F54: =SUM(F46,F50) -> 0.2738102 | G54: =(E46*G46+E50*G50)/E54 -> 3.4648017 | H54: =(E46*H46+E50*H50)/E54 -> 3.9538496 | I54: =H54-G54 -> 0.4890479 | J54: =SUM(J46,J50) -> 1666430.7

Sheet NON-PGC HEDGE 
A1: Days | B1: 31 | C1: 31 | D1: 30 | E1: 31 | F1: 30 | G1: 31 | H1: 31 | I1: 28 | J1: 31 | K1: 30 | L1: 31 | M1: 30
A2: LVS Hedge | B2: 40725 | C2: 40756 | D2: 40787 | E2: 40817 | F2: 40848 | G2: 40878 | H2: 40909 | I2: 40940 | J2: 40969 | K2: 41000 | L2: 41030 | M2: 41061 | N2: FY1112
A3: Bunge Oil - Cunningham | L3: =13030/10 -> 1303
A4: Dominion Packaging - Cunningham X | B4: =42463/10 -> 4246.3 | C4: =52754/10 -> 5275.4 | D4: =47604/10 -> 4760.4 | E4: =50290/10 -> 5029 | F4: =51403/10 -> 5140.3 | G4: =48613/10 -> 4861.3 | H4: =52661/10 -> 5266.1 | I4: =49605/10 -> 4960.5 | J4: =54236/10 -> 5423.6 | K4: =38881/10 -> 3888.1 | L4: =48215/10 -> 4821.5
A5: Fareva (part of Pfizer load) - Cunningham X | D5: =51695/10 -> 5169.5 | E5: =125400/10 -> 12540 | F5: =142490/10 -> 14249 | G5: =183494/10 -> 18349.4 | H5: =147718/10 -> 14771.8 | I5: =145108/10 -> 14510.8 | J5: =133223/10 -> 13322.3 | K5: =108832/10 -> 10883.2 | L5: =115650/10 -> 11565
A6: Kinder Morgan - Cunningham | B6: =34356/10 -> 3435.6 | C6: =33074/10 -> 3307.4 | D6: =28751/10 -> 2875.1 | E6: =34381/10 -> 3438.1 | F6: =32327/10 -> 3232.7 | G6: =31709/10 -> 3170.9 | H6: =23417/10 -> 2341.7 | I6: =32728/10 -> 3272.8 | J6: =31945/10 -> 3194.5 | K6: =43564/10 -> 4356.4 | L6: =(37145+55324)/10 -> 9246.9
A7: Pfizer (Wyeth Pharm) - Moore | B7: =(38444+89987)/10 -> 12843.1 | C7: =(46320+99017)/10 -> 14533.7 | D7: =(41068+51447)/10 -> 9251.5 | E7: =45276/10 -> 4527.6 | F7: =75374/10 -> 7537.4 | G7: =86409/10 -> 8640.9 | H7: =95433/10 -> 9543.3 | I7: =90957/10 -> 9095.7 | J7: =60611/10 -> 6061.1 | K7: =56165/10 -> 5616.5 | L7: =48943/10 -> 4894.3
A8: HCA - Chippenham - Edwards | L8: =75577/10 -> 7557.7 | M8: =85054/10 -> 8505.4
A9: HCA - Henrico Drs Retreat - Edwards | L9: =19986/10 -> 1998.6 | M9: =18843/10 -> 1884.3
A10: HCA-Forest - Moore | L10: =67892/10 -> 6789.2
A11: HCA-Parham - Moore | L11: =30194/10 -> 3019.4
A12: Henrico County - Moore | L12: =(7009+4364+8229)/10 -> 1960.2
A13: Saint Catherines - Cunningham | L13: =17735/10 -> 1773.5
A14: Standex Engraving - Moore | L14: =12521/10 -> 1252.1
A15: Unifirst - Moore | B15: =(9207)/10 -> 920.7 | C15: =(12199)/10 -> 1219.9 | D15: =(10922)/10 -> 1092.2 | E15: =13595/10 -> 1359.5 | F15: =14166/10 -> 1416.6 | G15: =15824/10 -> 1582.4 | H15: =14813/10 -> 1481.3 | I15: =14242/10 -> 1424.2 | J15: =13784/10 -> 1378.4 | K15: =12459/10 -> 1245.9 | L15: =12805/10 -> 1280.5
A16: University of Richmond | L16: =174220/10 -> 17422
A17: Va DFS - Moore X | L17: =4372/10 -> 437.2
A18: VCU - Edwards | B18: =67064/10 -> 6706.4 | C18: =88651/10 -> 8865.1 | D18: =67623/10 -> 6762.3 | E18: =89128/10 -> 8912.8 | F18: =162106/10 -> 16210.6 | G18: =174016/10 -> 17401.6 | H18: =189351/10 -> 18935.1 | I18: =187875/10 -> 18787.5 | J18: =119181/10 -> 11918.1 | K18: =100520/10 -> 10052 | L18: =121546/10 -> 12154.6 | M18: =102887/10 -> 10288.7
A19: Virg. Hosp. Laundry - Edwards | B19: 2690.6 | C19: =35430/10 -> 3543 | D19: =35426/10 -> 3542.6 | E19: =31659/10 -> 3165.9 | F19: =32588/10 -> 3258.8 | G19: =40250/10 -> 4025 | H19: =30520/10 -> 3052 | I19: =32540/10 -> 3254 | J19: =33703/10 -> 3370.3 | K19: =31630/10 -> 3163 | L19: =31630/10 -> 3163 | M19: =34730/10 -> 3473
A20: VMFA | L20: =36772/10 -> 3677.2
A21: World Color-Quebecor - Moore | B21: =103650/10 -> 10365 | C21: =125250/10 -> 12525 | D21: =93740/10 -> 9374 | E21: =149180/10 -> 14918 | F21: =165660/10 -> 16566 | G21: =131240/10 -> 13124 | H21: =28920/10 -> 2892 | I21: =3280/10 -> 328 | J21: =770/10 -> 77
A27: TOTAL MCFS | B27: =SUM(B4:B21) -> 41207.7 | C27: =SUM(C4:C21) -> 49269.5 | D27: =SUM(D4:D21) -> 42827.6 | E27: =SUM(E4:E21) -> 53890.9 | F27: =SUM(F4:F21) -> 67611.4 | G27: =SUM(G4:G21) -> 71155.5 | H27: =SUM(H4:H21) -> 58283.3 | I27: =SUM(I4:I21) -> 55633.5 | ... K27: =SUM(K4:K21) -> 39205.1 | L27: =SUM(L3:L21) -> 94315.9 | M27: =SUM(M3:M21) -> 24151.4 | N27: =SUM(B27:K27) -> 523829.8
A28: DAILY MCFS | B28: =B27/B1 -> 1329.2806 | C28: =C27/C1 -> 1589.3387 | D28: =D27/D1 -> 1427.5867 | E28: =E27/E1 -> 1738.4161 | F28: =F27/F1 -> 2253.7133 | G28: =G27/G1 -> 2295.3387 | H28: =H27/H1 -> 1880.1065 | I28: =I27/I1 -> 1986.9107 | ... M28: =M27/M1 -> 805.04667 | N28: =N27/SUM(B1:K1) -> 1723.1243
A30: HEDGED DTHS | B30: 77500 | C30: 77500 | D30: 75000 | E30: 77500 | F30: 90000 | G30: 108500 | H30: 108500 | I30: 101500 | J30: 93000 | K30: 75000 | L30: 93000 | M30: 93000 | N30: =SUM(B30:M30) -> 1070000
A31: HEDGED DAILY DTHS @ COR (4% PIPELINE LOSS) | B31: =B30*0.95 -> 73625 | C31: =C30*0.95 -> 73625 | D31: =D30*0.95 -> 71250 | E31: =E30*0.95 -> 73625 | F31: =F30*0.96 -> 86400 | G31: =G30*0.96 -> 104160 | H31: =H30*0.96 -> 104160 | I31: =I30*0.96 -> 97440 | J31: =J30*0.96 -> 89280 | K31: =K30*0.96 -> 72000 | L31: =L30*0.96 -> 89280 | M31: =M30*0.96 -> 89280 | N31: =SUM(B31:M31) -> 1024125
A32: HEDGED DTHS @ BURNERTIP (2.5% COR LOSS) | B32: =B31*0.95 -> 69943.75 | C32: =C31*0.95 -> 69943.75 | D32: =D31*0.95 -> 67687.5 | E32: =E31*0.95 -> 69943.75 | F32: =F31*0.975 -> 84240 | G32: =G31*0.975 -> 101556 | H32: =H31*0.975 -> 101556 | I32: =I31*0.975 -> 95004 | J32: =J31*0.975 -> 87048 | K32: =K31*0.975 -> 70200 | L32: =L31*0.975 -> 87048 | M32: =M31*0.975 -> 87048 | N32: =SUM(B32:M32) -> 991218.75
A33: HEDGED MCFS | B33: =B32/1.04 -> 67253.606 | C33: =C32/1.04 -> 67253.606 | D33: =D32/1.04 -> 65084.135 | E33: =E32/1.04 -> 67253.606 | F33: =F32/1.04 -> 81000 | G33: =G32/1.04 -> 97650 | H33: =H32/1.04 -> 97650 | I33: =I32/1.04 -> 91350 | ... M33: =M32/1.04 -> 83700 | N33: =SUM(B33:M33) -> 953094.95
A34: MCF DIFFERENCE | B34: =B33-B27 -> 26045.906 | C34: =C33-C27 -> 17984.106 | D34: =D33-D27 -> 22256.535 | E34: =E33-E27 -> 13362.706 | F34: =F33-F27 -> 13388.6 | G34: =G33-G27 -> 26494.5 | H34: =H33-H27 -> 39366.7 | I34: =I33-I27 -> 35716.5 | ... M34: =M33-M27 -> 59548.6 | N34: =SUM(B34:M34) -> 310797.85 | O34: =N34/N30 -> 0.29046528
A35: MCF HEDGED PRICE | B35: 4.7 | C35: 4.7 | D35: 4.7 | E35: 4.7 | F35: 4.7 | G35: 4.7 | H35: 4.7 | I35: 4.7 | J35: 4.7 | K35: 5.7 | L35: 2.97 | M35: 2.97
A36: MCF WACOG | B36: =+'YR REPORTS'!D68 -> 4.9197906 | C36: =+'YR REPORTS'!E68 -> 4.8784642 | D36: =+'YR REPORTS'!F68 -> 4.3613264 | E36: =+'YR REPORTS'!G68 -> 4.2518674 | F36: =+'YR REPORTS'!H68 -> 3.9893892 | G36: =+'YR REPORTS'!I68 -> 3.8106806 | H36: =+'YR REPORTS'!J68 -> 3.4979407 | I36: =+'YR REPORTS'!K68 -> 3.0444677 | ... M36: =+'YR REPORTS'!O68 -> 2.7663525
A37: HEDGE VS WACOG | B37: =B36-B35 -> 0.21979058 | C37: =C36-C35 -> 0.17846422 | D37: =D36-D35 -> -0.33867365 | E37: =E36-E35 -> -0.44813264 | F37: =F36-F35 -> -0.71061082 | G37: =G36-G35 -> -0.88931937 | H37: =H36-H35 -> -1.2020593 | I37: =I36-I35 -> -1.6555323 | ... M37: =M36-M35 -> -0.20364747
A38: HEDGE VS ACTUAL COSTS | B38: =B34*B37 -> 5724.6446 | C38: =C34*C37 -> 3209.5195 | D38: =D34*D37 -> -7537.7018 | E38: =E34*E37 -> -5988.2646 | F38: =F34*F37 -> -9514.084 | G38: =G34*G37 -> -23562.072 | H38: =H34*H37 -> -47321.109 | I38: =I34*I37 -> -59129.819 | ... M38: =M34*M37 -> -12126.922 | N38: =SUM(B38:L38) -> -302410.97
A39: CUMULATIVE HEDGE VS ACTUAL COSTS | B39: =B38 -> 5724.6446 | C39: =C38+B39 -> 8934.1641 | D39: =D38+C39 -> 1396.4623 | E39: =E38+D39 -> -4591.8022 | F39: =F38+E39 -> -14105.886 | G39: =G38+F39 -> -37667.958 | H39: =H38+G39 -> -84989.068 | I39: =I38+H39 -> -144118.89 | J39: =J38+I39 -> -218703.88 | ... M39: =M38+L39 -> -314537.89
A41: Moore, Flossie - DPU
A42: Edwards, Yolanda W. - DPU
A43: Cunningham, Carolyn G. - DPU

Sheet YR SUMMARIES
A1: Factor
A2: 1000000
A3: =CELL("FILENAME",A1) -> H:\Gaspurch\GasCosts\Annual\FY1214\[1214pgcFYendrevised27Aug12.xlsx]YR SUMMARIES
A4: City of Richmond
A5: Department of Public Utilities
A6: Gas Cost Summary
A7: NYMEX Settlement: | B7: =NOW()-1 -> 41148.357
E9: 11-12 | F9: 11-12 | G9: 11-12 | I9: 12-13 | J9: 12-13 | K9: 12-13 | M9: 13-14 | N9: 13-14 | O9: 13-14
E10: Total ($M) | F10: MMcf | G10: $/Mcf | H10: vs 1011 | I10: Total ($M) | J10: MMcf | K10: $/Mcf | L10: vs 1112 | M10: Total ($M) | N10: MMcf | O10: $/Mcf | P10: vs 1213
A11: Total | E11: =+'YR REPORTS'!P25/'YR SUMMARIES'!$A$2 -> 69.454091 | F11: =+'YR REPORTS'!P14/'YR SUMMARIES'!$A$2 -> 12.757644 | G11: =E11/F11 -> 5.4441157 | I11: ='YR REPORTS'!AG25/'YR SUMMARIES'!A2 -> 78.04061 | J11: =+'YR REPORTS'!AG14/'YR SUMMARIES'!A2 -> 14.361308 | K11: =I11/J11 -> 5.4340879 | M11: ='YR REPORTS'!AW25/'YR SUMMARIES'!A2 -> 84.928848 | N11: =+'YR REPORTS'!AW14/'YR SUMMARIES'!A2 -> 14.640412 | O11: =M11/N11 -> 5.8009875
A12: PGC | E12: =SUM('YR REPORTS'!P35,'YR REPORTS'!P37,'YR REPORTS'!P60)/$A$2 -> 54.767863 | F12: =+'YR REPORTS'!P12/'YR SUMMARIES'!$A$2 -> 9.3091727 | G12: =E12/F12 -> 5.8832148 | H12: =(G12-'[2]YR SUMMARIES'!$I$12)/'[2]YR SUMMARIES'!$I$12 -> -0.076345826 | I12: =SUM('YR REPORTS'!AG35,'YR REPORTS'!AG37,'YR REPORTS'!AG60)/A2 -> 62.083715 | J12: =+'YR REPORTS'!AG12/'YR SUMMARIES'!A2 -> 10.648628 | K12: =I12/J12 -> 5.8302079 | L12: =(K12-G12)/G12 -> -0.0090098599 | M12: =SUM('YR REPORTS'!AW35,'YR REPORTS'!AW37,'YR REPORTS'!AW60)/A2 -> 66.313287 | N12: =+'YR REPORTS'!AW12/'YR SUMMARIES'!A2 -> 10.799412 | O12: =M12/N12 -> 6.1404534 | P12: =(O12-K12)/K12 -> 0.053213468
A13: Non-PGC | E13: =+'YR REPORTS'!P72/'YR SUMMARIES'!$A$2 -> 14.686229 | F13: =+'YR REPORTS'!P13/'YR SUMMARIES'!$A$2 -> 3.4484716 | G13: =E13/F13 -> 4.2587645 | I13: =+'YR REPORTS'!AG72/'YR SUMMARIES'!A2 -> 15.956895 | J13: =+'YR REPORTS'!AG67/'YR SUMMARIES'!A2 -> 3.71268 | K13: =I13/J13 -> 4.2979451 | M13: =+'YR REPORTS'!AW72/'YR SUMMARIES'!A2 -> 18.615561 | N13: =+'YR REPORTS'!AW67/'YR SUMMARIES'!A2 -> 3.841 | O13: =M13/N13 -> 4.8465402
E15: 11-12 | F15: 11-12 | G15: 11-12 | I15: 12-13 | J15: 12-13 | K15: 12-13
E16: Total ($M) | F16: MMcf | G16: $/Mcf | I16: Total ($M) | J16: MMcf | K16: $/Mcf
A17: Total Hedge Status | E17: =SUM(E18:E19) -> -3.182439 | F17: =SUM(F18:F19) -> 4.1409609 | G17: =E17/F17 -> -0.76852669 | I17: =SUM(I18:I19) -> -0.24421 | J17: =SUM(J18:J19) -> 1.7589844 | K17: =I17/J17 -> -0.1388358
A18: PGC Hedge Status | E18: =+'HEDGE REPORT'!J8/'YR SUMMARIES'!A2 -> -1.87678 | F18: =+('HEDGE REPORT'!E8/A2/1.04*(1-0.05))*(1-0.025) -> 3.1906641 | G18: =E18/F18 -> -0.58820984 | I18: =+'HEDGE REPORT'!J27/'YR SUMMARIES'!A2 -> -0.24421 | J18: =+('HEDGE REPORT'!E27/A2/1.04*(1-0.05))*(1-0.025) -> 1.7589844 | K18: =I18/J18 -> -0.1388358
A19: Non-PGC Hedge Status | E19: ='HEDGE REPORT'!J20/'YR SUMMARIES'!A2 -> -1.305659 | F19: =+('HEDGE REPORT'!E20/A2/1.04*(1-0.05))*(1-0.025) -> 0.95029687 | G19: =E19/F19 -> -1.3739485
E21: 11-12 | F21: 11-12 | G21: 11-12 | I21: 12-13 | J21: 12-13 | K21: 12-13
E22: Total ($M) | F22: MMcf | G22: $/Mcf | I22: Total ($M) | J22: MMcf | K22: $/Mcf
A23: PGC Storage | E23: =+'HEDGE REPORT'!J12/A2 -> -4.6346203 | F23: =+'HEDGE REPORT'!E12/A2*(1-0.025)/1.04 -> 2.90625 | G23: =E23/F23 -> -1.5947081 | I23: =+'HEDGE REPORT'!J31/A2 -> 0.76976865 | J23: =+'HEDGE REPORT'!E31/A2*(1-0.025)/1.04 -> 2.90625 | K23: =I23/J23 -> 0.26486663
A24: PGC Hedge and Storage | E24: =SUM(E18,E23) -> -6.5114003 | F24: =SUM(F18,F23) -> 6.0969141 | G24: =E24/F24 -> -1.067983 | I24: =SUM(I18,I23) -> 0.52555865 | J24: =SUM(J18,J23) -> 4.6652344 | K24: =I24/J24 -> 0.11265429
A25: PGC w/o Hedge and Storage | E25: =SUM(E12,E24) -> 48.256462 | F25: =F12 -> 9.3091727 | G25: =E25/F25 -> 5.1837541 | H25: =(G25-G12)/G12 -> -0.1188909 | I25: =SUM(I12,I24) -> 62.609273 | J25: =J12 -> 10.648628 | K25: =I25/J25 -> 5.8795624 | L25: =(K25-K12)/K12 -> 0.0084653223
A27: PGC Rate | G27: =+'YR REPORTS'!P77 -> 5.9199454 | K27: =+'YR REPORTS'!AG77 -> 5 | O27: =+'YR REPORTS'!AW77 -> 5
A28: PGC Cumulative Recovery | C28: =+'YR REPORTS'!B91/'YR SUMMARIES'!A2 -> 8.3582289 | E28: =+'YR REPORTS'!O91/'YR SUMMARIES'!A2 -> 7.6615928 | I28: =+'YR REPORTS'!AF91/'YR SUMMARIES'!A2 -> -2.1503628 | M28: =+'YR REPORTS'!AV91/A2 -> -15.43797
A29: Yr Change | E29: =E28-C28 -> -0.69663614 | I29: =I28-E28 -> -9.8119556 | M29: =M28-I28 -> -13.287608
A36: Prepayment Discounts | E36: $M | F36: MMDth | G36: $/Dth | H36: Tot $% | I36: Tot MMDth%
A37: Transco Yr Base (10K/day) - Future | E37: =F37*G37 -> 1.9018421 | F37: =9.9*365/1000/0.95 -> 3.8036842 | G37: 0.5 | H37: =E37/$E$11 -> 0.027382723 | I37: =F37/(MCFS!$P$17/1000000) -> 0.23406594 | K37: FUTURE Deal
A38: MGAG Columbia Winter Base | E38: =F38*G38 -> 1.0315789 | F38: =(10*(30+31)+15*(31+31+28))/1000/0.95 -> 2.0631579 | G38: 0.5 | H38: =E38/$E$11 -> 0.014852674 | I38: =F38/(MCFS!$P$17/1000000) -> 0.1269598 | J38: =I38+I39 -> 0.25003308 | K38: MGAG Deal 1
A39: MGAG Columbia Storage | E39: =F39*G39 -> 1 | F39: =2 -> 2 | G39: 0.5 | H39: =E39/$E$11 -> 0.014398 | I39: =F39/(MCFS!$P$17/1000000) -> 0.12307328
A40: Total | E40: =SUM(E37:E39) -> 3.9334211 | F40: =SUM(F37:F39) -> 7.8668421 | H40: =SUM(H37:H39) -> 0.056633396 | I40: =SUM(I37:I39) -> 0.48409902 | J40: RMI 10% to 50%
H42: PGC $% | I42: PGC MMDth%
A43: Transco Yr Base (10K/day) - Future | E43: =E37 -> 1.9018421 | F43: =F37 -> 3.8036842 | H43: =E43/E12 -> 0.034725513 | I43: =F43/(MCFS!$P$13/1000000) -> 0.31241973
A44: MGAG Columbia Winter Base | E44: =E38 -> 1.0315789 | F44: =F38 -> 2.0631579 | H44: =E44/E12 -> 0.018835479 | I44: =F44/(MCFS!$P$13/1000000) -> 0.16945971
A45: MGAG Columbia Storage | E45: =E39 -> 1 | F45: =F39 -> 2 | H45: =E45/E12 -> 0.018258883 | I45: =F45/(MCFS!$P$13/1000000) -> 0.16427217
A46: Total | E46: =SUM(E43:E45) -> 3.9334211 | F46: =SUM(F43:F45) -> 7.8668421 | H46: =SUM(H43:H45) -> 0.071819875 | I46: =SUM(I43:I45) -> 0.64615162
A48: Other Supply | F48: MMDth | I48: Tot MMDth%
A49: Columbia Yr Baseload | F49: =13.5*365/1000/0.95 -> 5.1868421 | I49: =F49/(MCFS!$P$17/1000000) -> 0.31918083
A50: DTI Winter Base | F50: =(5*(30+31)+7.5*(31+31+28))/1000/0.97 -> 1.0103093 | I50: =F50/(MCFS!$P$17/1000000) -> 0.062171036
A51: DTI Storage | F51: =1.1 -> 1.1 | I51: =F51/(MCFS!$P$17/1000000) -> 0.067690302
A52: Total | F52: =SUM(F49:F51) -> 7.2971514
...

Sheet YR REPORTS
C1: Factor
C2: 1000000
C3: =CELL("FILENAME",A3) -> H:\Gaspurch\GasCosts\Annual\FY1214\[1214pgcFYendrevised27Aug12.xlsx]YR REPORTS | T3: =CELL("FILENAME",O3) -> H:\Gaspurch\GasCosts\Annual\FY1214\[1214pgcFYendrevised27Aug12.xlsx]YR REPORTS | AJ3: =CELL("FILENAME",AF3) -> H:\Gaspurch\GasCosts\Annual\FY1214\[1214pgcFYendrevised27Aug12.xlsx]YR REPORTS
C4: City of Richmond | T4: City of Richmond | AJ4: City of Richmond
C5: Department of Public Utilities | T5: Department of Public Utilities | AJ5: Department of Public Utilities
C6: Projected Gas Costs and PGC Recovery | T6: Projected Gas Costs and PGC Recovery | AJ6: Projected Gas Costs and PGC Recovery
C7: =NOW() -> 41149.357 | D7: HURRICANE | E7: HURRICANE | F7: HURRICANE | G7: HURRICANE | H7: HURRICANE | T7: =NOW() -> 41149.357 | U7: HURRICANE | V7: HURRICANE | W7: HURRICANE | X7: HURRICANE | Y7: HURRICANE | AJ7: =NOW() -> 41149.357 | AK7: HURRICANE | AL7: HURRICANE | AM7: HURRICANE | AN7: HURRICANE | AO7: HURRICANE
D8: A C T U A L S | E8: A C T U A L S | F8: A C T U A L S | G8: A C T U A L S | H8: A C T U A L S | I8: A C T U A L S | J8: A C T U A L S | K8: A C T U A L S | L8: A C T U A L S | M8: A C T U A L S | N8: A C T U A L S | O8: A C T U A L S | U8: P L A N | V8: P L A N | W8: P L A N | X8: P L A N | Y8: P L A N | Z8: P L A N | AA8: P L A N | AB8: P L A N | AC8: P L A N | AD8: P L A N | AE8: P L A N | AF8: P L A N | AK8: P L A N | AL8: P L A N | AM8: P L A N | AN8: P L A N | AO8: P L A N | AP8: P L A N | AQ8: P L A N | AR8: P L A N | AS8: P L A N | AT8: P L A N | AU8: P L A N | AV8: P L A N
D9: 40725 | E9: 40756 | F9: 40787 | G9: 40817 | H9: 40848 | I9: 40878 | J9: 40909 | K9: 40940 | L9: 40969 | M9: 41000 | N9: 41030 | O9: 41061 | P9: 1112 TOTALS | U9: 41091 | V9: 41122 | W9: 41153 | X9: 41183 | Y9: 41214 | Z9: 41244 | AA9: 41275 | AB9: 41306 | AC9: 41334 | AD9: 41365 | AE9: 41395 | AF9: 41426 | AG9: 1213 TOTALS | AH9: vs Prior FY | AK9: 41456 | AL9: 41487 | AM9: 41518 | AN9: 41548 | AO9: 41579 | AP9: 41609 | AQ9: 41640 | AR9: 41671 | AS9: 41699 | AT9: 41730 | AU9: 41760 | AV9: 41791 | AW9: 1314 TOTALS | AX9: vs Prior FY
C10: RS,GS,MS Mcfs | D10: =D12-D11 -> 181842.4 | E10: =E12-E11 -> 211961.9 | F10: =F12-F11 -> 237016.8 | G10: =G12-G11 -> 450304.8 | H10: =H12-H11 -> 888782 | I10: =I12-I11 -> 1330964.4 | J10: =J12-J11 -> 1532639.5 | K10: =K12-K11 -> 1365526.7 | ... O10: =O12-O11 -> 211776 | P10: =SUM(D10:O10) -> 7809150.7 | T10: RS,GS,MS Mcfs | U10: =U12-U11 -> 206212 | V10: =V12-V11 -> 206212 | W10: =W12-W11 -> 246191 | X10: =X12-X11 -> 572086 | Y10: =Y12-Y11 -> 992287 | Z10: =Z12-Z11 -> 1542369.5 | AA10: =AA12-AA11 -> 1705578 | AB10: =AB12-AB11 -> 1396868.5 | ... AG10: =AG12-AG11 -> 9175127 | AH10: =AG10-P10 -> 1365976.3 | AJ10: RS,GS,MS Mcfs | AK10: =AK12-AK11 -> 210056 | AL10: =AL12-AL11 -> 210056 | AM10: =AM12-AM11 -> 250640.3 | AN10: =AN12-AN11 -> 581652.2 | AO10: =AO12-AO11 -> 1008405.1 | AP10: =AP12-AP11 -> 1567110.8 | AQ10: =AQ12-AQ11 -> 1732871.8 | AR10: =AR12-AR11 -> 1419274.2 | ... AW10: =AW12-AW11 -> 9325911.1 | AX10: =AW10-AG10 -> 150784.1
C11: CIS Mcfs | D11: =+MCFS!D81 -> 55553.9 | E11: =+MCFS!E81 -> 64381.4 | F11: =+MCFS!F81 -> 73763.7 | G11: =+MCFS!G81 -> 105069.8 | H11: =+MCFS!H81 -> 152859.6 | I11: =+MCFS!I81 -> 207520.1 | J11: =+MCFS!J81 -> 226153.4 | K11: =+MCFS!K81 -> 199813.2 | ... O11: =+MCFS!O81 -> 69948.1 | P11: =SUM(D11:O11) -> 1500022 | T11: CIS Mcfs | U11: =+MCFS!T46 -> 62682 | V11: =+MCFS!U46 -> 62682 | W11: =+MCFS!V46 -> 65743 | X11: =+MCFS!W46 -> 102564 | Y11: =+MCFS!X46 -> 147071 | Z11: =+MCFS!Y46 -> 208329.5 | AA11: =+MCFS!Z46 -> 226120 | AB11: =+MCFS!AA46 -> 188578.5 | ... AF11: =+MCFS!AE46 -> 61637.5 | AG11: =SUM(U11:AF11) -> 1473501 | AH11: =AG11-P11 -> -26521 | AJ11: CIS Mcfs | AK11: =+MCFS!AJ46 -> 62682 | AL11: =+MCFS!AK46 -> 62682 | AM11: =+MCFS!AL46 -> 65743 | AN11: =+MCFS!AM46 -> 102564 | AO11: =+MCFS!AN46 -> 147071 | AP11: =+MCFS!AO46 -> 208329.5 | AQ11: =+MCFS!AP46 -> 226120 | AR11: =+MCFS!AQ46 -> 188578.5 | ... AV11: =+MCFS!AU46 -> 61637.5 | AW11: =SUM(AK11:AV11) -> 1473501 | AX11: =AW11-AG11 -> 0
C12: PGC Mcfs | D12: =+MCFS!D89 -> 237396.3 | E12: =+MCFS!E89 -> 276343.3 | F12: =+MCFS!F89 -> 310780.5 | G12: =+MCFS!G89 -> 555374.6 | H12: =+MCFS!H89 -> 1041641.6 | I12: =+MCFS!I89 -> 1538484.5 | J12: =+MCFS!J89 -> 1758792.9 | K12: =+MCFS!K89 -> 1565339.9 | ... O12: =+MCFS!O89 -> 281724.1 | P12: =SUM(D12:O12) -> 9309172.7 | T12: PGC Mcfs | U12: =+MCFS!T52 -> 268894 | V12: =+MCFS!U52 -> 268894 | W12: =+MCFS!V52 -> 311934 | X12: =+MCFS!W52 -> 674650 | Y12: =+MCFS!X52 -> 1139358 | Z12: =+MCFS!Y52 -> 1750699 | AA12: =+MCFS!Z52 -> 1931698 | AB12: =+MCFS!AA52 -> 1585447 | ... AF12: =+MCFS!AE52 -> 270165 | AG12: =SUM(U12:AF12) -> 10648628 | AH12: =AG12-P12 -> 1339455.3 | AJ12: PGC Mcfs | AK12: =+MCFS!AJ52 -> 272738 | AL12: =+MCFS!AK52 -> 272738 | AM12: =+MCFS!AL52 -> 316383.3 | AN12: =+MCFS!AM52 -> 684216.2 | AO12: =+MCFS!AN52 -> 1155476.1 | AP12: =+MCFS!AO52 -> 1775440.2 | AQ12: =+MCFS!AP52 -> 1958991.8 | AR12: =+MCFS!AQ52 -> 1607852.8 | ... AV12: =+MCFS!AU52 -> 274025.25 | AW12: =SUM(AK12:AV12) -> 10799412 | AX12: =AW12-AG12 -> 150784.1
C13: Non-PGC Mcfs | D13: =+MCFS!D103 -> 216811.1 | E13: =+MCFS!E103 -> 240336.4 | F13: =+MCFS!F103 -> 255779.8 | G13: =+MCFS!G103 -> 275439.8 | H13: =+MCFS!H103 -> 330773.9 | I13: =+MCFS!I103 -> 357854.1 | J13: =+MCFS!J103 -> 372037 | K13: =+MCFS!K103 -> 352315.7 | ... O13: =+MCFS!O103 -> 229430.5 | P13: =SUM(D13:O13) -> 3448471.6 | T13: Non-PGC Mcfs | U13: =+MCFS!T64 -> 224940 | V13: =+MCFS!U64 -> 239240 | W13: =+MCFS!V64 -> 254540 | X13: =+MCFS!W64 -> 278940 | Y13: =+MCFS!X64 -> 336440 | Z13: =+MCFS!Y64 -> 427440 | AA13: =+MCFS!Z64 -> 449440 | AB13: =+MCFS!AA64 -> 367440 | ... AF13: =+MCFS!AE64 -> 249440 | AG13: =SUM(U13:AF13) -> 3712680 | AH13: =AG13-P13 -> 264208.4 | AJ13: Non-PGC Mcfs | AK13: =+MCFS!AJ64 -> 236500 | AL13: =+MCFS!AK64 -> 251500 | AM13: =+MCFS!AL64 -> 257200 | AN13: =+MCFS!AM64 -> 291700 | AO13: =+MCFS!AN64 -> 346200 | AP13: =+MCFS!AO64 -> 445200 | AQ13: =+MCFS!AP64 -> 466200 | AR13: =+MCFS!AQ64 -> 373200 | ... AV13: =+MCFS!AU64 -> 257200 | AW13: =SUM(AK13:AV13) -> 3841000 | AX13: =AW13-AG13 -> 128320
C14: Total Mcfs | D14: =SUM(D12:D13) -> 454207.4 | E14: =SUM(E12:E13) -> 516679.7 | F14: =SUM(F12:F13) -> 566560.3 | G14: =SUM(G12:G13) -> 830814.4 | H14: =SUM(H12:H13) -> 1372415.5 | I14: =SUM(I12:I13) -> 1896338.6 | J14: =SUM(J12:J13) -> 2130829.9 | K14: =SUM(K12:K13) -> 1917655.6 | ... O14: =SUM(O12:O13) -> 511154.6 | P14: =SUM(D14:O14) -> 12757644 | T14: Total Mcfs | U14: =SUM(U12:U13) -> 493834 | V14: =SUM(V12:V13) -> 508134 | W14: =SUM(W12:W13) -> 566474 | X14: =SUM(X12:X13) -> 953590 | Y14: =SUM(Y12:Y13) -> 1475798 | Z14: =SUM(Z12:Z13) -> 2178139 | AA14: =SUM(AA12:AA13) -> 2381138 | AB14: =SUM(AB12:AB13) -> 1952887 | ... AF14: =SUM(AF12:AF13) -> 519605 | AG14: =SUM(U14:AF14) -> 14361308 | AH14: =AG14-P14 -> 1603663.7 | AJ14: Total Mcfs | AK14: =SUM(AK12:AK13) -> 509238 | AL14: =SUM(AL12:AL13) -> 524238 | AM14: =SUM(AM12:AM13) -> 573583.3 | AN14: =SUM(AN12:AN13) -> 975916.2 | AO14: =SUM(AO12:AO13) -> 1501676.1 | AP14: =SUM(AP12:AP13) -> 2220640.2 | AQ14: =SUM(AQ12:AQ13) -> 2425191.8 | AR14: =SUM(AR12:AR13) -> 1981052.8 | ... AV14: =SUM(AV12:AV13) -> 531225.25 | AW14: =SUM(AK14:AV14) -> 14640412 | AX14: =AW14-AG14 -> 279104.1
C15: Citygate Dths based on Sales (Btu 1.04) | D15: =D14*1.04/0.95 -> 497237.57 | E15: =E14*1.04/0.95 -> 565628.3 | F15: =F14*1.04/0.95 -> 620234.43 | G15: =G14*1.04/0.95 -> 909523.13 | H15: =H14*1.04/0.95 -> 1502433.8 | I15: =I14*1.04/0.95 -> 2075991.7 | J15: =J14*1.04/0.95 -> 2332698 | K15: =K14*1.04/0.95 -> 2099328.2 | ... O15: =O14*1.04/0.95 -> 559579.77 | P15: =SUM(D15:O15) -> 13966263 | U15: =U20-'[3]YR REPORTS'!AK14 -> -4073554.7 | V15: =V20-'[3]YR REPORTS'!AL14 -> -4012813 | W15: =W20-'[3]YR REPORTS'!AM14 -> -3716818.9 | X15: =X20-'[3]YR REPORTS'!AN14 -> -5348088.1 | Y15: =Y20-'[3]YR REPORTS'!AO14 -> -7674781.4 | Z15: =Z20-'[3]YR REPORTS'!AP14 -> -6928519.3 | AA15: =AA20-'[3]YR REPORTS'!AQ14 -> -8395246.8 | AB15: =AB20-'[3]YR REPORTS'!AR14 -> -7855508.7 | ... AF15: =AF20-'[3]YR REPORTS'!AV14 -> -4299072.3 | AG15: =SUM(U15:AF15) -> -71367872 | AH15: =AG15-P15 -> -85334135
C16: Gas Control CG Dths less TS | D16: 483450.3 | E16: 531090.5 | F16: 583937.6 | G16: 949333.5 | H16: 1404054.8 | I16: 1959405 | J16: 2341272 | K16: 2000269 | L16: 1149243 | M16: 912145.5 | N16: 588725 | O16: 541188.1 | P16: =SUM(D16:O16) -> 13444114
C17: Difference | D17: =D15-D16 -> 13787.275 | E17: =E15-E16 -> 34537.803 | F17: =F15-F16 -> 36296.834 | G17: =G15-G16 -> -39810.367 | H17: =H15-H16 -> 98379.011 | I17: =I15-I16 -> 116586.73 | J17: =J15-J16 -> -8574.0042 | K17: =K15-K16 -> 99059.236 | ... O17: =O15-O16 -> 18391.673 | P17: =SUM(D17:O17) -> 522148.93
C18: % Difference | D18: =D17/D15 -> 0.027727741 | E18: =E17/E15 -> 0.061060953 | F18: =F17/F15 -> 0.058521152 | G18: =G17/G15 -> -0.043770594 | H18: =H17/H15 -> 0.065479763 | I18: =I17/I15 -> 0.056159535 | J18: =J17/J15 -> -0.003675574 | K18: =K17/K15 -> 0.047186159 | ... P18: =P17/P15 -> 0.037386445
C20: Total Projected Commodity Costs (Storage injections not expensed) | D20: =('FT GAS'!G39*'FT GAS'!G117) -> 4806068.2 | E20: =('FT GAS'!H39*'FT GAS'!H117) -> 4395544.7 | F20: =('FT GAS'!I39*'FT GAS'!I117) -> 3850779.6 | G20: =('FT GAS'!J39*'FT GAS'!J117) -> 4955145.4 | H20: =('FT GAS'!K39*'FT GAS'!K117) -> 5478980.8 | I20: =('FT GAS'!L39*'FT GAS'!L117) -> 5909982.1 | J20: =('FT GAS'!M39*'FT GAS'!M117) -> 5381126.5 | K20: =('FT GAS'!N39*'FT GAS'!N117) -> 4548668.7 | ... O20: =('FT GAS'!R39*'FT GAS'!R117) -> 2620779.3 | P20: =SUM(D20:O20) -> 52363891 | T20: Total Projected Commodity Costs (Storage injections not expensed) | U20: =+'FT GAS'!X39*'FT GAS'!X117 -> 3133989.8 | V20: =+'FT GAS'!Y39*'FT GAS'!Y117 -> 3542720 | W20: =+'FT GAS'!Z39*'FT GAS'!Z117 -> 3336917.3 | X20: =+'FT GAS'!AA39*'FT GAS'!AA117 -> 4479117.2 | Y20: =+'FT GAS'!AB39*'FT GAS'!AB117 -> 5660168.4 | Z20: =+'FT GAS'!AC39*'FT GAS'!AC117 -> 5737018.1 | AA20: =+'FT GAS'!AD39*'FT GAS'!AD117 -> 6303341.4 | AB20: =+'FT GAS'!AE39*'FT GAS'!AE117 -> 5208952.5 | ... AF20: =+'FT GAS'!AI39*'FT GAS'!AI117 -> 3810125.4 | AG20: =SUM(U20:AF20) -> 56960554 | AJ20: Total Projected Commodity Costs (Storage injections not expensed) | AK20: =+'FT GAS'!AO39*'FT GAS'!AO117 -> 3857997.9 | AL20: =+'FT GAS'!AP39*'FT GAS'!AP117 -> 4043747.5 | AM20: =+'FT GAS'!AQ39*'FT GAS'!AQ117 -> 3735631.8 | AN20: =+'FT GAS'!AR39*'FT GAS'!AR117 -> 5080940.8 | AO20: =+'FT GAS'!AS39*'FT GAS'!AS117 -> 6502484.3 | AP20: =+'FT GAS'!AT39*'FT GAS'!AT117 -> 6574093.4 | AQ20: =+'FT GAS'!AU39*'FT GAS'!AU117 -> 7176197.2 | AR20: =+'FT GAS'!AV39*'FT GAS'!AV117 -> 5833991.6 | ... AV20: =+'FT GAS'!AZ39*'FT GAS'!AZ117 -> 4354305.2 | AW20: =SUM(AK20:AV20) -> 64598015
C21: Total Commodity Costs of Sales | D21: =D25-D22 -> 1969527.2 | E21: =E25-E22 -> 2264279.8 | F21: =F25-F22 -> 2206774.5 | G21: =G25-G22 -> 3638947.1 | H21: =H25-H22 -> 5113363.8 | I21: =I25-I22 -> 7659362.5 | J21: =J25-J22 -> 9185293.9 | K21: =K25-K22 -> 7309195.1 | ... O21: =O25-O22 -> 1273463.9 | P21: =SUM(D21:O21) -> 48638876 | Q21: =P21+P22 -> 69454091 | T21: Total Commodity Costs of Sales | U21: =('FT GAS'!X7*'FT GAS'!X117) -> 1681234.6 | V21: =('FT GAS'!Y7*'FT GAS'!Y117) -> 1876641.8 | W21: =('FT GAS'!Z7*'FT GAS'!Z117) -> 2119432.6 | X21: =('FT GAS'!AA7*'FT GAS'!AA117) -> 3602657.1 | Y21: =('FT GAS'!AB39*'FT GAS'!AB117)-'STORAGE TOT'!S12 -> 5660168.4 | Z21: =('FT GAS'!AC39*'FT GAS'!AC117)-'STORAGE TOT'!T12 -> 8683611.9 | AA21: =('FT GAS'!AD39*'FT GAS'!AD117)-'STORAGE TOT'!U12 -> 9691419.1 | AB21: =('FT GAS'!AE39*'FT GAS'!AE117)-'STORAGE TOT'!V12 -> 7975429.9 | AC21: =('FT GAS'!AF39*'FT GAS'!AF117)-'STORAGE TOT'!W12 -> 6723496.2 | AD21: =('FT GAS'!AG7*'FT GAS'!AG117) -> 4346237.4 | AE21: =('FT GAS'!AH7*'FT GAS'!AH117) -> 2587544.9 | AF21: =('FT GAS'!AI7*'FT GAS'!AI117) -> 2040161.2 | AG21: =SUM(U21:AF21) -> 56988035 | AJ21: Total Commodity Costs of Sales | AK21: =('FT GAS'!AO7*'FT GAS'!AO117) -> 2089724.4 | AL21: =('FT GAS'!AP7*'FT GAS'!AP117) -> 2164146.9 | AM21: =('FT GAS'!AQ7*'FT GAS'!AQ117) -> 2373046 | AN21: =('FT GAS'!AR7*'FT GAS'!AR117) -> 4091191.7 | AO21: =('FT GAS'!AS39*'FT GAS'!AS117)-'STORAGE TOT'!AE12 -> 6502484.3 | AP21: =('FT GAS'!AT39*'FT GAS'!AT117)-'STORAGE TOT'!AF12 -> 9689645.3 | AQ21: =('FT GAS'!AU39*'FT GAS'!AU117)-'STORAGE TOT'!AG12 -> 10754460 | AR21: =('FT GAS'!AV39*'FT GAS'!AV117)-'STORAGE TOT'!AH12 -> 8756084.7 | AS21: =('FT GAS'!AW39*'FT GAS'!AW117)-'STORAGE TOT'!AI12 -> 7389876.7 | AT21: =('FT GAS'!AX7*'FT GAS'!AX117) -> 4707741.6 | AU21: =('FT GAS'!AY7*'FT GAS'!AY117) -> 3002505 | AV21: =('FT GAS'!AZ7*'FT GAS'!AZ117) -> 2355366.6 | AW21: =SUM(AK21:AV21) -> 63876274
C22: Total Demand Costs | D22: =+DEMAND!B107 -> 1691092.2 | E22: =+DEMAND!C107 -> 1681164.2 | F22: =+DEMAND!D107 -> 1686606.5 | G22: =+DEMAND!E107 -> 1837705.2 | H22: =+DEMAND!F107 -> 1801014.8 | I22: =+DEMAND!G107 -> 1820496.4 | J22: =+DEMAND!H107 -> 1816123.6 | K22: =+DEMAND!I107 -> 1801543.7 | ... O22: =+DEMAND!M107 -> 1617542.4 | P22: =SUM(D22:O22) -> 20815215 | Q22: =P22-P71 -> 19037018 | T22: Total Demand Costs | U22: =+DEMAND!T107 -> 1665344.9 | V22: =+DEMAND!U107 -> 1665344.9 | W22: =+DEMAND!V107 -> 1665344.9 | X22: =+DEMAND!W107 -> 1803738.3 | Y22: =+DEMAND!X107 -> 1851353.4 | Z22: =+DEMAND!Y107 -> 1851353.4 | AA22: =+DEMAND!Z107 -> 1851353.4 | AB22: =+DEMAND!AA107 -> 1851353.4 | ... AF22: =+DEMAND!AE107 -> 1665344.9 | AG22: =SUM(U22:AF22) -> 21052574 | AJ22: Total Demand Costs | AK22: =+DEMAND!AL107 -> 1665344.9 | AL22: =+DEMAND!AM107 -> 1665344.9 | AM22: =+DEMAND!AN107 -> 1665344.9 | AN22: =+DEMAND!AO107 -> 1803738.3 | AO22: =+DEMAND!AP107 -> 1851353.4 | AP22: =+DEMAND!AQ107 -> 1851353.4 | AQ22: =+DEMAND!AR107 -> 1851353.4 | AR22: =+DEMAND!AS107 -> 1851353.4 | ... AV22: =+DEMAND!AW107 -> 1665344.9 | AW22: =SUM(AK22:AV22) -> 21052574
C23: Total Projected Costs (Storage injections not expensed) - Cash Reqs | D23: =SUM(D20,D22) -> 6497160.4 | E23: =SUM(E20,E22) -> 6076708.9 | F23: =SUM(F20,F22) -> 5537386.1 | G23: =SUM(G20,G22) -> 6792850.6 | H23: =SUM(H20,H22) -> 7279995.6 | I23: =SUM(I20,I22) -> 7730478.5 | J23: =SUM(J20,J22) -> 7197250.1 | K23: =SUM(K20,K22) -> 6350212.4 | ... O23: =SUM(O20,O22) -> 4238321.7 | P23: =SUM(D23:O23) -> 73179106 | T23: Total Projected Costs (Storage injections not expensed) - Cash Reqs | U23: =SUM(U20,U22) -> 4799334.7 | V23: =SUM(V20,V22) -> 5208064.9 | W23: =SUM(W20,W22) -> 5002262.2 | X23: =SUM(X20,X22) -> 6282855.5 | Y23: =SUM(Y20,Y22) -> 7511521.8 | Z23: =SUM(Z20,Z22) -> 7588371.5 | AA23: =SUM(AA20,AA22) -> 8154694.7 | AB23: =SUM(AB20,AB22) -> 7060305.9 | ... AF23: =SUM(AF20,AF22) -> 5475470.3 | AG23: =SUM(U23:AF23) -> 78013128 | AJ23: Total Projected Costs (Storage injections not expensed) - Cash Reqs | AK23: =SUM(AK20,AK22) -> 5523342.8 | AL23: =SUM(AL20,AL22) -> 5709092.4 | AM23: =SUM(AM20,AM22) -> 5400976.7 | AN23: =SUM(AN20,AN22) -> 6884679 | AO23: =SUM(AO20,AO22) -> 8353837.7 | AP23: =SUM(AP20,AP22) -> 8425446.8 | AQ23: =SUM(AQ20,AQ22) -> 9027550.5 | AR23: =SUM(AR20,AR22) -> 7685344.9 | ... AV23: =SUM(AV20,AV22) -> 6019650.1 | AW23: =SUM(AK23:AV23) -> 85650589
C24: Total Actual Costs (Storage injections not expensed) - Cash Reqs | D24: 6142694.1 | E24: 6007953.2 | F24: 5406680.1 | G24: 6049140.6 | H24: 6876970.9 | I24: 6344228.8 | J24: 6523322.7 | K24: 5986010.1 | L24: 4723897.4 | M24: 3955772.1 | N24: 3914646.1 | O24: 4103375.6 | P24: =SUM(D24:O24) -> 66034692 | T24: Total Actual Costs (Storage injections not expensed) - Cash Reqs | AJ24: Total Actual Costs (Storage injections not expensed) - Cash Reqs
C25: Total Cost of Sales | D25: 3660619.3 | E25: 3945444 | F25: 3893381 | G25: 5476652.3 | H25: 6914378.6 | I25: 9479859 | J25: 11001418 | K25: 9110738.8 | L25: 5915500.2 | M25: 4319663.1 | N25: 2845431 | O25: 2891006.3 | P25: =SUM(D25:O25) -> 69454091 | Q25: =Q21-P25 -> 0 | T25: Total Cost of Sales | U25: =SUM(U21:U22) -> 3346579.5 | V25: =SUM(V21:V22) -> 3541986.7 | W25: =SUM(W21:W22) -> 3784777.5 | X25: =SUM(X21:X22) -> 5406395.3 | Y25: =SUM(Y21:Y22) -> 7511521.8 | Z25: =SUM(Z21:Z22) -> 10534965 | AA25: =SUM(AA21:AA22) -> 11542772 | AB25: =SUM(AB21:AB22) -> 9826783.2 | ... AF25: =SUM(AF21:AF22) -> 3705506.1 | AG25: =SUM(U25:AF25) -> 78040610 | AJ25: Total Cost of Sales | AK25: =SUM(AK21:AK22) -> 3755069.3 | AL25: =SUM(AL21:AL22) -> 3829491.8 | AM25: =SUM(AM21:AM22) -> 4038390.9 | AN25: =SUM(AN21:AN22) -> 5894930 | AO25: =SUM(AO21:AO22) -> 8353837.7 | AP25: =SUM(AP21:AP22) -> 11540999 | AQ25: =SUM(AQ21:AQ22) -> 12605814 | AR25: =SUM(AR21:AR22) -> 10607438 | ... AV25: =SUM(AV21:AV22) -> 4020711.5 | AW25: =SUM(AK25:AV25) -> 84928848
C26: Monthly Cost of Sales Budgeted | P26: =SUM(D26:O26) -> 0 | AG26: =SUM(U26:AF26) -> 0
C27: Cumulative Total Cost of Sales | D27: =D25 -> 3660619.3 | E27: =D27+E25 -> 7606063.4 | F27: =E27+F25 -> 11499444 | G27: =F27+G25 -> 16976097 | H27: =G27+H25 -> 23890475 | I27: =H27+I25 -> 33370334 | J27: =I27+J25 -> 44371752 | K27: =J27+K25 -> 53482491 | L27: =K27+L25 -> 59397991 | ... O27: =N27+O25 -> 69454091 | T27: Cumulative Total Cost of Sales | U27: =U25 -> 3346579.5 | V27: =U27+V25 -> 6888566.3 | W27: =V27+W25 -> 10673344 | X27: =W27+X25 -> 16079739 | Y27: =X27+Y25 -> 23591261 | Z27: =Y27+Z25 -> 34126226 | AA27: =Z27+AA25 -> 45668998 | AB27: =AA27+AB25 -> 55495782 | AC27: =AB27+AC25 -> 64070631 | ... AF27: =AE27+AF25 -> 78040610 | AJ27: Cumulative Total Cost of Sales | AK27: =AK25 -> 3755069.3 | AL27: =AK27+AL25 -> 7584561.1 | AM27: =AL27+AM25 -> 11622952 | AN27: =AM27+AN25 -> 17517882 | AO27: =AN27+AO25 -> 25871720 | AP27: =AO27+AP25 -> 37412718 | AQ27: =AP27+AQ25 -> 50018532 | AR27: =AQ27+AR25 -> 60625970 | AS27: =AR27+AS25 -> 69867200 | ... AV27: =AU27+AV25 -> 84928848
C28: Average Cost of Sales ($/Mcf) | D28: =D25/D14 -> 8.0593565 | E28: =E25/E14 -> 7.6361507 | F28: =F25/F14 -> 6.8719623 | G28: =G25/G14 -> 6.5919083 | H28: =H25/H14 -> 5.0381088 | I28: =I25/I14 -> 4.9990329 | J28: =J25/J14 -> 5.1629731 | K28: =K25/K14 -> 4.7509776 | ... P28: =P25/P14 -> 5.4441157 | T28: Average Cost of Sales ($/Mcf) | U28: =U25/U14 -> 6.7767297 | V28: =V25/V14 -> 6.9705762 | W28: =W25/W14 -> 6.6812907 | X28: =X25/X14 -> 5.6695176 | Y28: =Y25/Y14 -> 5.0898035 | Z28: =Z25/Z14 -> 4.8366818 | AA28: =AA25/AA14 -> 4.8475865 | AB28: =AB25/AB14 -> 5.0319262 | ... AG28: =AG25/AG14 -> 5.4340879 | AJ28: Average Cost of Sales ($/Mcf) | AK28: =AK25/AK14 -> 7.3738985 | AL28: =AL25/AL14 -> 7.3048726 | AM28: =AM25/AM14 -> 7.0406355 | AN28: =AN25/AN14 -> 6.0404059 | AO28: =AO25/AO14 -> 5.563009 | AP28: =AP25/AP14 -> 5.1971492 | AQ28: =AQ25/AQ14 -> 5.1978626 | AR28: =AR25/AR14 -> 5.354445 | ... AW28: =AW25/AW14 -> 5.8009875
C30: Total Revenue | D30: =SUM(D79,D84,D60,D72) -> 2844064.2 | E30: =SUM(E79,E84,E60,E72) -> 3214262.3 | F30: =SUM(F79,F84,F60,F72) -> 3407988.3 | G30: =SUM(G79,G84,G60,G72) -> 5028834 | H30: =SUM(H79,H84,H60,H72) -> 8305682.6 | I30: =SUM(I79,I84,I60,I72) -> 10782785 | J30: =SUM(J79,J84,J60,J72) -> 12031325 | K30: =SUM(K79,K84,K60,K72) -> 10669146 | ... O30: =SUM(O79,O84,O60,O72) -> 2267762.2 | P30: =SUM(D30:O30) -> 69937455 | Q30: =P30/P14 -> 5.4820038 | T30: Total Revenue | U30: =SUM(U79,U84,U60,U72) -> 2285715.2 | V30: =SUM(V79,V84,V60,V72) -> 2412819.1 | W30: =SUM(W79,W84,W60,W72) -> 2676759 | X30: =SUM(X79,X84,X60,X72) -> 4537884.9 | Y30: =SUM(Y79,Y84,Y60,Y72) -> 7065530.7 | Z30: =SUM(Z79,Z84,Z60,Z72) -> 10498872 | AA30: =SUM(AA79,AA84,AA60,AA72) -> 11535885 | AB30: =SUM(AB79,AB84,AB60,AB72) -> 9515286.8 | ... AF30: =SUM(AF79,AF84,AF60,AF72) -> 2589399.6 | AG30: =SUM(U30:AF30) -> 69408654 | AJ30: Total Revenue | AK30: =SUM(AK79,AK84,AK60,AK72) -> 2560616.3 | AL30: =SUM(AL79,AL84,AL60,AL72) -> 2628258.3 | AM30: =SUM(AM79,AM84,AM60,AM72) -> 2868010.5 | AN30: =SUM(AN79,AN84,AN60,AN72) -> 4820281.4 | AO30: =SUM(AO79,AO84,AO60,AO72) -> 7398660.6 | AP30: =SUM(AP79,AP84,AP60,AP72) -> 10958014 | AQ30: =SUM(AQ79,AQ84,AQ60,AQ72) -> 12009491 | AR30: =SUM(AR79,AR84,AR60,AR72) -> 9854950.3 | ... AV30: =SUM(AV79,AV84,AV60,AV72) -> 2736494.6 | AW30: =SUM(AK30:AV30) -> 72821240
C31: YTD Revenue | D31: =D30 -> 2844064.2 | E31: =D31+E30 -> 6058326.5 | F31: =E31+F30 -> 9466314.8 | G31: =F31+G30 -> 14495149 | H31: =G31+H30 -> 22800831 | I31: =H31+I30 -> 33583616 | J31: =I31+J30 -> 45614941 | K31: =J31+K30 -> 56284086 | L31: =K31+L30 -> 61421226 | ... O31: =N31+O30 -> 69937455 | T31: Cumulative Revenue | U31: =U30 -> 2285715.2 | V31: =U31+V30 -> 4698534.4 | W31: =V31+W30 -> 7375293.3 | X31: =W31+X30 -> 11913178 | Y31: =X31+Y30 -> 18978709 | Z31: =Y31+Z30 -> 29477581 | AA31: =Z31+AA30 -> 41013466 | AB31: =AA31+AB30 -> 50528753 | AC31: =AB31+AC30 -> 58440456 | ... AF31: =AE31+AF30 -> 69408654 | AJ31: Cumulative Revenue | AK31: =AK30 -> 2560616.3 | AL31: =AK31+AL30 -> 5188874.6 | AM31: =AL31+AM30 -> 8056885.1 | AN31: =AM31+AN30 -> 12877167 | AO31: =AN31+AO30 -> 20275827 | AP31: =AO31+AP30 -> 31233841 | AQ31: =AP31+AQ30 -> 43243332 | AR31: =AQ31+AR30 -> 53098283 | AS31: =AR31+AS30 -> 61310727 | ... AV31: =AU31+AV30 -> 72821240
C32: Total Revenue vs Total Costs | D32: =D30-D25 -> -816555.18 | E32: =E30-E25 -> -731181.71 | F32: =F30-F25 -> -485392.68 | G32: =G30-G25 -> -447818.32 | H32: =H30-H25 -> 1391304 | I32: =I30-I25 -> 1302925.6 | J32: =J30-J25 -> 1029907.1 | K32: =K30-K25 -> 1558406.8 | ... O32: =O30-O25 -> -623244.07 | P32: =SUM(D32:O32) -> 483363.86 | T32: Total Revenue vs Total Costs | U32: =U30-U25 -> -1060864.3 | V32: =V30-V25 -> -1129167.6 | W32: =W30-W25 -> -1108018.5 | X32: =X30-X25 -> -868510.42 | Y32: =Y30-Y25 -> -445991.08 | Z32: =Z30-Z25 -> -36093.234 | AA32: =AA30-AA25 -> -6887.3668 | AB32: =AB30-AB25 -> -311496.4 | ... AF32: =AF30-AF25 -> -1116106.5 | AG32: =SUM(U32:AF32) -> -8631955.6 | AJ32: Total Revenue vs Total Costs | AK32: =AK30-AK25 -> -1194453 | AL32: =AL30-AL25 -> -1201233.5 | AM32: =AM30-AM25 -> -1170380.4 | AN32: =AN30-AN25 -> -1074648.6 | AO32: =AO30-AO25 -> -955177.1 | AP32: =AP30-AP25 -> -582984.71 | AQ32: =AQ30-AQ25 -> -596322.3 | AR32: =AR30-AR25 -> -752487.8 | ... AV32: =AV30-AV25 -> -1284216.9
C33: YTD Revenue vs YTD Costs | D33: =D31-D27 -> -816555.18 | E33: =E31-E27 -> -1547736.9 | F33: =F31-F27 -> -2033129.6 | G33: =G31-G27 -> -2480947.9 | H33: =H31-H27 -> -1089643.9 | I33: =I31-I27 -> 213281.66 | J33: =J31-J27 -> 1243188.8 | K33: =K31-K27 -> 2801595.6 | ... O33: =O31-O27 -> 483363.86 | T33: Cumulative Revenue vs Cumulative Costs | U33: =U31-U27 -> -1060864.3 | V33: =V31-V27 -> -2190031.9 | W33: =W31-W27 -> -3298050.5 | X33: =X31-X27 -> -4166560.9 | Y33: =Y31-Y27 -> -4612552 | Z33: =Z31-Z27 -> -4648645.2 | AA33: =AA31-AA27 -> -4655532.6 | AB33: =AB31-AB27 -> -4967029 | ... AF33: =AF31-AF27 -> -8631955.6 | AJ33: Cumulative Revenue vs Cumulative Costs | AK33: =AK31-AK27 -> -1194453 | AL33: =AL31-AL27 -> -2395686.6 | AM33: =AM31-AM27 -> -3566067 | AN33: =AN31-AN27 -> -4640715.5 | AO33: =AO31-AO27 -> -5595892.6 | AP33: =AP31-AP27 -> -6178877.3 | AQ33: =AQ31-AQ27 -> -6775199.6 | AR33: =AR31-AR27 -> -7527687.4 | ... AV33: =AV31-AV27 -> -12107608
C35: PGC Commodity Costs (RS,GS,MS,CIS) | D35: =D21-D70 -> 911919.02 | E35: =E21-E70 -> 1100600.2 | F35: =F21-F70 -> 1076730.7 | G35: =G21-G70 -> 2443663.3 | H35: =H21-H70 -> 3734598.5 | I35: =I21-I70 -> 6206899.8 | J35: =J21-J70 -> 7764596.5 | K35: =K21-K70 -> 6083521.4 | ... O35: =O21-O70 -> 638778.24 | P35: =SUM(D35:O35) -> 35730845 | Q35: =P37+P60 -> 19037018 | T35: PGC Commodity Costs (RS,GS,MS,CIS) | U35: =U21-U70 -> 972292.84 | V35: =V21-V70 -> 1040596.2 | W35: =W21-W70 -> 1231341.2 | X35: =X21-X70 -> 2627253 | Y35: =Y21-Y70 -> 4432591 | Z35: =Z21-Z70 -> 7013239 | AA35: =AA21-AA70 -> 7869814.4 | AB35: =AB21-AB70 -> 6483713.3 | ... AF35: =AF21-AF70 -> 1035018.1 | AG35: =SUM(U35:AF35) -> 42831140 | AJ35: PGC Commodity Costs (RS,GS,MS,CIS) | AK35: =AK21-AK70 -> 1125101.6 | AL35: =AL21-AL70 -> 1131882.1 | AM35: =AM21-AM70 -> 1315949.6 | AN35: =AN21-AN70 -> 2881222.2 | AO35: =AO21-AO70 -> 5022367.6 | AP35: =AP21-AP70 -> 7683836.8 | AQ35: =AQ21-AQ70 -> 8595718.3 | AR35: =AR21-AR70 -> 7036733.4 | ... AV35: =AV21-AV70 -> 1222429.8 | AW35: =SUM(AK35:AV35) -> 47060713
C36: PGC Unit Commodity Costs $/Mcf | D36: =D35/D12 -> 3.8413363 | E36: =E35/E12 -> 3.9827278 | F36: =F35/F12 -> 3.464602 | G36: =G35/G12 -> 4.4000272 | H36: =H35/H12 -> 3.5853008 | I36: =I35/I12 -> 4.0344247 | J36: =J35/J12 -> 4.4147304 | K36: =K35/K12 -> 3.8863901 | ... P36: =P35/P12 -> 3.8382406 | T36: PGC Unit Commodity Costs $/Mcf | U36: =U35/U12 -> 3.6158964 | V36: =V35/V12 -> 3.8699122 | W36: =W35/W12 -> 3.9474414 | X36: =X35/X12 -> 3.894246 | Y36: =Y35/Y12 -> 3.8904287 | Z36: =Z35/Z12 -> 4.0059651 | AA36: =AA35/AA12 -> 4.0740397 | AB36: =AB35/AB12 -> 4.0895175 | ... AG36: =AG35/AG12 -> 4.0222215 | AJ36: PGC Unit Commodity Costs $/Mcf | AK36: =AK35/AK12 -> 4.1252102 | AL36: =AL35/AL12 -> 4.150071 | AM36: =AM35/AM12 -> 4.1593521 | AN36: =AN35/AN12 -> 4.2109821 | AO36: =AO35/AO12 -> 4.3465785 | AP36: =AP35/AP12 -> 4.3278487 | AQ36: =AQ35/AQ12 -> 4.3878276 | AR36: =AR35/AR12 -> 4.3764788 | ... AW36: =AW35/AW12 -> 4.3577106
C37: RS,GS,MS Demand Costs | D37: =D22-D71-D60 -> 1387713.9 | E37: =E22-E71-E60 -> 1357281.1 | F37: =F22-F71-F60 -> 1349070.4 | G37: =G22-G71-G60 -> 1500614.5 | H37: =H22-H71-H60 -> 1479679.6 | I37: =I22-I71-I60 -> 1496959.9 | J37: =J22-J71-J60 -> 1514008.1 | K37: =K22-K71-K60 -> 1534312.9 | ... O37: =O22-O71-O60 -> 1317542.4 | P37: =SUM(D37:O37) -> 17206553 | Q37: =P37/P54 -> 0.32503587 | T37: RS,GS,MS Demand Costs | U37: =U22-U71-U60 -> 1365344.9 | V37: =V22-V71-V60 -> 1365344.9 | W37: =W22-W71-W60 -> 1365344.9 | X37: =X22-X71-X60 -> 1503738.3 | Y37: =Y22-Y71-Y60 -> 1551353.4 | Z37: =Z22-Z71-Z60 -> 1551353.4 | AA37: =AA22-AA71-AA60 -> 1551353.4 | AB37: =AB22-AB71-AB60 -> 1551353.4 | ... AF37: =AF22-AF71-AF60 -> 1365344.9 | AG37: =SUM(U37:AF37) -> 17452574 | AJ37: RS,GS,MS Demand Costs | AK37: =AK22-AK71-AK60 -> 1365344.9 | AL37: =AL22-AL71-AL60 -> 1365344.9 | AM37: =AM22-AM71-AM60 -> 1365344.9 | AN37: =AN22-AN71-AN60 -> 1503738.3 | AO37: =AO22-AO71-AO60 -> 1551353.4 | AP37: =AP22-AP71-AP60 -> 1551353.4 | AQ37: =AQ22-AQ71-AQ60 -> 1551353.4 | AR37: =AR22-AR71-AR60 -> 1551353.4 | ... AV37: =AV22-AV71-AV60 -> 1365344.9 | AW37: =SUM(AK37:AV37) -> 17452574
C38: RS,GS,MS Unit Demand Costs $/Mcf | D38: =D37/D10 -> 7.6314099 | E38: =E37/E10 -> 6.4034201 | F38: =F37/F10 -> 5.6918767 | G38: =G37/G10 -> 3.3324417 | H38: =H37/H10 -> 1.6648397 | I38: =I37/I10 -> 1.1247182 | J38: =J37/J10 -> 0.98784359 | K38: =K37/K10 -> 1.1236052 | ... P38: =P37/P10 -> 2.2033834 | T38: RS,GS,MS Unit Demand Costs $/Mcf | U38: =U37/U10 -> 6.6210739 | V38: =V37/V10 -> 6.6210739 | W38: =W37/W10 -> 5.5458766 | X38: =X37/X10 -> 2.6285178 | Y38: =Y37/Y10 -> 1.5634119 | Z38: =Z37/Z10 -> 1.0058247 | AA38: =AA37/AA10 -> 0.90957631 | AB38: =AB37/AB10 -> 1.1105937 | ... AG38: =AG37/AG10 -> 1.9021616 | AJ38: RS,GS,MS Unit Demand Costs $/Mcf | AK38: =AK37/AK10 -> 6.4999091 | AL38: =AL37/AL10 -> 6.4999091 | AM38: =AM37/AM10 -> 5.4474277 | AN38: =AN37/AN10 -> 2.5852877 | AO38: =AO37/AO10 -> 1.5384228 | AP38: =AP37/AP10 -> 0.98994494 | AQ38: =AQ37/AQ10 -> 0.89524993 | AR38: =AR37/AR10 -> 1.093061 | ... AW38: =AW37/AW10 -> 1.8714069
C39: RS,GS,MS Unit PGC$/Mcf | D39: =D36+D38 -> 11.472746 | E39: =E36+E38 -> 10.386148 | F39: =F36+F38 -> 9.1564787 | G39: =G36+G38 -> 7.7324689 | H39: =H36+H38 -> 5.2501405 | I39: =I36+I38 -> 5.1591429 | J39: =J36+J38 -> 5.402574 | K39: =K36+K38 -> 5.0099953 | ... P39: =P36+P38 -> 6.041624 | T39: RS,GS,MS Unit PGC$/Mcf | U39: =U36+U38 -> 10.23697 | V39: =V36+V38 -> 10.490986 | W39: =W36+W38 -> 9.493318 | X39: =X36+X38 -> 6.5227638 | Y39: =Y36+Y38 -> 5.4538406 | Z39: =Z36+Z38 -> 5.0117898 | AA39: =AA36+AA38 -> 4.9836161 | AB39: =AB36+AB38 -> 5.2001112 | ... AG39: =AG36+AG38 -> 5.9243831 | AJ39: RS,GS,MS Unit PGC$/Mcf | AK39: =AK36+AK38 -> 10.625119 | AL39: =AL36+AL38 -> 10.64998 | AM39: =AM36+AM38 -> 9.6067798 | AN39: =AN36+AN38 -> 6.7962698 | AO39: =AO36+AO38 -> 5.8850013 | AP39: =AP36+AP38 -> 5.3177936 | AQ39: =AQ36+AQ38 -> 5.2830776 | AR39: =AR36+AR38 -> 5.4695398 | ... AW39: =AW36+AW38 -> 6.2291175
C40: RS,GS,MS Mcfs - Projected | D40: =MCFS!D52-MCFS!D46 -> 202957 | E40: =MCFS!E52-MCFS!E46 -> 202957 | F40: =MCFS!F52-MCFS!F46 -> 242444.3 | G40: =MCFS!G52-MCFS!G46 -> 564149.2 | H40: =MCFS!H52-MCFS!H46 -> 978993.1 | I40: =MCFS!I52-MCFS!I46 -> 1522016.8 | J40: =MCFS!J52-MCFS!J46 -> 1683136.8 | K40: =MCFS!K52-MCFS!K46 -> 1415618.8 | ... O40: =MCFS!O52-MCFS!O46 -> 205262.75 | P40: =SUM(D40:O40) -> 9087645.6 | T40: RS,GS,MS Mcfs - Projected | AJ40: RS,GS,MS Mcfs - Projected
C41: RS,GS,MS Average Unit Demand Cost - Projected | D41: =$P$37/$P$40 -> 1.8934005 | E41: =$P$37/$P$40 -> 1.8934005 | F41: =$P$37/$P$40 -> 1.8934005 | G41: =$P$37/$P$40 -> 1.8934005 | H41: =$P$37/$P$40 -> 1.8934005 | I41: =$P$37/$P$40 -> 1.8934005 | J41: =$P$37/$P$40 -> 1.8934005 | K41: =$P$37/$P$40 -> 1.8934005 | ... P41: =$P$37/$P$40 -> 1.8934005 | Q41: RS & GS COUNT | T41: RS,GS,MS Average Unit Demand Cost | U41: =$AG$37/$AG$10 -> 1.9021616 | V41: =$AG$37/$AG$10 -> 1.9021616 | W41: =$AG$37/$AG$10 -> 1.9021616 | X41: =$AG$37/$AG$10 -> 1.9021616 | Y41: =$AG$37/$AG$10 -> 1.9021616 | Z41: =$AG$37/$AG$10 -> 1.9021616 | AA41: =$AG$37/$AG$10 -> 1.9021616 | AB41: =$AG$37/$AG$10 -> 1.9021616 | ... AG41: =$AG$37/$AG$10 -> 1.9021616 | AJ41: RS,GS,MS Average Unit Demand Cost - Projected | AK41: =$AW$37/$AW$10 -> 1.8714069 | AL41: =$AW$37/$AW$10 -> 1.8714069 | AM41: =$AW$37/$AW$10 -> 1.8714069 | AN41: =$AW$37/$AW$10 -> 1.8714069 | AO41: =$AW$37/$AW$10 -> 1.8714069 | AP41: =$AW$37/$AW$10 -> 1.8714069 | AQ41: =$AW$37/$AW$10 -> 1.8714069 | AR41: =$AW$37/$AW$10 -> 1.8714069 | ... AW41: =$AW$37/$AW$10 -> 1.8714069
C42: RS,GS,MS Demand Revenue ($1.50/Mcf) - Projected | D42: =D40*D41 -> 384278.89 | E42: =E40*E41 -> 384278.89 | F42: =F40*F41 -> 459044.16 | G42: =G40*G41 -> 1068160.4 | H42: =H40*H41 -> 1853626 | I42: =I40*I41 -> 2881787.3 | J42: =J40*J41 -> 3186852.1 | K42: =K40*K41 -> 2680333.4 | ... O42: =O40*O41 -> 388644.6 | P42: =SUM(D42:O42) -> 17206553 | Q42: 109000 | T42: RS,GS,MS Demand Revenue ($1.48/Mcf) | U42: =1.48*U10 -> 305193.76 | V42: =1.48*V10 -> 305193.76 | W42: =1.48*W10 -> 364362.68 | X42: =1.48*X10 -> 846687.28 | Y42: =1.48*Y10 -> 1468584.8 | Z42: =1.48*Z10 -> 2282706.9 | AA42: =1.48*AA10 -> 2524255.4 | AB42: =1.48*AB10 -> 2067365.4 | ... AF42: =1.48*AF10 -> 308620.7 | AG42: =SUM(U42:AF42) -> 13579188 | AJ42: RS,GS,MS Demand Revenue ($1.44/Mcf) - Projected | AK42: =AK41*AK10 -> 393100.25 | AL42: =AL41*AL10 -> 393100.25 | AM42: =AM41*AM10 -> 469049.99 | AN42: =AN41*AN10 -> 1088507.9 | AO42: =AO41*AO10 -> 1887136.3 | AP42: =AP41*AP10 -> 2932701.9 | AQ42: =AQ41*AQ10 -> 3242908.2 | AR42: =AR41*AR10 -> 2656039.6 | ... AV42: =AV41*AV10 -> 397463.9 | AW42: =SUM(AK42:AV42) -> 17452574
C43: RS,GS,MS Mcfs - Actual | D43: =+MCFS!D89-MCFS!D81 -> 181842.4 | E43: =+MCFS!E89-MCFS!E81 -> 211961.9 | F43: =+MCFS!F89-MCFS!F81 -> 237016.8 | G43: =+MCFS!G89-MCFS!G81 -> 450304.8 | H43: =+MCFS!H89-MCFS!H81 -> 888782 | I43: =+MCFS!I89-MCFS!I81 -> 1330964.4 | J43: =+MCFS!J89-MCFS!J81 -> 1532639.5 | K43: =+MCFS!K89-MCFS!K81 -> 1365526.7 | ... N43: =+MCFS!N89-MCFS!N81 -> 282740.9 | T43: RS,GS,MS Mcfs - Actual | AJ43: RS,GS,MS Mcfs - Actual
...

Sheet FIN OPS REV VOL VS YR REPORTS
B1: 40725 | C1: 40756 | D1: 40787 | E1: 40817 | F1: 40848 | G1: 40878 | H1: 40909 | I1: 40940 | J1: 40969 | K1: 41000 | L1: 41030 | M1: 41061 | N1: FY YTD
A2: RS,GS,MS PGC Revenue | B2: =+'YR REPORTS'!D79 -> 1181975.6 | C2: =+'YR REPORTS'!E79 -> 1377752.4 | D2: =+'YR REPORTS'!F79 -> 1540609.2 | E2: =+'YR REPORTS'!G79 -> 2926981.2 | F2: =+'YR REPORTS'!H79 -> 5777083 | G2: =+'YR REPORTS'!I79 -> 7985786.4 | H2: =+'YR REPORTS'!J79 -> 9195837 | I2: =+'YR REPORTS'!K79 -> 8193160.2 | ... M2: =+'YR REPORTS'!O79 -> 1058880 | N2: =SUM(B2:M2) -> 46229746
A3: Residental PGA - Fin Ops | B3: 660845.77 | C3: 811553.36 | D3: 894294.67 | E3: 1982062 | F3: 4002972 | G3: 5736378 | H3: 6378855.4 | I3: 5675408.4 | J3: 2233348.2 | K3: 1478830.1 | L3: 832213.23 | M3: 631064.2 | N3: =SUM(B3:M3) -> 31317825
A4: Commercial PGA - Fin Ops | B4: 494097.27 | C4: 537520.88 | D4: 609496.7 | E4: 880400.97 | F4: 1613111.9 | G4: 2115364.5 | H4: 2521478.3 | I4: 2275661.1 | J4: 1127282.6 | K4: 750789.52 | L4: 543585.67 | M4: 402844.73 | N4: =SUM(B4:M4) -> 13871634
A5: Municipal PGA - Fin Ops | B5: 21644.35 | C5: 22429.55 | D5: 32082.7 | E5: 64212.2 | F5: 162559.8 | G5: 220215.2 | H5: 293990.4 | I5: 241167 | J5: 107441.1 | K5: 46462 | L5: 32881 | M5: 23883 | N5: =SUM(B5:M5) -> 1268968.3
A6: RS,GS,MS PGA Revenue Totals | B6: =SUM(B3:B5) -> 1176587.4 | C6: =SUM(C3:C5) -> 1371503.8 | D6: =SUM(D3:D5) -> 1535874.1 | E6: =SUM(E3:E5) -> 2926675.2 | F6: =SUM(F3:F5) -> 5778643.7 | G6: =SUM(G3:G5) -> 8071957.7 | H6: =SUM(H3:H5) -> 9194324.1 | I6: =SUM(I3:I5) -> 8192236.5 | ... M6: =SUM(M3:M5) -> 1057791.9 | N6: =SUM(B6:M6) -> 46458428
A7: Differences | B7: =B6-B2 -> -5388.21 | C7: =C6-C2 -> -6248.56 | D7: =D6-D2 -> -4735.13 | E7: =E6-E2 -> -306.04 | F7: =F6-F2 -> 1560.71 | G7: =G6-G2 -> 86171.34 | H7: =H6-H2 -> -1512.88 | I7: =I6-I2 -> -923.75 | ... M7: =M6-M2 -> -1088.07 | N7: =SUM(B7:M7) -> 228681.87
A9: CIS PGC Revenue | B9: =+'YR REPORTS'!D84 -> 301102.14 | C9: =+'YR REPORTS'!E84 -> 348947.19 | D9: =+'YR REPORTS'!F84 -> 399799.25 | E9: =+'YR REPORTS'!G84 -> 569478.32 | F9: =+'YR REPORTS'!H84 -> 828499.03 | G9: =+'YR REPORTS'!I84 -> 1020998.9 | H9: =+'YR REPORTS'!J84 -> 1112674.7 | I9: =+'YR REPORTS'!K84 -> 983080.94 | ... M9: =+'YR REPORTS'!O84 -> 274196.55 | N9: =SUM(B9:M9) -> 7191015.5
A10: CIS PGC Revenue - Fin Ops | B10: 301102.05 | C10: 349791.66 | D10: 399342.43 | E10: 569478.22 | F10: 828498.96 | G10: 1040184.3 | H10: 1112072.4 | I10: 983080.92 | J10: 623831.61 | K10: 431405.09 | L10: 350499.06 | M10: 274196.54 | N10: =SUM(B10:M10) -> 7263483.3
