Workbook
Name COMMODITY: #REF!
Name DEGREE_DAYS: #REF!
Name FIRM_REQS: #REF!
Name INTERRUP_REQ: #REF!
Name JUL_ACT_DEMAND: #REF!
Name LNG_WACOG: #REF!
Name PrintArea: #REF!
Name STOR_WACOG: #REF!
Name STORAGE: #REF!
Name STORAGE_DATA: #REF!
Name SUMMARY: #REF!
Name YR_REPORT0203: 'YR REPORTS'!#REF!
Name YR_REPORT0304: 'YR REPORTS'!#REF!
Name YR_REPORT0405: 'YR REPORTS'!#REF!
Name Yr_Summaries: 'YR SUMMARIES'!$A$3:$I$25

Sheet WORKBOOK NOTES
A1: Year Report
A2: RS,GS,MS Mcfs | B2: Actual Mcfs and Projected PGC - CIS
A3: CIS Mcfs | B3: Actual Mcfs and Projected Mcfs
A4: PGC Mcfs | B4: Actual sum and Projected Mcfs
A5: Non-PGC Mcfs | B5: Actual Mcfs and Projected Mcfs
A6: Total Mcfs | B6: Sum
A8: Total Commodity Costs of Sales | B8: Actual FSA Total - Demand, Proj Rec Total Dths*FT Wacog (NYMEX & hedge) and STOW Nov-Mar - COR fuel is weighted average of PGC and non-PGC
A9: Total Demand Costs
A10: Total Cost of Sales | B10: Actual from Energy Services FSA, Planned Comd + Demand
A11: Cumulative Cost of Sales
A13: PGC Commodity Costs (RS,GS,MS,CIS) | B13: Total Commodity - Non-PGC Commodity
A14: PGC Unit Commodity Costs
A15: RS,GS,MS Demand Costs | B15: Total Demand - LVS Demand - CIS Demand
A16: RS,GS,MS Unit Demand Costs
A17: RS,GS,MS Unit PGC | B17: PGC Unit Commodity + RS,GS,MS Unit Demand
A18: RS,GS,MS PGC Costs | B18: (PGC Commodity - CIS Commodity) + RS,GS,MS Demand
A19: RS,GS,MS PGC Cumulative Costs
A20: CIS Unit PGC (w/o Demand) | B20: same as PGC Unit Commodity
A21: CIS PGC Costs (w/o Demand) | B21: CIS Unit PGC * CIS Mcfs
A22: CIS PGC Cumulative Costs (w/o Demand)
A23: Total PGC Costs (w/o CIS Demand) | B23: PGC gas + RS,GS,MS demand
A24: PGC Cumulative Costs (w/o CIS Demand)
A25: CIS Demand Costs | B25: Fin Ops
A26: Total PGC Costs (with CIS Demand) | B26: PGC gas + PGC Demand (incl CIS)
A27: PGC Cumulative Costs (with CIS Demand)
A29: Non-PGC Hedge Mcf | B29: Link to LVS Hedge page
A30: Non-PGC Hedge $/Mcf | B30: Input based on citygate hedge quote
A31: Non-PGC Hedge Costs
A32: Non-PGC WACOG Mcfs | B32: Non-PGC Total Mcfs - Hedged Mcfs
A33: Non-PGC WACOG $/Mcf | B33: Actual COR Wacog, Planned FT Gas INDEX WACOG w non-PGC COR loss
A34: Non-PGC WACOG Costs
A35: Non-PGC Commodity Costs
A36: Non-PGC Demand Costs
A37: Total Non-PGC Costs
A39: RS,GS,MS PGC Rate
A40: RS,GS,MS PGC Revenue
A41: RS,GS,MS PGC Cumulative Revenue
A42: RS,GS,MS Mth Revenue vs Cost
A43: RS,GS,MS Cumulative PGC Recovery
A44: CIS PGC Rate
...

Sheet HEDGE REPORT
A2: Department of Public Utilities
A3: Comparison of Hedge Contracts and Storage vs Market
A8: PGC Hedges | H8: 40764 | I8: Hedge vs
A9: Hedge Dates | B9: Delivery Months | C9: Type | D9: Dth/Day | E9: Total Dths | F9: %PGC Reqs | G9: Hedge $/Dth | H9: NYMEX | I9: NYMEX or Index | J9: Total $
A10: 08/13/09,10/15/10 | B10: Jul10-Mar11 | C10: Fixed Price - Columbia | D10: =+'FT GAS'!S60 -> 1826.6423 | E10: =+'FT GAS'!S59 -> 500500 | F10: =E10/MCFS!$P$13 -> 0.039280835 | G10: =+'FT GAS'!S62 -> 4.4546454 | H10: =('FT GAS'!G59*'FT GAS'!G109+'FT GAS'!H59*'FT GAS'!H109+'FT GAS'!I59*'FT GAS'!I109+'FT GAS'!J59*'FT GAS'!J109+'FT GAS'!K59*'FT GAS'!K109+'FT GAS'!L59*'FT GAS'!L109+'FT GAS'!M59*'FT GAS'!M109+'FT GAS'!N59*'FT GAS'!N109+'FT GAS'!O59*'FT GAS'!O109)/'FT GAS'!S59 -> 4.0421738 | I10: =H10-G10 -> -0.41247153 | J10: =E10*I10 -> -206442 | K10: =+'[1]HEDGE - RESULTS'!$N$472 -> -195488
A11: 4/13/10,6/29/10,7/23/10,11/1/10,2/28/11,3/10/11 | B11: Jul10-Jun11 | C11: Collar - Columbia | D11: =+'FT GAS'!S52 -> 6643.8356 | E11: =+'FT GAS'!S51 -> 2425000 | F11: =E11/MCFS!$P$13 -> 0.19032173 | G11: =+'FT GAS'!S54 -> 4.3751433 | H11: =('FT GAS'!G51*'FT GAS'!G109+'FT GAS'!H51*'FT GAS'!H109+'FT GAS'!I51*'FT GAS'!I109+'FT GAS'!J51*'FT GAS'!J109+'FT GAS'!K51*'FT GAS'!K109+'FT GAS'!L51*'FT GAS'!L109+'FT GAS'!M51*'FT GAS'!M109+'FT GAS'!N51*'FT GAS'!N109+'FT GAS'!O51*'FT GAS'!O109+'FT GAS'!P51*'FT GAS'!P109+'FT GAS'!Q51*'FT GAS'!Q109+'FT GAS'!R51*'FT GAS'!R109)/'FT GAS'!S51 -> 4.1263866 | I11: =H11-G11 -> -0.2487567 | J11: =E11*I11 -> -603235 | K11: =+'[1]HEDGE - RESULTS'!$N$466 -> -419270
A12: PGC FY1011 Hedge Totals | E12: =SUM(E10:E11) -> 2925500 | F12: =SUM(F10:F11) -> 0.22960256 | G12: =(E10*G10+E11*G11)/E12 -> 4.3887447 | H12: =(E10*H10+E11*H11)/E12 -> 4.1119793 | I12: =(E10*I10+E11*I11)/E12 -> -0.27676534 | J12: =SUM(J10:J11) -> -809677
H14: =H8 -> 40764 | I14: Storage vs
E15: Storage Dths | F15: %PGC Reqs | G15: Storage WACOG | H15: NYMEX + BASIS | I15: NYMEX + BASIS | J15: Total $
A16: PGC Storage (75% Planned Use) | E16: =ROUND(-SUM('STORAGE TOT'!H9:K9),-5) -> 3100000 | F16: =E16/MCFS!$P$13 -> 0.24329788 | G16: =+'STORAGE TOT'!F19 -> 4.6787158 | H16: =AVERAGE('FT GAS'!L109:N109)+(0.64*0.16+0.36*0.26) -> 4.4623333 | I16: =H16-G16 -> -0.21638244 | J16: =E16*I16 -> -670785.55
H18: =H8 -> 40764 | I18: Hedge & Storage vs
E19: Hedge & Storage Dths | F19: %PGC Reqs | G19: Hedge & Storage WACOG | H19: NYMEX | I19: NYMEX or Index | J19: Total $
A20: PGC FY1011 Hedge & Storage | E20: =SUM(E12,E16) -> 6025500 | F20: =SUM(F12,F16) -> 0.47290044 | G20: =(E12*G12+E16*G16)/E20 -> 4.537929 | H20: =(E12*H12+E16*H16)/E20 -> 4.2922295 | I20: =H20-G20 -> -0.24569954 | J20: =SUM(J12,J16) -> -1480462.6
A24: NON-PGC Hedges | H24: 40764 | I24: Hedge vs
A25: Hedge Dates | B25: Delivery Months | C25: Type | D25: Dth/Day | E25: Total Dths | F25: %NON-PGC Reqs | G25: Hedge $/Dth | H25: NYMEX | I25: NYMEX or Index | J25: Total $
A26: 9/28/2010,4/26/11 | B26: Nov10-Mar11, May-Jun11 | C26: Fixed Price - Columbia | D26: =+'FT GAS'!S68 -> 4349.0566 | E26: =+'FT GAS'!S67 -> 922000 | F26: =E26/MCFS!P15 -> 0.24502618 | G26: =+'FT GAS'!S70 -> 4.2743547 | H26: =('FT GAS'!K67*'FT GAS'!K109+'FT GAS'!L67*'FT GAS'!L109+'FT GAS'!M67*'FT GAS'!M109+'FT GAS'!N67*'FT GAS'!N109+'FT GAS'!O67*'FT GAS'!O109+'FT GAS'!Q67*'FT GAS'!Q109+'FT GAS'!R67*'FT GAS'!R109)/'FT GAS'!S67 -> 4.0653216 | I26: =G26-H26 -> 0.20903308 | J26: =I26*E26 -> 192728.5
A29: FY10-11 PGC and NON-PGC Hedges Total | E29: =E12+E26 -> 3847500 | G29: =(E12*G12+E26*G26)/E29 -> 4.3613327 | H29: =(E12*H12+E26*H26)/E29 -> 4.1007984 | I29: =H29-G29 -> -0.26053424 | J29: =E29*I29 -> -1002405.5
A35: PGC Hedges | H35: 40764 | I35: Hedge vs
A36: Hedge Dates | B36: Delivery Months | C36: Type | D36: Dth/Day | E36: Total Dths | F36: %PGC Reqs | G36: Hedge $/Dth | H36: NYMEX | I36: NYMEX or Index | J36: Total $
A37: 11/1/10,2/28/11,3/10/11 | B37: Jul11-Mar12 | C37: Collar - Columbia | D37: =+'FT GAS'!AJ52 -> 6118.1818 | E37: =+'FT GAS'!AJ51 -> 1682500 | F37: =E37/MCFS!AF13 -> 0.13120002 | G37: =+'FT GAS'!AJ54 -> 4.2811233 | H37: =('FT GAS'!X51*'FT GAS'!X109+'FT GAS'!Y51*'FT GAS'!Y109+'FT GAS'!Z51*'FT GAS'!Z109+'FT GAS'!AA51*'FT GAS'!AA109+'FT GAS'!AB51*'FT GAS'!AB109+'FT GAS'!AC51*'FT GAS'!AC109+'FT GAS'!AD51*'FT GAS'!AD109+'FT GAS'!AE51*'FT GAS'!AE109+'FT GAS'!AF51*'FT GAS'!AF109)/'FT GAS'!AJ51 -> 4.2811233 | I37: =H37-G37 -> 0 | J37: =E37*I37 -> 0 | K37: =+'[1]HEDGE - RESULTS'!$N$500 -> 0
A38: PGC FY1112 Hedge Totals | E38: =SUM(E37:E37) -> 1682500 | F38: =SUM(F37:F37) -> 0.13120002 | G38: =(E37*G37)/E38 -> 4.2811233 | H38: =(E37*H37)/E38 -> 4.2811233 | I38: =I37 -> 0 | J38: =SUM(J37:J37) -> 0
H40: =H35 -> 40764 | I40: Storage vs
E41: Storage Dths | F41: %PGC Reqs | G41: Storage WACOG | H41: NYMEX + BASIS | I41: NYMEX + BASIS | J41: Total $
A42: PGC Storage (75% Planned Use) | E42: =ROUND(-SUM('STORAGE TOT'!T9:W9),-5) -> 3100000 | F42: =E42/MCFS!$AF$13 -> 0.24173555 | G42: =+'STORAGE TOT'!R19 -> 4.359959 | H42: =AVERAGE('FT GAS'!AC109:AE109)+(0.64*0.09+0.36*0.15) -> 4.5646 | I42: =H42-G42 -> 0.20464104 | J42: =E42*I42 -> 634387.22
H44: =H35 -> 40764 | I44: Hedge & Storage vs
E45: Hedge & Storage Dths | F45: %PGC Reqs | G45: Hedge & Storage WACOG | H45: NYMEX | I45: NYMEX or Index | J45: Total $
A46: PGC FY1112 Hedge & Storage | E46: =SUM(E38,E42) -> 4782500 | F46: =SUM(F38,F42) -> 0.37293557 | G46: =(E38*G38+E42*G42)/E46 -> 4.3322243 | H46: =(E38*H38+E42*H42)/E46 -> 4.4648719 | I46: =H46-G46 -> 0.13264761 | J46: =SUM(J38,J42) -> 634387.22
A50: NON-PGC Hedges | H50: 40764 | I50: Hedge vs
A51: Hedge Dates | B51: Delivery Months | C51: Type | D51: Dth/Day | E51: Total Dths | F51: %NON-PGC Reqs | G51: Hedge $/Dth | H51: NYMEX | I51: NYMEX or Index | J51: Total $
A52: 40659 | B52: Jul11-Apr12 | C52: Fixed Price - Columbia | D52: =+'FT GAS'!AJ68 -> 2898.3607 | E52: =+'FT GAS'!AJ67 -> 884000 | F52: =E52/MCFS!AF15 -> 0.2285311 | G52: =+'FT GAS'!AJ70 -> 4.7 | H52: =('FT GAS'!X67*'FT GAS'!X109+'FT GAS'!Y67*'FT GAS'!Y109+'FT GAS'!Z67*'FT GAS'!Z109+'FT GAS'!AA67*'FT GAS'!AA109+'FT GAS'!AB67*'FT GAS'!AB109+'FT GAS'!AC67*'FT GAS'!AC109+'FT GAS'!AD67*'FT GAS'!AD109+'FT GAS'!AE67*'FT GAS'!AE109+'FT GAS'!AF67*'FT GAS'!AF109+'FT GAS'!AG67*'FT GAS'!AG109)/'FT GAS'!AJ67 -> 4.3277189 | I52: =G52-H52 -> 0.37228111 | J52: =I52*E52 -> 329096.5

Sheet YR SUMMARIES
A1: Factor
A2: 1000000
A3: =CELL("FILENAME",A1) -> H:\Gaspurch\GasCosts\Annual\FY1113\[1113pgc9Aug11.xlsx]YR SUMMARIES
A4: City of Richmond
A5: Department of Public Utilities
A6: Gas Cost Summary
A7: NYMEX Settlement: | B7: 40764
C9: 09-10 | D9: 09-10 | E9: 09-10 | G9: 10-11 | H9: 10-11 | I9: 10-11 | K9: 11-12 | L9: 11-12 | M9: 11-12 | O9: 12-13 | P9: 12-13 | Q9: 12-13
C10: Total ($M) | D10: MMcf | E10: $/Mcf | G10: Total ($M) | H10: MMcf | I10: $/Mcf | J10: vs 0910 | K10: Total ($M) | L10: MMcf | M10: $/Mcf | N10: vs 1011 | O10: Total ($M) | P10: MMcf | Q10: $/Mcf | R10: vs 1112
A11: Total | C11: =+'[2]YR SUMMARIES'!C11 -> 103.42265 | D11: =+'[2]YR SUMMARIES'!D11 -> 15.405617 | E11: =+'[2]YR SUMMARIES'!E11 -> 6.7133079 | G11: =+'YR REPORTS'!P23/'YR SUMMARIES'!$A$2 -> 92.591799 | H11: =+'YR REPORTS'!P12/'YR SUMMARIES'!$A$2 -> 15.472026 | I11: =G11/H11 -> 5.9844652 | K11: ='YR REPORTS'!AG23/'YR SUMMARIES'!A2 -> 93.83372 | L11: =+'YR REPORTS'!AG12/'YR SUMMARIES'!A2 -> 14.573559 | M11: =K11/L11 -> 6.4386276 | O11: ='YR REPORTS'!AW23/'YR SUMMARIES'!A2 -> 102.72503 | P11: =+'YR REPORTS'!AW12/'YR SUMMARIES'!A2 -> 14.736375 | Q11: =O11/P11 -> 6.970848
A12: PGC | C12: =+'[2]YR SUMMARIES'!C12 -> 81.915525 | D12: =+'[2]YR SUMMARIES'!D12 -> 11.807259 | E12: =+'[2]YR SUMMARIES'!E12 -> 6.9377259 | G12: =SUM('YR REPORTS'!P33,'YR REPORTS'!P35,'YR REPORTS'!P59)/$A$2 -> 75.445167 | H12: =+'YR REPORTS'!P10/'YR SUMMARIES'!$A$2 -> 11.844756 | I12: =G12/H12 -> 6.3694995 | J12: =(I12-E12)/E12 -> -0.081903839 | K12: =SUM('YR REPORTS'!AG33,'YR REPORTS'!AG35,'YR REPORTS'!AG59)/A2 -> 75.120428 | L12: =+'YR REPORTS'!AG10/'YR SUMMARIES'!A2 -> 11.128459 | M12: =K12/L12 -> 6.750299 | N12: =(M12-I12)/I12 -> 0.059784845 | O12: =SUM('YR REPORTS'!AW33,'YR REPORTS'!AW35,'YR REPORTS'!AW59)/A2 -> 81.71834 | P12: =+'YR REPORTS'!AW10/'YR SUMMARIES'!A2 -> 11.209675 | Q12: =O12/P12 -> 7.2899828 | R12: =(Q12-M12)/M12 -> 0.079949606
A13: Non-PGC | C13: =+'[2]YR SUMMARIES'!C13 -> 21.507128 | D13: =+'[2]YR SUMMARIES'!D13 -> 3.5983587 | E13: =+'[2]YR SUMMARIES'!E13 -> 5.9769273 | G13: =+'YR REPORTS'!P71/'YR SUMMARIES'!$A$2 -> 18.79389 | H13: =+'YR REPORTS'!P11/'YR SUMMARIES'!$A$2 -> 3.6272698 | I13: =G13/H13 -> 5.181277 | K13: =+'YR REPORTS'!AG71/'YR SUMMARIES'!A2 -> 18.713293 | L13: =+'YR REPORTS'!AG66/'YR SUMMARIES'!A2 -> 3.4451 | M13: =K13/L13 -> 5.4318576 | O13: =+'YR REPORTS'!AW71/'YR SUMMARIES'!A2 -> 21.006692 | P13: =+'YR REPORTS'!AW66/'YR SUMMARIES'!A2 -> 3.5267 | Q13: =O13/P13 -> 5.9564726
C15: 09-10 | D15: 09-10 | E15: 09-10 | G15: 10-11 | H15: 10-11 | I15: 10-11 | K15: 11-12 | L15: 11-12 | M15: 11-12
C16: Total ($M) | D16: MMcf | E16: $/Mcf | G16: Total ($M) | H16: MMcf | I16: $/Mcf | K16: Total ($M) | L16: MMcf | M16: $/Mcf
A17: Total Hedge Status | C17: =+'[2]YR SUMMARIES'!C17 -> -2.201508 | D17: =+'[2]YR SUMMARIES'!D17 -> 4.3836562 | E17: =+'[2]YR SUMMARIES'!E17 -> -0.50220817 | G17: =SUM(G18:G19) -> -0.6169485 | H17: =SUM(H18:H19) -> 3.4266797 | I17: =G17/H17 -> -0.18004265 | K17: =SUM(K18:K19) -> 0 | L17: =SUM(L18:L19) -> 1.4984766 | M17: =K17/L17 -> 0
A18: PGC Hedge Status | C18: =+'[2]YR SUMMARIES'!C18 -> -1.7571565 | D18: =+'[2]YR SUMMARIES'!D18 -> 3.7927266 | E18: =+'[2]YR SUMMARIES'!E18 -> -0.46329638 | G18: =+'HEDGE REPORT'!J12/'YR SUMMARIES'!A2 -> -0.809677 | H18: =+('HEDGE REPORT'!E12/A2/1.04*(1-0.05))*(1-0.025) -> 2.6055234 | I18: =G18/H18 -> -0.31075407 | K18: =+'HEDGE REPORT'!J38/'YR SUMMARIES'!A2 -> 0 | L18: =+('HEDGE REPORT'!E38/A2/1.04*(1-0.05))*(1-0.025) -> 1.4984766 | M18: =K18/L18 -> 0
A19: Non-PGC Hedge Status | C19: =+'[2]YR SUMMARIES'!C19 -> -0.4443515 | D19: =+'[2]YR SUMMARIES'!D19 -> 0.59092969 | E19: =+'[2]YR SUMMARIES'!E19 -> -0.75195325 | G19: ='HEDGE REPORT'!J26/'YR SUMMARIES'!A2 -> 0.1927285 | H19: =+('HEDGE REPORT'!E26/A2/1.04*(1-0.05))*(1-0.025) -> 0.82115625 | I19: =G19/H19 -> 0.23470381
C21: 09-10 | D21: 09-10 | E21: 09-10 | G21: 10-11 | H21: 10-11 | I21: 10-11 | K21: 11-12 | L21: 11-12 | M21: 11-12
C22: Total ($M) | D22: MMcf | E22: $/Mcf | G22: Total ($M) | H22: MMcf | I22: $/Mcf | K22: Total ($M) | L22: MMcf | M22: $/Mcf
A23: PGC Storage | C23: =+'[2]YR SUMMARIES'!C23 -> 0.70929114 | D23: =+'[2]YR SUMMARIES'!D23 -> 2.90625 | E23: =+'[2]YR SUMMARIES'!E23 -> 0.24405717 | G23: =+'HEDGE REPORT'!J16/A2 -> -0.67078555 | H23: =+'HEDGE REPORT'!E16/A2*(1-0.025)/1.04 -> 2.90625 | I23: =G23/H23 -> -0.23080793 | K23: =+'HEDGE REPORT'!J42/A2 -> 0.63438722 | L23: =+'HEDGE REPORT'!E42/A2*(1-0.025)/1.04 -> 2.90625 | M23: =K23/L23 -> 0.21828377
A24: PGC Hedge and Storage | C24: =+'[2]YR SUMMARIES'!C24 -> -1.0478654 | D24: =+'[2]YR SUMMARIES'!D24 -> 6.6989766 | E24: =+'[2]YR SUMMARIES'!E24 -> -0.15642171 | G24: =SUM(G18,G23) -> -1.4804626 | H24: =SUM(H18,H23) -> 5.5117734 | I24: =G24/H24 -> -0.26860004 | K24: =SUM(K18,K23) -> 0.63438722 | L24: =SUM(L18,L23) -> 4.4047266 | M24: =K24/L24 -> 0.1440242
A25: PGC w/o Hedge and Storage | C25: =+'[2]YR SUMMARIES'!C25 -> 80.86766 | D25: =+'[2]YR SUMMARIES'!D25 -> 11.807259 | E25: =+'[2]YR SUMMARIES'!E25 -> 6.8489783 | G25: =SUM(G12,G24) -> 73.964704 | H25: =H12 -> 11.844756 | I25: =G25/H25 -> 6.2445106 | J25: =(I25-I12)/I12 -> -0.019623027 | K25: =SUM(K12,K24) -> 75.754815 | L25: =L12 -> 11.128459 | M25: =K25/L25 -> 6.8073049 | N25: =(M25-M12)/M12 -> 0.0084449362
A27: PGC Rate | I27: =+'YR REPORTS'!P76 -> 6.8695394 | M27: =+'YR REPORTS'!AG76 -> 6.5 | Q27: =+'YR REPORTS'!AW76 -> 6.5
A28: PGC Cumulative Recovery | F28: =+'YR REPORTS'!B90/'YR SUMMARIES'!A2 -> 2.5487391 | G28: =+'YR REPORTS'!O90/'YR SUMMARIES'!A2 -> 8.3582289 | K28: =+'YR REPORTS'!AF90/'YR SUMMARIES'!A2 -> 4.4646854 | O28: =+'YR REPORTS'!AV90/A2 -> -5.498866
A29: Yr Change | G29: =G28-F28 -> 5.8094899 | K29: =K28-G28 -> -3.8935436 | O29: =O28-K28 -> -9.9635514
A36: Prepayment Discounts | G36: $M | H36: MMDth | I36: $/Dth | J36: Tot $% | K36: Tot MMDth%
A37: Transco Yr Base (10K/day) - Future | G37: =H37*I37 -> 1.9018421 | H37: =9.9*365/1000/0.95 -> 3.8036842 | I37: 0.5 | J37: =G37/$G$11 -> 0.020540071 | K37: =H37/(MCFS!$P$17/1000000) -> 0.23046422 | M37: FUTURE Deal
A38: MGAG Columbia Winter Base | G38: =H38*I38 -> 1.0315789 | H38: =(10*(30+31)+15*(31+31+28))/1000/0.95 -> 2.0631579 | I38: 0.5 | J38: =G38/$G$11 -> 0.011141148 | K38: =H38/(MCFS!$P$17/1000000) -> 0.12500619 | L38: =K38+K39 -> 0.24618566 | M38: MGAG Deal 1
A39: MGAG Columbia Storage | G39: =H39*I39 -> 1 | H39: =2 -> 2 | I39: 0.5 | J39: =G39/$G$11 -> 0.010800093 | K39: =H39/(MCFS!$P$17/1000000) -> 0.12117947
A40: Total | G40: =SUM(G37:G39) -> 3.9334211 | H40: =SUM(H37:H39) -> 7.8668421 | J40: =SUM(J37:J39) -> 0.042481311 | K40: =SUM(K37:K39) -> 0.47664988 | L40: RMI 10% to 50%
J42: PGC $% | K42: PGC MMDth%
A43: Transco Yr Base (10K/day) - Future | G43: =G37 -> 1.9018421 | H43: =H37 -> 3.8036842 | J43: =G43/G12 -> 0.02520827 | K43: =H43/(MCFS!$P$13/1000000) -> 0.29852526
A44: MGAG Columbia Winter Base | G44: =G38 -> 1.0315789 | H44: =H38 -> 2.0631579 | J44: =G44/G12 -> 0.013673228 | K44: =H44/(MCFS!$P$13/1000000) -> 0.16192321
A45: MGAG Columbia Storage | G45: =G39 -> 1 | H45: =H39 -> 2 | J45: =G45/G12 -> 0.01325466 | K45: =H45/(MCFS!$P$13/1000000) -> 0.15696637
A46: Total | G46: =SUM(G43:G45) -> 3.9334211 | H46: =SUM(H43:H45) -> 7.8668421 | J46: =SUM(J43:J45) -> 0.052136157 | K46: =SUM(K43:K45) -> 0.61741484
A48: Other Supply | H48: MMDth | K48: Tot MMDth%
A49: Columbia Yr Baseload | H49: =13.5*365/1000/0.95 -> 5.1868421 | K49: =H49/(MCFS!$P$17/1000000) -> 0.31426939
A50: DTI Winter Base | H50: =(5*(30+31)+7.5*(31+31+28))/1000/0.97 -> 1.0103093 | K50: =H50/(MCFS!$P$17/1000000) -> 0.061214372
A51: DTI Storage | H51: =1.1 -> 1.1 | K51: =H51/(MCFS!$P$17/1000000) -> 0.066648709
A52: Total | H52: =SUM(H49:H51) -> 7.2971514
...

Sheet YR REPORTS
C1: =CELL("FILENAME",A1) -> H:\Gaspurch\GasCosts\Annual\FY1113\[1113pgc9Aug11.xlsx]YR REPORTS | F1: =F20/F12 -> 2.9985825 | T1: =CELL("FILENAME",O1) -> H:\Gaspurch\GasCosts\Annual\FY1113\[1113pgc9Aug11.xlsx]YR REPORTS | AJ1: =CELL("FILENAME",AF1) -> H:\Gaspurch\GasCosts\Annual\FY1113\[1113pgc9Aug11.xlsx]YR REPORTS
C2: City of Richmond | T2: City of Richmond | AJ2: City of Richmond
C3: Department of Public Utilities | T3: Department of Public Utilities | AJ3: Department of Public Utilities
C4: Projected Gas Costs and PGC Recovery | T4: Projected Gas Costs and PGC Recovery | AJ4: Projected Gas Costs and PGC Recovery
C5: 40765 | D5: HURRICANE | E5: HURRICANE | F5: HURRICANE | G5: HURRICANE | H5: HURRICANE | T5: =NOW() -> 41059.682 | AJ5: =NOW() -> 41059.682
D6: A C T U A L | E6: A C T U A L | F6: A C T U A L | G6: A C T U A L | H6: A C T U A L | I6: A C T U A L | J6: A C T U A L | K6: A C T U A L | L6: A C T U A L | M6: A C T U A L | N6: A C T U A L | O6: A C T U A L | U6: P L A N | V6: P L A N | W6: P L A N | X6: P L A N | Y6: P L A N | Z6: P L A N | AA6: P L A N | AB6: P L A N | AC6: P L A N | AD6: P L A N | AE6: P L A N | AF6: P L A N | AK6: P L A N | AL6: P L A N | AM6: P L A N | AN6: P L A N | AO6: P L A N | AP6: P L A N | AQ6: P L A N | AR6: P L A N | AS6: P L A N | AT6: P L A N | AU6: P L A N | AV6: P L A N
D7: 40360 | E7: 40391 | F7: 40422 | G7: 40452 | H7: 40483 | I7: 40513 | J7: 40544 | K7: 40575 | L7: 40603 | M7: 40634 | N7: 40664 | O7: 40695 | P7: 1011 TOTALS | U7: 40725 | V7: 40756 | W7: 40787 | X7: 40817 | Y7: 40848 | Z7: 40878 | AA7: 40909 | AB7: 40940 | AC7: 40969 | AD7: 41000 | AE7: 40664 | AF7: 41061 | AG7: 1112 TOTALS | AH7: vs Prior FY | AK7: 41091 | AL7: 41122 | AM7: 41153 | AN7: 41183 | AO7: 41214 | AP7: 41244 | AQ7: 41275 | AR7: 41306 | AS7: 41334 | AT7: 41365 | AU7: 41395 | AV7: 41426 | AW7: 1213 TOTALS | AX7: vs Prior FY
C8: RS,GS,MS Mcfs | D8: =D10-D9 -> 181300.8 | E8: =E10-E9 -> 193938.7 | F8: =F10-F9 -> 214222 | G8: =G10-G9 -> 411591 | H8: =H10-H9 -> 1019821.9 | I8: =I10-I9 -> 2297085 | J8: =J10-J9 -> 2281561.4 | K8: =K10-K9 -> 1453437.1 | ... O8: =O10-O9 -> 215254.8 | P8: =SUM(D8:O8) -> 10223900 | T8: RS,GS,MS Mcfs | U8: =U10-U9 -> 195316.01 | V8: =V10-V9 -> 195316.01 | W8: =W10-W9 -> 238932.19 | X8: =X10-X9 -> 611288.49 | Y8: =Y10-Y9 -> 1057935.8 | Z8: =Z10-Z9 -> 1578193.4 | AA8: =AA10-AA9 -> 1809289.2 | AB8: =AB10-AB9 -> 1479794.9 | ... AG8: =AG10-AG9 -> 9528365.8 | AH8: =AG8-P8 -> -695534.33 | AJ8: RS,GS,MS Mcfs | AK8: =AK10-AK9 -> 196989.37 | AL8: =AL10-AL9 -> 196989.37 | AM8: =AM10-AM9 -> 240976.34 | AN8: =AN10-AN9 -> 616501.63 | AO8: =AO10-AO9 -> 1066949.4 | AP8: =AP10-AP9 -> 1591634.6 | AQ8: =AQ10-AQ9 -> 1824696.9 | AR8: =AR10-AR9 -> 1492397.6 | ... AW8: =AW10-AW9 -> 9609581.8 | AX8: =AW8-AG8 -> 81216.038
C9: CIS Mcfs | D9: =+MCFS!D79 -> 57280 | E9: =+MCFS!E79 -> 60834.8 | F9: =+MCFS!F79 -> 65658 | G9: =+MCFS!G79 -> 93332 | H9: =+MCFS!H79 -> 162707.4 | I9: =+MCFS!I79 -> 274133.2 | J9: =+MCFS!J79 -> 274682.6 | K9: =+MCFS!K79 -> 191027.3 | ... O9: =+MCFS!O79 -> 62806.1 | P9: =SUM(D9:O9) -> 1620855.8 | T9: CIS Mcfs | U9: =+MCFS!T46 -> 71625.5 | V9: =+MCFS!U46 -> 71625.5 | W9: =+MCFS!V46 -> 74540.715 | X9: =+MCFS!W46 -> 115173.12 | Y9: =+MCFS!X46 -> 160281.15 | Z9: =+MCFS!Y46 -> 216397.16 | AA9: =+MCFS!Z46 -> 240590.28 | AB9: =+MCFS!AA46 -> 201143.23 | ... AF9: =+MCFS!AE46 -> 69315 | AG9: =SUM(U9:AF9) -> 1600093.4 | AH9: =AG9-P9 -> -20762.35 | AJ9: CIS Mcfs | AK9: =+MCFS!AJ46 -> 71625.5 | AL9: =+MCFS!AK46 -> 71625.5 | AM9: =+MCFS!AL46 -> 74540.715 | AN9: =+MCFS!AM46 -> 115173.12 | AO9: =+MCFS!AN46 -> 160281.15 | AP9: =+MCFS!AO46 -> 216397.16 | AQ9: =+MCFS!AP46 -> 240590.28 | AR9: =+MCFS!AQ46 -> 201143.23 | ... AV9: =+MCFS!AU46 -> 69315 | AW9: =SUM(AK9:AV9) -> 1600093.4 | AX9: =AW9-AG9 -> 0
C10: PGC Mcfs | D10: =+MCFS!D87 -> 238580.8 | E10: =+MCFS!E87 -> 254773.5 | F10: =+MCFS!F87 -> 279880 | G10: =+MCFS!G87 -> 504923 | H10: =+MCFS!H87 -> 1182529.3 | I10: =+MCFS!I87 -> 2571218.2 | J10: =+MCFS!J87 -> 2556244 | K10: =+MCFS!K87 -> 1644464.4 | ... O10: =+MCFS!O87 -> 278060.9 | P10: =SUM(D10:O10) -> 11844756 | T10: PGC Mcfs | U10: =+MCFS!T52 -> 266941.51 | V10: =+MCFS!U52 -> 266941.51 | W10: =+MCFS!V52 -> 313472.9 | X10: =+MCFS!W52 -> 726461.61 | Y10: =+MCFS!X52 -> 1218216.9 | Z10: =+MCFS!Y52 -> 1794590.6 | AA10: =+MCFS!Z52 -> 2049879.5 | AB10: =+MCFS!AA52 -> 1680938.1 | ... AF10: =+MCFS!AE52 -> 258330.49 | AG10: =SUM(U10:AF10) -> 11128459 | AH10: =AG10-P10 -> -716296.68 | AJ10: PGC Mcfs | AK10: =+MCFS!AJ52 -> 268614.87 | AL10: =+MCFS!AK52 -> 268614.87 | AM10: =+MCFS!AL52 -> 315517.06 | AN10: =+MCFS!AM52 -> 731674.76 | AO10: =+MCFS!AN52 -> 1227230.5 | AP10: =+MCFS!AO52 -> 1808031.7 | AQ10: =+MCFS!AP52 -> 2065287.2 | AR10: =+MCFS!AQ52 -> 1693540.9 | ... AV10: =+MCFS!AU52 -> 259949.87 | AW10: =SUM(AK10:AV10) -> 11209675 | AX10: =AW10-AG10 -> 81216.038
C11: Non-PGC Mcfs | D11: =+MCFS!D99 -> 221336 | E11: =+MCFS!E99 -> 228946.3 | F11: =+MCFS!F99 -> 247884 | G11: =+MCFS!G99 -> 272765 | H11: =+MCFS!H99 -> 329173.8 | I11: =+MCFS!I99 -> 419536.6 | J11: =+MCFS!J99 -> 444747 | K11: =+MCFS!K99 -> 352434.3 | ... O11: =+MCFS!O99 -> 221191 | P11: =SUM(D11:O11) -> 3627269.8 | T11: Non-PGC Mcfs | U11: =+MCFS!T62 -> 222200 | V11: =+MCFS!U62 -> 212000 | W11: =+MCFS!V62 -> 192400 | X11: =+MCFS!W62 -> 308200 | Y11: =+MCFS!X62 -> 314600 | Z11: =+MCFS!Y62 -> 381100 | AA11: =+MCFS!Z62 -> 393500 | AB11: =+MCFS!AA62 -> 348800 | ... AF11: =+MCFS!AE62 -> 212800 | AG11: =SUM(U11:AF11) -> 3445100 | AH11: =AG11-P11 -> -182169.8 | AJ11: Non-PGC Mcfs | AK11: =+MCFS!AJ62 -> 227250 | AL11: =+MCFS!AK62 -> 217050 | AM11: =+MCFS!AL62 -> 197500 | AN11: =+MCFS!AM62 -> 314400 | AO11: =+MCFS!AN62 -> 325000 | AP11: =+MCFS!AO62 -> 390700 | AQ11: =+MCFS!AP62 -> 403200 | AR11: =+MCFS!AQ62 -> 354300 | ... AV11: =+MCFS!AU62 -> 217900 | AW11: =SUM(AK11:AV11) -> 3526700 | AX11: =AW11-AG11 -> 81600
C12: Total Mcfs | D12: =SUM(D10:D11) -> 459916.8 | E12: =SUM(E10:E11) -> 483719.8 | F12: =SUM(F10:F11) -> 527764 | G12: =SUM(G10:G11) -> 777688 | H12: =SUM(H10:H11) -> 1511703.1 | I12: =SUM(I10:I11) -> 2990754.8 | J12: =SUM(J10:J11) -> 3000991 | K12: =SUM(K10:K11) -> 1996898.7 | ... O12: =SUM(O10:O11) -> 499251.9 | P12: =SUM(D12:O12) -> 15472026 | T12: Total Mcfs | U12: =SUM(U10:U11) -> 489141.51 | V12: =SUM(V10:V11) -> 478941.51 | W12: =SUM(W10:W11) -> 505872.9 | X12: =SUM(X10:X11) -> 1034661.6 | Y12: =SUM(Y10:Y11) -> 1532816.9 | Z12: =SUM(Z10:Z11) -> 2175690.6 | AA12: =SUM(AA10:AA11) -> 2443379.5 | AB12: =SUM(AB10:AB11) -> 2029738.1 | ... AF12: =SUM(AF10:AF11) -> 471130.49 | AG12: =SUM(U12:AF12) -> 14573559 | AH12: =AG12-P12 -> -898466.48 | AJ12: Total Mcfs | AK12: =SUM(AK10:AK11) -> 495864.87 | AL12: =SUM(AL10:AL11) -> 485664.87 | AM12: =SUM(AM10:AM11) -> 513017.06 | AN12: =SUM(AN10:AN11) -> 1046074.8 | AO12: =SUM(AO10:AO11) -> 1552230.5 | AP12: =SUM(AP10:AP11) -> 2198731.7 | AQ12: =SUM(AQ10:AQ11) -> 2468487.2 | AR12: =SUM(AR10:AR11) -> 2047840.9 | ... AV12: =SUM(AV10:AV11) -> 477849.87 | AW12: =SUM(AK12:AV12) -> 14736375 | AX12: =AW12-AG12 -> 162816.04
C13: Citygate Dths based on Sales | D13: =D12*1.04/0.95 -> 503487.87 | E13: =E12*1.04/0.95 -> 529545.89 | F13: =F12*1.04/0.95 -> 577762.69 | G13: =G12*1.04/0.95 -> 851363.71 | H13: =H12*1.04/0.95 -> 1654917.1 | I13: =I12*1.04/0.95 -> 3274089.5 | J13: =J12*1.04/0.95 -> 3285295.4 | K13: =K12*1.04/0.95 -> 2186078.6 | ... O13: =O12*1.04/0.95 -> 546549.45 | U13: =U18-'[3]YR REPORTS'!AK14 -> -2764488.2 | V13: =V18-'[3]YR REPORTS'!AL14 -> -3029456 | W13: =W18-'[3]YR REPORTS'!AM14 -> -3299529.6 | X13: =X18-'[3]YR REPORTS'!AN14 -> -4006843.8 | Y13: =Y18-'[3]YR REPORTS'!AO14 -> -6070340.2 | Z13: =Z18-'[3]YR REPORTS'!AP14 -> -5776303.7 | AA13: =AA18-'[3]YR REPORTS'!AQ14 -> -6880485.9 | AB13: =AB18-'[3]YR REPORTS'!AR14 -> -6520827.8 | ... AF13: =AF18-'[3]YR REPORTS'!AV14 -> -3537805.8 | AG13: =SUM(U13:AF13) -> -57114532
C14: Gas Control CG Dths less TS | D14: 489092 | E14: 523045.3 | F14: 522239 | G14: 837221.1 | H14: 1566775 | I14: 3338002.9 | J14: 3245498 | K14: 2043492 | L14: 1794438.6 | M14: 956395 | N14: 643660.9 | O14: 512361.4
C15: Difference | D15: =D13-D14 -> 14395.865 | E15: =E13-E14 -> 6500.5863 | F15: =F13-F14 -> 55523.695 | G15: =G13-G14 -> 14142.605 | H15: =H13-H14 -> 88142.078 | I15: =I13-I14 -> -63913.435 | J15: =J13-J14 -> 39797.411 | K15: =K13-K14 -> 142586.58 | ... O15: =O13-O14 -> 34188.048
C16: % Difference | D16: =D15/D13 -> 0.028592278 | E16: =E15/E13 -> 0.012275775 | F16: =F15/F13 -> 0.096101211 | G16: =G15/G13 -> 0.016611708 | H16: =H15/H13 -> 0.053260722 | I16: =I15/I13 -> -0.01952098 | J16: =J15/J13 -> 0.0121138 | K16: =K15/K13 -> 0.065224818 | ... O16: =O15/O13 -> 0.062552526
C18: Total Projected Commodity Costs (Storage injections not expensed) | D18: =('FT GAS'!G39*'FT GAS'!G117) -> 6875630.4 | E18: =('FT GAS'!H39*'FT GAS'!H117) -> 6724037.8 | F18: =('FT GAS'!I39*'FT GAS'!I117) -> 3538837.1 | G18: =('FT GAS'!J39*'FT GAS'!J117) -> 5455152.8 | H18: =('FT GAS'!K39*'FT GAS'!K117) -> 5476111.5 | I18: =('FT GAS'!L39*'FT GAS'!L117) -> 6531723.2 | J18: =('FT GAS'!M39*'FT GAS'!M117) -> 8081770.5 | K18: =('FT GAS'!N39*'FT GAS'!N117) -> 7432439.6 | ... O18: =('FT GAS'!R39*'FT GAS'!R117) -> 4515282 | P18: =SUM(D18:O18) -> 71560978 | T18: Total Projected Commodity Costs (Storage injections not expensed) | U18: =+'FT GAS'!X39*'FT GAS'!X117 -> 4443056.2 | V18: =+'FT GAS'!Y39*'FT GAS'!Y117 -> 4526077 | W18: =+'FT GAS'!Z39*'FT GAS'!Z117 -> 3754206.6 | X18: =+'FT GAS'!AA39*'FT GAS'!AA117 -> 5820361.6 | Y18: =+'FT GAS'!AB39*'FT GAS'!AB117 -> 7264609.6 | Z18: =+'FT GAS'!AC39*'FT GAS'!AC117 -> 6889233.7 | AA18: =+'FT GAS'!AD39*'FT GAS'!AD117 -> 7818102.3 | AB18: =+'FT GAS'!AE39*'FT GAS'!AE117 -> 6543633.4 | ... AF18: =+'FT GAS'!AI39*'FT GAS'!AI117 -> 4571391.9 | AG18: =SUM(U18:AF18) -> 71213894 | AJ18: Total Projected Commodity Costs (Storage injections not expensed) | AK18: =+'FT GAS'!AO39*'FT GAS'!AO117 -> 4759580.6 | AL18: =+'FT GAS'!AP39*'FT GAS'!AP117 -> 4858042.3 | AM18: =+'FT GAS'!AQ39*'FT GAS'!AQ117 -> 4358763.5 | AN18: =+'FT GAS'!AR39*'FT GAS'!AR117 -> 6700259.4 | AO18: =+'FT GAS'!AS39*'FT GAS'!AS117 -> 8415223.3 | AP18: =+'FT GAS'!AT39*'FT GAS'!AT117 -> 8068149.9 | AQ18: =+'FT GAS'!AU39*'FT GAS'!AU117 -> 9176757.9 | AR18: =+'FT GAS'!AV39*'FT GAS'!AV117 -> 7637404.3 | ... AV18: =+'FT GAS'!AZ39*'FT GAS'!AZ117 -> 5152167.6 | AW18: =SUM(AK18:AV18) -> 81222155
C19: Total Commodity Costs of Sales | D19: =D23-D20 -> 2377282.5 | E19: =E23-E20 -> 2506842.6 | F19: =F23-F20 -> 1934936.8 | G19: =G23-G20 -> 3146006.9 | H19: =H23-H20 -> 6061281.3 | I19: =I23-I20 -> 15215357 | J19: =J23-J20 -> 14815847 | K19: =K23-K20 -> 9169606.8 | L19: =L23-L20 -> 7978119.9 | M19: =('FT GAS'!P7*'FT GAS'!P117) -> 5103942.2 | N19: =('FT GAS'!Q7*'FT GAS'!Q117) -> 3258942.6 | O19: =('FT GAS'!R7*'FT GAS'!R117) -> 2244832 | P19: =SUM(D19:O19) -> 73812997 | T19: Total Commodity Costs of Sales | U19: =('FT GAS'!X7*'FT GAS'!X117) -> 2376500.1 | V19: =('FT GAS'!Y7*'FT GAS'!Y117) -> 2334977.1 | W19: =('FT GAS'!Z7*'FT GAS'!Z117) -> 2289840 | X19: =('FT GAS'!AA7*'FT GAS'!AA117) -> 4759318.5 | Y19: =('FT GAS'!AB39*'FT GAS'!AB117)-'STORAGE TOT'!S12 -> 7264609.6 | Z19: =('FT GAS'!AC39*'FT GAS'!AC117)-'STORAGE TOT'!T12 -> 10817399 | AA19: =('FT GAS'!AD39*'FT GAS'!AD117)-'STORAGE TOT'!U12 -> 12339117 | AB19: =('FT GAS'!AE39*'FT GAS'!AE117)-'STORAGE TOT'!V12 -> 10233747 | AC19: =('FT GAS'!AF39*'FT GAS'!AF117)-'STORAGE TOT'!W12 -> 8365604 | AD19: =('FT GAS'!AG7*'FT GAS'!AG117) -> 5380619.8 | AE19: =('FT GAS'!AH7*'FT GAS'!AH117) -> 3348209.4 | AF19: =('FT GAS'!AI7*'FT GAS'!AI117) -> 2336969.3 | AG19: =SUM(U19:AF19) -> 71846910 | AJ19: Total Commodity Costs of Sales | AK19: =('FT GAS'!AO7*'FT GAS'!AO117) -> 2546785.6 | AL19: =('FT GAS'!AP7*'FT GAS'!AP117) -> 2508412.1 | AM19: =('FT GAS'!AQ7*'FT GAS'!AQ117) -> 2656281.6 | AN19: =('FT GAS'!AR7*'FT GAS'!AR117) -> 5466447.9 | AO19: =('FT GAS'!AS39*'FT GAS'!AS117)-'STORAGE TOT'!AE12 -> 8415223.3 | AP19: =('FT GAS'!AT39*'FT GAS'!AT117)-'STORAGE TOT'!AF12 -> 12083676 | AQ19: =('FT GAS'!AU39*'FT GAS'!AU117)-'STORAGE TOT'!AG12 -> 13792896 | AR19: =('FT GAS'!AV39*'FT GAS'!AV117)-'STORAGE TOT'!AH12 -> 11406200 | AS19: =('FT GAS'!AW39*'FT GAS'!AW117)-'STORAGE TOT'!AI12 -> 9425440.5 | AT19: =('FT GAS'!AX7*'FT GAS'!AX117) -> 6012499.5 | AU19: =('FT GAS'!AY7*'FT GAS'!AY117) -> 3772403.8 | AV19: =('FT GAS'!AZ7*'FT GAS'!AZ117) -> 2651955.2 | AW19: =SUM(AK19:AV19) -> 80738222
C20: Total Demand Costs | D20: =+DEMAND!B108 -> 1597446.5 | E20: =+DEMAND!C108 -> 1590093.5 | F20: =+DEMAND!D108 -> 1582543.9 | G20: =+DEMAND!E108 -> 1783386.1 | H20: =+DEMAND!F108 -> 1775834.4 | I20: =+DEMAND!G108 -> 1770817.9 | J20: =+DEMAND!H108 -> 1780271.3 | K20: =+DEMAND!I108 -> 1755976.4 | ... O20: =+DEMAND!M108 -> 1715042.4 | P20: =SUM(D20:O20) -> 20426059 | T20: Total Demand Costs | U20: =+DEMAND!T108 -> 1744142.6 | V20: =+DEMAND!U108 -> 1744142.6 | W20: =+DEMAND!V108 -> 1744142.6 | X20: =+DEMAND!W108 -> 1880190.3 | Y20: =+DEMAND!X108 -> 1928352.7 | Z20: =+DEMAND!Y108 -> 1928352.7 | AA20: =+DEMAND!Z108 -> 1928352.7 | AB20: =+DEMAND!AA108 -> 1928352.7 | ... AF20: =+DEMAND!AE108 -> 1744142.6 | AG20: =SUM(U20:AF20) -> 21986810 | AJ20: Total Demand Costs | AK20: =+DEMAND!AL108 -> 1744142.6 | AL20: =+DEMAND!AM108 -> 1744142.6 | AM20: =+DEMAND!AN108 -> 1744142.6 | AN20: =+DEMAND!AO108 -> 1880190.3 | AO20: =+DEMAND!AP108 -> 1928352.7 | AP20: =+DEMAND!AQ108 -> 1928352.7 | AQ20: =+DEMAND!AR108 -> 1928352.7 | AR20: =+DEMAND!AS108 -> 1928352.7 | ... AV20: =+DEMAND!AW108 -> 1744142.6 | AW20: =SUM(AK20:AV20) -> 21986810
C21: Total Projected Costs (Storage injections not expensed) - Cash Reqs | D21: =SUM(D18,D20) -> 8473076.9 | E21: =SUM(E18,E20) -> 8314131.3 | F21: =SUM(F18,F20) -> 5121381 | G21: =SUM(G18,G20) -> 7238538.9 | H21: =SUM(H18,H20) -> 7251945.9 | I21: =SUM(I18,I20) -> 8302541.1 | J21: =SUM(J18,J20) -> 9862041.9 | K21: =SUM(K18,K20) -> 9188416 | ... O21: =SUM(O18,O20) -> 6230324.4 | P21: =SUM(D21:O21) -> 91987037 | T21: Total Projected Costs (Storage injections not expensed) - Cash Reqs | U21: =SUM(U18,U20) -> 6187198.9 | V21: =SUM(V18,V20) -> 6270219.6 | W21: =SUM(W18,W20) -> 5498349.3 | X21: =SUM(X18,X20) -> 7700551.9 | Y21: =SUM(Y18,Y20) -> 9192962.3 | Z21: =SUM(Z18,Z20) -> 8817586.5 | AA21: =SUM(AA18,AA20) -> 9746455 | AB21: =SUM(AB18,AB20) -> 8471986.1 | ... AF21: =SUM(AF18,AF20) -> 6315534.5 | AG21: =SUM(U21:AF21) -> 93200704 | AJ21: Total Projected Costs (Storage injections not expensed) - Cash Reqs | AK21: =SUM(AK18,AK20) -> 6503723.3 | AL21: =SUM(AL18,AL20) -> 6602185 | AM21: =SUM(AM18,AM20) -> 6102906.1 | AN21: =SUM(AN18,AN20) -> 8580449.8 | AO21: =SUM(AO18,AO20) -> 10343576 | AP21: =SUM(AP18,AP20) -> 9996502.6 | AQ21: =SUM(AQ18,AQ20) -> 11105111 | AR21: =SUM(AR18,AR20) -> 9565757.1 | ... AV21: =SUM(AV18,AV20) -> 6896310.3 | AW21: =SUM(AK21:AV21) -> 1.0320896e+08
C22: Total Actual Costs (Storage injections not expensed) - Cash Reqs | D22: 8474325.8 | E22: 8484022.3 | F22: 5007760.5 | G22: 5820773.8 | H22: 7209736.1 | I22: 12682220 | J22: 12603930 | K22: 8455529 | L22: 6231902.1 | M22: 6691527.7 | N22: 7155437.1 | O22: 6209024.8 | P22: =SUM(D22:O22) -> 95026189 | T22: Total Actual Costs (Storage injections not expensed) - Cash Reqs | AJ22: Total Actual Costs (Storage injections not expensed) - Cash Reqs
C23: Total Cost of Sales | D23: 3974728.9 | E23: 4096936.1 | F23: 3517480.7 | G23: 4929393 | H23: 7837115.7 | I23: 16986175 | J23: 16596118 | K23: 10925583 | L23: 9749085.5 | M23: 5661841.2 | N23: 4442946.7 | O23: 3874395.2 | P23: =SUM(D23:O23) -> 92591799 | T23: Total Cost of Sales | U23: =SUM(U19:U20) -> 4120642.8 | V23: =SUM(V19:V20) -> 4079119.7 | W23: =SUM(W19:W20) -> 4033982.7 | X23: =SUM(X19:X20) -> 6639508.8 | Y23: =SUM(Y19:Y20) -> 9192962.3 | Z23: =SUM(Z19:Z20) -> 12745752 | AA23: =SUM(AA19:AA20) -> 14267470 | AB23: =SUM(AB19:AB20) -> 12162100 | ... AF23: =SUM(AF19:AF20) -> 4081111.9 | AG23: =SUM(U23:AF23) -> 93833720 | AJ23: Total Cost of Sales | AK23: =SUM(AK19:AK20) -> 4290928.2 | AL23: =SUM(AL19:AL20) -> 4252554.7 | AM23: =SUM(AM19:AM20) -> 4400424.2 | AN23: =SUM(AN19:AN20) -> 7346638.2 | AO23: =SUM(AO19:AO20) -> 10343576 | AP23: =SUM(AP19:AP20) -> 14012029 | AQ23: =SUM(AQ19:AQ20) -> 15721248 | AR23: =SUM(AR19:AR20) -> 13334553 | ... AV23: =SUM(AV19:AV20) -> 4396097.8 | AW23: =SUM(AK23:AV23) -> 1.0272503e+08
C24: Monthly Cost of Sales Budgeted | P24: =SUM(D24:O24) -> 0 | AG24: =SUM(U24:AF24) -> 0
C25: Cumulative Total Cost of Sales | D25: =D23 -> 3974728.9 | E25: =D25+E23 -> 8071665.1 | F25: =E25+F23 -> 11589146 | G25: =F25+G23 -> 16518539 | H25: =G25+H23 -> 24355654 | I25: =H25+I23 -> 41341829 | J25: =I25+J23 -> 57937947 | K25: =J25+K23 -> 68863531 | L25: =K25+L23 -> 78612616 | ... O25: =N25+O23 -> 92591799 | T25: Cumulative Total Cost of Sales | U25: =U23 -> 4120642.8 | V25: =U25+V23 -> 8199762.5 | W25: =V25+W23 -> 12233745 | X25: =W25+X23 -> 18873254 | Y25: =X25+Y23 -> 28066216 | Z25: =Y25+Z23 -> 40811968 | AA25: =Z25+AA23 -> 55079437 | AB25: =AA25+AB23 -> 67241537 | AC25: =AB25+AC23 -> 77535494 | ... AF25: =AE25+AF23 -> 93833720 | AJ25: Cumulative Total Cost of Sales | AK25: =AK23 -> 4290928.2 | AL25: =AK25+AL23 -> 8543482.9 | AM25: =AL25+AM23 -> 12943907 | AN25: =AM25+AN23 -> 20290545 | AO25: =AN25+AO23 -> 30634122 | AP25: =AO25+AP23 -> 44646150 | AQ25: =AP25+AQ23 -> 60367399 | AR25: =AQ25+AR23 -> 73701952 | AS25: =AR25+AS23 -> 85055745 | ... AV25: =AU25+AV23 -> 1.0272503e+08
C26: Average Cost of Sales ($/Mcf) | D26: =D23/D12 -> 8.6422782 | E26: =E23/E12 -> 8.4696473 | F26: =F23/F12 -> 6.6648742 | G26: =G23/G12 -> 6.3385227 | H26: =H23/H12 -> 5.1842956 | I26: =I23/I12 -> 5.6795612 | J26: =J23/J12 -> 5.5302126 | K26: =K23/K12 -> 5.4712757 | ... P26: =P23/P12 -> 5.9844652 | T26: Average Cost of Sales ($/Mcf) | U26: =U23/U12 -> 8.4242346 | V26: =V23/V12 -> 8.5169476 | W26: =W23/W12 -> 7.9743007 | X26: =X23/X12 -> 6.4170824 | Y26: =Y23/Y12 -> 5.9974301 | Z26: =Z23/Z12 -> 5.8582557 | AA26: =AA23/AA12 -> 5.839236 | AB26: =AB23/AB12 -> 5.9919551 | ... AG26: =AG23/AG12 -> 6.4386276 | AJ26: Average Cost of Sales ($/Mcf) | AK26: =AK23/AK12 -> 8.6534225 | AL26: =AL23/AL12 -> 8.7561506 | AM26: =AM23/AM12 -> 8.5775398 | AN26: =AN23/AN12 -> 7.0230528 | AO26: =AO23/AO12 -> 6.6636855 | AP26: =AP23/AP12 -> 6.3727778 | AQ26: =AQ23/AQ12 -> 6.3687785 | AR26: =AR23/AR12 -> 6.5115182 | ... AW26: =AW23/AW12 -> 6.970848
C28: Total Revenue | D28: =SUM(D78,D83,D59,D71) -> 3166294.2 | E28: =SUM(E78,E83,E59,E71) -> 3334658.7 | F28: =SUM(F78,F83,F59,F71) -> 3281448.4 | G28: =SUM(G78,G83,G59,G71) -> 5095987.5 | H28: =SUM(H78,H83,H59,H71) -> 10175315 | I28: =SUM(I78,I83,I59,I71) -> 19874318 | J28: =SUM(J78,J83,J59,J71) -> 19885444 | K28: =SUM(K78,K83,K59,K71) -> 12480478 | ... O28: =SUM(O78,O83,O59,O71) -> 3129383.6 | P28: =SUM(D28:O28) -> 1.0024205e+08 | Q28: =P28/P12 -> 6.4789221 | T28: Total Revenue | U28: =SUM(U78,U83,U59,U71) -> 3050941.7 | V28: =SUM(V78,V83,V59,V71) -> 3003838.1 | W28: =SUM(W78,W83,W59,W71) -> 3125630 | X28: =SUM(X78,X83,X59,X71) -> 6296163.8 | Y28: =SUM(Y78,Y83,Y59,Y71) -> 9526309.2 | Z28: =SUM(Z78,Z83,Z59,Z71) -> 13619257 | AA28: =SUM(AA78,AA83,AA59,AA71) -> 15356574 | AB28: =SUM(AB78,AB83,AB59,AB71) -> 12775142 | ... AF28: =SUM(AF78,AF83,AF59,AF71) -> 2978315.2 | AG28: =SUM(U28:AF28) -> 91120177 | AJ28: Total Revenue | AK28: =SUM(AK78,AK83,AK59,AK71) -> 3125498.3 | AL28: =SUM(AL78,AL83,AL59,AL71) -> 3079391.6 | AM28: =SUM(AM78,AM83,AM59,AM71) -> 3281943 | AN28: =SUM(AN78,AN83,AN59,AN71) -> 6553078.7 | AO28: =SUM(AO78,AO83,AO59,AO71) -> 9838226.4 | AP28: =SUM(AP78,AP83,AP59,AP71) -> 14005108 | AQ28: =SUM(AQ78,AQ83,AQ59,AQ71) -> 15778292 | AR28: =SUM(AR78,AR83,AR59,AR71) -> 13113246 | ... AV28: =SUM(AV78,AV83,AV59,AV71) -> 3112419.8 | AW28: =SUM(AK28:AV28) -> 93941480
C29: YTD Revenue | D29: =D28 -> 3166294.2 | E29: =D29+E28 -> 6500952.9 | F29: =E29+F28 -> 9782401.4 | G29: =F29+G28 -> 14878389 | H29: =G29+H28 -> 25053703 | I29: =H29+I28 -> 44928021 | J29: =I29+J28 -> 64813465 | K29: =J29+K28 -> 77293943 | L29: =K29+L28 -> 87504285 | ... O29: =N29+O28 -> 1.0024205e+08 | T29: Cumulative Revenue | U29: =U28 -> 3050941.7 | V29: =U29+V28 -> 6054779.8 | W29: =V29+W28 -> 9180409.8 | X29: =W29+X28 -> 15476574 | Y29: =X29+Y28 -> 25002883 | Z29: =Y29+Z28 -> 38622140 | AA29: =Z29+AA28 -> 53978715 | AB29: =AA29+AB28 -> 66753857 | AC29: =AB29+AC28 -> 77199763 | ... AF29: =AE29+AF28 -> 91120177 | AJ29: Cumulative Revenue | AK29: =AK28 -> 3125498.3 | AL29: =AK29+AL28 -> 6204889.9 | AM29: =AL29+AM28 -> 9486832.9 | AN29: =AM29+AN28 -> 16039912 | AO29: =AN29+AO28 -> 25878138 | AP29: =AO29+AP28 -> 39883246 | AQ29: =AP29+AQ28 -> 55661538 | AR29: =AQ29+AR28 -> 68774785 | AS29: =AR29+AS28 -> 79516857 | ... AV29: =AU29+AV28 -> 93941480
C30: Total Revenue vs Total Costs | D30: =D28-D23 -> -808434.75 | E30: =E28-E23 -> -762277.37 | F30: =F28-F23 -> -236032.23 | G30: =G28-G23 -> 166594.48 | H30: =H28-H23 -> 2338199 | I30: =I28-I23 -> 2888143.1 | J30: =J28-J23 -> 3289325.4 | K30: =K28-K23 -> 1554894.9 | ... O30: =O28-O23 -> -745011.64 | P30: =SUM(D30:O30) -> 7650249.1 | T30: Total Revenue vs Total Costs | U30: =U28-U23 -> -1069701.1 | V30: =V28-V23 -> -1075281.6 | W30: =W28-W23 -> -908352.67 | X30: =X28-X23 -> -343345.03 | Y30: =Y28-Y23 -> 333346.91 | Z30: =Z28-Z23 -> 873505.78 | AA30: =AA28-AA23 -> 1089104.8 | AB30: =AB28-AB23 -> 613042.78 | ... AF30: =AF28-AF23 -> -1102796.7 | AG30: =SUM(U30:AF30) -> -2713543.6 | AJ30: Total Revenue vs Total Costs | AK30: =AK28-AK23 -> -1165429.9 | AL30: =AL28-AL23 -> -1173163.1 | AM30: =AM28-AM23 -> -1118481.3 | AN30: =AN28-AN23 -> -793559.57 | AO30: =AO28-AO23 -> -505349.73 | AP30: =AP28-AP23 -> -6920.6844 | AQ30: =AQ28-AQ23 -> 57043.971 | AR30: =AR28-AR23 -> -221306.58 | ... AV30: =AV28-AV23 -> -1283678.1
C31: YTD Revenue vs YTD Costs | D31: =D29-D25 -> -808434.75 | E31: =E29-E25 -> -1570712.1 | F31: =F29-F25 -> -1806744.4 | G31: =G29-G25 -> -1640149.9 | H31: =H29-H25 -> 698049.08 | I31: =I29-I25 -> 3586192.2 | J31: =J29-J25 -> 6875517.6 | K31: =K29-K25 -> 8430412.5 | ... O31: =O29-O25 -> 7650249.1 | T31: Cumulative Revenue vs Cumulative Costs | U31: =U29-U25 -> -1069701.1 | V31: =V29-V25 -> -2144982.7 | W31: =W29-W25 -> -3053335.4 | X31: =X29-X25 -> -3396680.4 | Y31: =Y29-Y25 -> -3063333.5 | Z31: =Z29-Z25 -> -2189827.7 | AA31: =AA29-AA25 -> -1100722.9 | AB31: =AB29-AB25 -> -487680.07 | ... AF31: =AF29-AF25 -> -2713543.6 | AJ31: Cumulative Revenue vs Cumulative Costs | AK31: =AK29-AK25 -> -1165429.9 | AL31: =AL29-AL25 -> -2338593 | AM31: =AM29-AM25 -> -3457074.3 | AN31: =AN29-AN25 -> -4250633.9 | AO31: =AO29-AO25 -> -4755983.6 | AP31: =AP29-AP25 -> -4762904.3 | AQ31: =AQ29-AQ25 -> -4705860.3 | AR31: =AR29-AR25 -> -4927166.9 | ... AV31: =AV29-AV25 -> -8783551.4
C33: PGC Commodity Costs (RS,GS,MS,CIS) | D33: =D19-D69 -> 1199357.8 | E33: =E19-E69 -> 1273840.9 | F33: =F19-F69 -> 910868.71 | G33: =G19-G69 -> 1962482.9 | H33: =H19-H69 -> 4713123.6 | I33: =I19-I69 -> 13208730 | J33: =J19-J69 -> 12704318 | K33: =K19-K69 -> 7473187.2 | ... O33: =O19-O69 -> 1164277.3 | P33: =SUM(D33:O33) -> 56760866 | T33: PGC Commodity Costs (RS,GS,MS,CIS) | U33: =U19-U69 -> 1283322.7 | V33: =V19-V69 -> 1288903.2 | W33: =W19-W69 -> 1421279.9 | X33: =X19-X69 -> 3360768.2 | Y33: =Y19-Y69 -> 5783606.7 | Z33: =Z19-Z69 -> 8929271.2 | AA33: =AA19-AA69 -> 10346922 | AB33: =AB19-AB69 -> 8467467.5 | ... AF33: =AF19-AF69 -> 1262942.1 | AG33: =SUM(U33:AF33) -> 54933618 | AJ33: PGC Commodity Costs (RS,GS,MS,CIS) | AK33: =AK19-AK69 -> 1389928.4 | AL33: =AL19-AL69 -> 1397661.5 | AM33: =AM19-AM69 -> 1644695.6 | AN33: =AN19-AN69 -> 3844868.2 | AO33: =AO19-AO69 -> 6680891.8 | AP33: =AP19-AP69 -> 9897065.3 | AQ33: =AQ19-AQ69 -> 11479133 | AR33: =AR19-AR69 -> 9383734.7 | ... AV33: =AV19-AV69 -> 1454349.4 | AW33: =SUM(AK33:AV33) -> 61531530
C34: PGC Unit Commodity Costs $/Mcf | D34: =D33/D10 -> 5.0270506 | E34: =E33/E10 -> 4.9998957 | F34: =F33/F10 -> 3.2544973 | G34: =G33/G10 -> 3.8866974 | H34: =H33/H10 -> 3.9856295 | I34: =I33/I10 -> 5.1371488 | J34: =J33/J10 -> 4.9699161 | K34: =K33/K10 -> 4.5444506 | ... P34: =P33/P10 -> 4.7920672 | T34: PGC Unit Commodity Costs $/Mcf | U34: =U33/U10 -> 4.8075052 | V34: =V33/V10 -> 4.8284107 | W34: =W33/W10 -> 4.5339802 | X34: =X33/X10 -> 4.6262158 | Y34: =Y33/Y10 -> 4.7476 | Z34: =Z33/Z10 -> 4.9756593 | AA34: =AA33/AA10 -> 5.0475756 | AB34: =AB33/AB10 -> 5.0373464 | ... AG34: =AG33/AG10 -> 4.9363184 | AJ34: PGC Unit Commodity Costs $/Mcf | AK34: =AK33/AK10 -> 5.1744284 | AL34: =AL33/AL10 -> 5.2032174 | AM34: =AM33/AM10 -> 5.2126993 | AN34: =AN33/AN10 -> 5.254887 | AO34: =AO33/AO10 -> 5.4438768 | AP34: =AP33/AP10 -> 5.4739445 | AQ34: =AQ33/AQ10 -> 5.558129 | AR34: =AR33/AR10 -> 5.5408966 | ... AW34: =AW33/AW10 -> 5.4891447
C35: RS,GS,MS Demand Costs | D35: =D20-D70-D59 -> 1300783.5 | E35: =E20-E70-E59 -> 1295320.1 | F35: =F20-F70-F59 -> 1311370.9 | G35: =G20-G70-G59 -> 1481308.1 | H35: =H20-H70-H59 -> 1464543.8 | I35: =I20-I70-I59 -> 1477029 | J35: =J20-J70-J59 -> 1475595.1 | K35: =K20-K70-K59 -> 1454627 | ... O35: =O20-O70-O59 -> 1405778.7 | P35: =SUM(D35:O35) -> 16875472 | Q35: =P35/P53 -> 0.22917316 | T35: RS,GS,MS Demand Costs | U35: =U20-U70-U59 -> 1444142.6 | V35: =V20-V70-V59 -> 1444142.6 | W35: =W20-W70-W59 -> 1444142.6 | X35: =X20-X70-X59 -> 1580190.3 | Y35: =Y20-Y70-Y59 -> 1628352.7 | Z35: =Z20-Z70-Z59 -> 1628352.7 | AA35: =AA20-AA70-AA59 -> 1628352.7 | AB35: =AB20-AB70-AB59 -> 1628352.7 | ... AF35: =AF20-AF70-AF59 -> 1444142.6 | AG35: =SUM(U35:AF35) -> 18386810 | AJ35: RS,GS,MS Demand Costs | AK35: =AK20-AK70-AK59 -> 1444142.6 | AL35: =AL20-AL70-AL59 -> 1444142.6 | AM35: =AM20-AM70-AM59 -> 1444142.6 | AN35: =AN20-AN70-AN59 -> 1580190.3 | AO35: =AO20-AO70-AO59 -> 1628352.7 | AP35: =AP20-AP70-AP59 -> 1628352.7 | AQ35: =AQ20-AQ70-AQ59 -> 1628352.7 | AR35: =AR20-AR70-AR59 -> 1628352.7 | ... AV35: =AV20-AV70-AV59 -> 1444142.6 | AW35: =SUM(AK35:AV35) -> 18386810
C36: RS,GS,MS Unit Demand Costs $/Mcf | D36: =D35/D8 -> 7.1747255 | E36: =E35/E8 -> 6.679018 | F36: =F35/F8 -> 6.1215509 | G36: =G35/G8 -> 3.5989808 | H36: =H35/H8 -> 1.436078 | I36: =I35/I8 -> 0.64300148 | J36: =J35/J8 -> 0.6467479 | K36: =K35/K8 -> 1.0008187 | ... P36: =P35/P8 -> 1.6505905 | T36: RS,GS,MS Unit Demand Costs $/Mcf | U36: =U35/U8 -> 7.3938776 | V36: =V35/V8 -> 7.3938776 | W36: =W35/W8 -> 6.0441527 | X36: =X35/X8 -> 2.5850157 | Y36: =Y35/Y8 -> 1.5391792 | Z36: =Z35/Z8 -> 1.0317828 | AA36: =AA35/AA8 -> 0.89999582 | AB36: =AB35/AB8 -> 1.1003908 | ... AG36: =AG35/AG8 -> 1.9296919 | AJ36: RS,GS,MS Unit Demand Costs $/Mcf | AK36: =AK35/AK8 -> 7.331069 | AL36: =AL35/AL8 -> 7.331069 | AM36: =AM35/AM8 -> 5.9928814 | AN36: =AN35/AN8 -> 2.5631568 | AO36: =AO35/AO8 -> 1.5261762 | AP36: =AP35/AP8 -> 1.0230695 | AQ36: =AQ35/AQ8 -> 0.89239627 | AR36: =AR35/AR8 -> 1.0910984 | ... AW36: =AW35/AW8 -> 1.9133829
C37: RS,GS,MS Unit PGC$/Mcf | D37: =D34+D36 -> 12.201776 | E37: =E34+E36 -> 11.678914 | F37: =F34+F36 -> 9.3760482 | G37: =G34+G36 -> 7.4856782 | H37: =H34+H36 -> 5.4217075 | I37: =I34+I36 -> 5.7801503 | J37: =J34+J36 -> 5.616664 | K37: =K34+K36 -> 5.5452693 | ... P37: =P34+P36 -> 6.4426577 | T37: RS,GS,MS Unit PGC$/Mcf | U37: =U34+U36 -> 12.201383 | V37: =V34+V36 -> 12.222288 | W37: =W34+W36 -> 10.578133 | X37: =X34+X36 -> 7.2112315 | Y37: =Y34+Y36 -> 6.2867792 | Z37: =Z34+Z36 -> 6.007442 | AA37: =AA34+AA36 -> 5.9475714 | AB37: =AB34+AB36 -> 6.1377372 | ... AG37: =AG34+AG36 -> 6.8660102 | AJ37: RS,GS,MS Unit PGC$/Mcf | AK37: =AK34+AK36 -> 12.505497 | AL37: =AL34+AL36 -> 12.534286 | AM37: =AM34+AM36 -> 11.205581 | AN37: =AN34+AN36 -> 7.8180438 | AO37: =AO34+AO36 -> 6.970053 | AP37: =AP34+AP36 -> 6.4970139 | AQ37: =AQ34+AQ36 -> 6.4505252 | AR37: =AR34+AR36 -> 6.631995 | ... AW37: =AW34+AW36 -> 7.4025277
C38: RS,GS,MS Mcfs - Projected | D38: =MCFS!D52-MCFS!D46 -> 193829.86 | E38: =MCFS!E52-MCFS!E46 -> 193829.86 | F38: =MCFS!F52-MCFS!F46 -> 237121.35 | G38: =MCFS!G52-MCFS!G46 -> 606697.07 | H38: =MCFS!H52-MCFS!H46 -> 1050011 | I38: =MCFS!I52-MCFS!I46 -> 1566384 | J38: =MCFS!J52-MCFS!J46 -> 1795754.6 | K38: =MCFS!K52-MCFS!K46 -> 1468722.7 | ... O38: =MCFS!O52-MCFS!O46 -> 187577.29 | P38: =SUM(D38:O38) -> 9456904.9 | T38: RS,GS,MS Mcfs - Projected | AJ38: RS,GS,MS Mcfs - Projected
C39: RS,GS,MS Average Unit Demand Cost - Projected | D39: =$P$35/$P$38 -> 1.7844604 | E39: =$P$35/$P$38 -> 1.7844604 | F39: =$P$35/$P$38 -> 1.7844604 | G39: =$P$35/$P$38 -> 1.7844604 | H39: =$P$35/$P$38 -> 1.7844604 | I39: =$P$35/$P$38 -> 1.7844604 | J39: =$P$35/$P$38 -> 1.7844604 | K39: =$P$35/$P$38 -> 1.7844604 | ... P39: =$P$35/$P$38 -> 1.7844604 | Q39: RS & GS COUNT | T39: RS,GS,MS Average Unit Demand Cost | U39: =$AG$35/$AG$8 -> 1.9296919 | V39: =$AG$35/$AG$8 -> 1.9296919 | W39: =$AG$35/$AG$8 -> 1.9296919 | X39: =$AG$35/$AG$8 -> 1.9296919 | Y39: =$AG$35/$AG$8 -> 1.9296919 | Z39: =$AG$35/$AG$8 -> 1.9296919 | AA39: =$AG$35/$AG$8 -> 1.9296919 | AB39: =$AG$35/$AG$8 -> 1.9296919 | ... AG39: =$AG$35/$AG$8 -> 1.9296919 | AJ39: RS,GS,MS Average Unit Demand Cost - Projected | AK39: =$AW$35/$AW$8 -> 1.9133829 | AL39: =$AW$35/$AW$8 -> 1.9133829 | AM39: =$AW$35/$AW$8 -> 1.9133829 | AN39: =$AW$35/$AW$8 -> 1.9133829 | AO39: =$AW$35/$AW$8 -> 1.9133829 | AP39: =$AW$35/$AW$8 -> 1.9133829 | AQ39: =$AW$35/$AW$8 -> 1.9133829 | AR39: =$AW$35/$AW$8 -> 1.9133829 | ... AW39: =$AW$35/$AW$8 -> 1.9133829
C40: RS,GS,MS Demand Revenue ($1.50/Mcf) - Projected | D40: =D38*D39 -> 345881.71 | E40: =E38*E39 -> 345881.71 | F40: =F38*F39 -> 423133.65 | G40: =G38*G39 -> 1082626.9 | H40: =H38*H39 -> 1873703 | I40: =I38*I39 -> 2795150.1 | J40: =J38*J39 -> 3204453 | K40: =K38*K39 -> 2620877.5 | ... O40: =O38*O39 -> 334724.23 | P40: =SUM(D40:O40) -> 16875472 | Q40: 109000 | T40: RS,GS,MS Demand Revenue ($1.48/Mcf) | U40: =1.48*U8 -> 289067.69 | V40: =1.48*V8 -> 289067.69 | W40: =1.48*W8 -> 353619.64 | X40: =1.48*X8 -> 904706.96 | Y40: =1.48*Y8 -> 1565745 | Z40: =1.48*Z8 -> 2335726.2 | AA40: =1.48*AA8 -> 2677748.1 | AB40: =1.48*AB8 -> 2190096.4 | ... AF40: =1.48*AF8 -> 279742.93 | AG40: =SUM(U40:AF40) -> 14101981 | AJ40: RS,GS,MS Demand Revenue ($1.44/Mcf) - Projected | AK40: =AK39*AK8 -> 376916.1 | AL40: =AL39*AL8 -> 376916.1 | AM40: =AM39*AM8 -> 461080.03 | AN40: =AN39*AN8 -> 1179603.7 | AO40: =AO39*AO8 -> 2041482.7 | AP40: =AP39*AP8 -> 3045406.5 | AQ40: =AQ39*AQ8 -> 3491344 | AR40: =AR39*AR8 -> 2855528.2 | ... AV40: =AV39*AV8 -> 364757.51 | AW40: =SUM(AK40:AV40) -> 18386810
C41: RS,GS,MS Mcfs - Actual | D41: =+MCFS!D87-MCFS!D79 -> 181300.8 | E41: =+MCFS!E87-MCFS!E79 -> 193938.7 | F41: =+MCFS!F87-MCFS!F79 -> 214222 | G41: =+MCFS!G87-MCFS!G79 -> 411591 | H41: =+MCFS!H87-MCFS!H79 -> 1019821.9 | I41: =+MCFS!I87-MCFS!I79 -> 2297085 | J41: =+MCFS!J87-MCFS!J79 -> 2281561.4 | K41: =+MCFS!K87-MCFS!K79 -> 1453437.1 | ... M41: =+MCFS!M87-MCFS!M79 -> 528496.4 | T41: RS,GS,MS Mcfs - Actual | AJ41: RS,GS,MS Mcfs - Actual
C42: RS,GS,MS Mcfs - Actual vs Projected | D42: =D41-D38 -> -12529.062 | E42: =E41-E38 -> 108.83802 | F42: =F41-F38 -> -22899.351 | G42: =G41-G38 -> -195106.07 | H42: =H41-H38 -> -30189.107 | I42: =I41-I38 -> 730701.05 | J42: =J41-J38 -> 485806.77 | K42: =K41-K38 -> -15285.615 | ... M42: =M41-M38 -> -125162.09 | T42: RS,GS,MS Mcfs - Actual vs Projected | AJ42: RS,GS,MS Mcfs - Actual vs Projected
C43: RS,GS,MS - Actual vs Projected Demand Revenue | D43: =D42*D39 -> -22357.615 | E43: =E42*E39 -> 194.21714 | F43: =F42*F39 -> -40862.984 | G43: =G42*G39 -> -348159.05 | H43: =H42*H39 -> -53871.265 | I43: =I42*I39 -> 1303907.1 | J43: =J42*J39 -> 866902.94 | K43: =K42*K39 -> -27276.575 | ... M43: =M42*M39 -> -223346.79 | T43: RS,GS,MS - Actual vs Projected Demand Revenue | AJ43: RS,GS,MS - Actual vs Projected Demand Revenue
...

Sheet FIN OPS REV VOL VS YR REPORTS
B1: 40360 | C1: 40391 | D1: 40422 | E1: 40452 | F1: 40483 | G1: 40513 | H1: 40544 | I1: 40575 | J1: 40603 | K1: 40634 | L1: 40664 | M1: 40695 | N1: FY YTD
A2: RS,GS,MS PGC Revenue | B2: =+'YR REPORTS'!D78 -> 1332560.9 | C2: =+'YR REPORTS'!E78 -> 1425449.4 | D2: =+'YR REPORTS'!F78 -> 1574531.7 | E2: =+'YR REPORTS'!G78 -> 3025193.8 | F2: =+'YR REPORTS'!H78 -> 7495691 | G2: =+'YR REPORTS'!I78 -> 15964741 | H2: =+'YR REPORTS'!J78 -> 15856852 | I2: =+'YR REPORTS'!K78 -> 9447341.2 | ... M2: =+'YR REPORTS'!O78 -> 1399156.2 | N2: =SUM(B2:M2) -> 70233485
A3: Residental PGA - Fin Ops | B3: 758096.51 | C3: 789407.54 | D3: 926137.48 | E3: 1979609 | F3: 5018640.2 | G3: 11225986 | H3: 10883032 | I3: 6541663.8 | J3: 4965762.3 | K3: 2122836 | L3: 1033292.3 | M3: 802994.08 | N3: =SUM(B3:M3) -> 47047457
A4: Commercial PGA - Fin Ops | B4: 547736.87 | C4: 605986.57 | D4: 620616 | E4: 967915 | F4: 1912798.2 | G4: 4298669.3 | H4: 4505830 | I4: 2753948.6 | J4: 2315541.6 | K4: 1200454.8 | L4: 688431.55 | M4: 567320.29 | N4: =SUM(B4:M4) -> 20985249
A5: Municipal PGA - Fin Ops | B5: 18910.39 | C5: 30309.52 | D5: 21356.49 | E5: 74756 | F5: 205883.28 | G5: 434218.29 | H5: 464997.75 | I5: 298759.78 | J5: 212086.55 | K5: 112736 | L5: 41617.55 | M5: 27032.85 | N5: =SUM(B5:M5) -> 1942664.5
A6: RS,GS,MS PGA Revenue Totals | B6: =SUM(B3:B5) -> 1324743.8 | C6: =SUM(C3:C5) -> 1425703.6 | D6: =SUM(D3:D5) -> 1568110 | E6: =SUM(E3:E5) -> 3022280 | F6: =SUM(F3:F5) -> 7137321.7 | G6: =SUM(G3:G5) -> 15958874 | H6: =SUM(H3:H5) -> 15853859 | I6: =SUM(I3:I5) -> 9594372.2 | ... M6: =SUM(M3:M5) -> 1397347.2 | N6: =SUM(B6:M6) -> 69975370
A7: Differences | B7: =B6-B2 -> -7817.11 | C7: =C6-C2 -> 254.185 | D7: =D6-D2 -> -6421.73 | E7: =E6-E2 -> -2913.85 | F7: =F6-F2 -> -358369.25 | G7: =G6-G2 -> -5867.22 | H7: =H6-H2 -> -2992.41 | I7: =I6-I2 -> 147031.09 | ... M7: =M6-M2 -> -1808.98 | N7: =SUM(B7:M7) -> -258114.83
A9: CIS PGC Revenue | B9: =+'YR REPORTS'!D83 -> 359145.6 | C9: =+'YR REPORTS'!E83 -> 381434.2 | D9: =+'YR REPORTS'!F83 -> 411675.66 | E9: =+'YR REPORTS'!G83 -> 585191.64 | F9: =+'YR REPORTS'!H83 -> 1020175.4 | G9: =+'YR REPORTS'!I83 -> 1609161.9 | H9: =+'YR REPORTS'!J83 -> 1612386.9 | I9: =+'YR REPORTS'!K83 -> 1035368 | ... M9: =+'YR REPORTS'!O83 -> 340409.06 | N9: =SUM(B9:M9) -> 9405845.9
A10: CIS PGC Revenue - Fin Ops | B10: 360273.06 | C10: 381434.4 | D10: 411678.3 | E10: 552241 | F10: 969061.26 | G10: 1609217.3 | H10: 1613875.6 | I10: 1056667.9 | J10: 1006936.8 | K10: 578052.74 | L10: 465908.09 | M10: 340409.04 | N10: =SUM(B10:M10) -> 9345755.5
A11: Differences | B11: =B10-B9 -> 1127.46 | C11: =C10-C9 -> 0.204 | D11: =D10-D9 -> 2.64 | E11: =E10-E9 -> -32950.64 | F11: =F10-F9 -> -51114.138 | G11: =G10-G9 -> 55.416 | H11: =H10-H9 -> 1488.738 | I11: =I10-I9 -> 21299.904 | ... M11: =M10-M9 -> -0.022 | N11: =SUM(B11:M11) -> -60090.426
A13: Non-PGC Commodity Costs | B13: =+'YR REPORTS'!D69 -> 1177924.7 | C13: =+'YR REPORTS'!E69 -> 1233001.7 | D13: =+'YR REPORTS'!F69 -> 1024068.1 | E13: =+'YR REPORTS'!G69 -> 1183524 | F13: =+'YR REPORTS'!H69 -> 1348157.6 | G13: =+'YR REPORTS'!I69 -> 2006626.4 | H13: =+'YR REPORTS'!J69 -> 2111528.8 | I13: =+'YR REPORTS'!K69 -> 1696419.6 | ... M13: =+'YR REPORTS'!O69 -> 1080554.7 | N13: =SUM(C13:M13) -> 15874206
A14: Flex Gas (cog*flex vols)/PGA - Fin Ops | B14: 108136.3 | C14: 135196.45 | D14: 105145.07 | E14: 78394 | F14: 69132.83 | G14: 158459.15 | H14: 158878.05 | I14: 163760.35 | J14: 99861.847 | K14: 58036.962 | L14: 74980.66 | M14: 74056.57 | N14: =SUM(C14:M14) -> 1175901.9
A15: LVS Gas Cost(gwac) - Fin Ops | B15: 1013914.8 | C15: 1087011.1 | D15: 1017001.1 | E15: 1078817 | F15: 1001657.8 | G15: 1186066.2 | H15: 1279910.2 | I15: 1091293.9 | J15: 956645.99 | K15: 1256857.3 | L15: 935777.77 | M15: 804578.85 | N15: =SUM(E15:M15) -> 9591605.1
A16: LVS Gas Cost(fwa1) - Fin Ops | B16: 0 | C16: 0 | D16: 0 | E16: 0 | F16: 272919.36 | G16: 512183.25 | H16: 684296.17 | I16: 477734.33 | J16: 399351.65 | K16: 81697.07 | L16: 305041.9 | M16: 218937.18 | N16: =SUM(C16:M16) -> 2952160.9
A17: Flex and LVS Gas Cost Totals | B17: =SUM(B14:B16) -> 1122051.1 | C17: =SUM(C14:C16) -> 1222207.6 | D17: =SUM(D14:D16) -> 1122146.1 | E17: =SUM(E14:E16) -> 1157211 | F17: =SUM(F14:F16) -> 1343710 | G17: =SUM(G14:G16) -> 1856708.7 | H17: =SUM(H14:H16) -> 2123084.4 | I17: =SUM(I14:I16) -> 1732788.6 | ... M17: =SUM(M14:M16) -> 1097572.6 | N17: =SUM(B17:M17) -> 16945731
A18: Differences | B18: =B17-B13 -> -55873.571 | C18: =C17-C13 -> -10794.109 | D18: =D17-D13 -> 98078.061 | E18: =E17-E13 -> -26313.003 | F18: =F17-F13 -> -4447.6587 | G18: =G17-G13 -> -149917.72 | H18: =H17-H13 -> 11555.677 | I18: =I17-I13 -> 36368.987 | ... M18: =M17-M13 -> 17017.893 | N18: =SUM(B18:M18) -> -106399.48
A20: Total PGC Revenue | B20: =SUM(B2,B9,B13) -> 2869631.2 | C20: =SUM(C2,C9,C13) -> 3039885.3 | D20: =SUM(D2,D9,D13) -> 3010275.4 | E20: =SUM(E2,E9,E13) -> 4793909.5 | F20: =SUM(F2,F9,F13) -> 9864024 | G20: =SUM(G2,G9,G13) -> 19580529 | H20: =SUM(H2,H9,H13) -> 19580767 | I20: =SUM(I2,I9,I13) -> 12179129 | ... M20: =SUM(M2,M9,M13) -> 2820120 | N20: =SUM(B20:M20) -> 96691461
A21: YTD PGC Revenue | B21: =B20 -> 2869631.2 | C21: =B21+C20 -> 5909516.5 | D21: =C21+D20 -> 8919791.9 | E21: =D21+E20 -> 13713701 | F21: =E21+F20 -> 23577725 | G21: =F21+G20 -> 43158254 | H21: =G21+H20 -> 62739022 | I21: =H21+I20 -> 74918151 | J21: =I21+J20 -> 84842133 | ... M21: =L21+M20 -> 96691461
A23: Total PGC Revenue - Fin Ops Rev Vol | B23: =SUM(B6,B10,B17) -> 2807068 | C23: =SUM(C6,C10,C17) -> 3029345.6 | D23: =SUM(D6,D10,D17) -> 3101934.4 | E23: =SUM(E6,E10,E17) -> 4731732 | F23: =SUM(F6,F10,F17) -> 9450093 | G23: =SUM(G6,G10,G17) -> 19424799 | H23: =SUM(H6,H10,H17) -> 19590819 | I23: =SUM(I6,I10,I17) -> 12383829 | ... M23: =SUM(M6,M10,M17) -> 2835328.9 | N23: =SUM(B23:M23) -> 96266857
A24: YTD PGC Revenue - Fin Ops Rev Vol | B24: =B23 -> 2807068 | C24: =B24+C23 -> 5836413.6 | D24: =C24+D23 -> 8938348 | E24: =D24+E23 -> 13670080 | F24: =E24+F23 -> 23120173 | G24: =F24+G23 -> 42544972 | H24: =G24+H23 -> 62135792 | I24: =H24+I23 -> 74519620 | J24: =I24+J23 -> 84475807 | ... M24: =L24+M23 -> 96266857
A26: Mth Differences | B26: =B23-B20 -> -62563.221 | C26: =C23-C20 -> -10539.72 | D26: =D23-D20 -> 91658.971 | E26: =E23-E20 -> -62177.493 | F26: =F23-F20 -> -413931.05 | G26: =G23-G20 -> -155729.53 | H26: =H23-H20 -> 10052.005 | I26: =I23-I20 -> 204699.98 | ... M26: =M23-M20 -> 15208.891 | N26: =SUM(B26:M26) -> -424604.74
A27: YTD Differences | B27: =B24-B21 -> -62563.221 | C27: =C24-C21 -> -73102.941 | D27: =D24-D21 -> 18556.03 | E27: =E24-E21 -> -43621.463 | F27: =F24-F21 -> -457552.51 | G27: =G24-G21 -> -613282.04 | H27: =H24-H21 -> -603230.04 | I27: =I24-I21 -> -398530.05 | ... M27: =M24-M21 -> -424604.74

Sheet PGC GRAPHS
A1: FACTOR | B1: 1000000 | X1: FACTOR | Y1: 1000000 | AN1: FACTOR | AO1: 1000000
A3: PGC MTH UNIT COSTS & RATES ($M) | B3: 40360 | C3: 40391 | D3: 40422 | E3: 40452 | F3: 40483 | G3: 40513 | H3: 40544 | I3: 40575 | J3: 40603 | K3: 40634 | L3: 40664 | M3: 40695 | N3: 1011 | X3: PGC MTH UNIT COSTS & RATES ($M) | Y3: 40725 | Z3: 40756 | AA3: 40787 | AB3: 40817 | AC3: 40848 | AD3: 40878 | AE3: 40909 | AF3: 40940 | AG3: 40969 | AH3: 41000 | AI3: 41030 | AJ3: 41061 | AK3: 1112 | AN3: PGC MTH UNIT COST & RATE ($M) | AO3: 41091 | AP3: 41122 | AQ3: 41153 | AR3: 41183 | AS3: 41214 | AT3: 41244 | AU3: 41275 | AV3: 41306 | AW3: 41334 | AX3: 41365 | AY3: 41395 | AZ3: 41426 | BA3: 1213
A4: UNIT COMMODITY COST | B4: =+'YR REPORTS'!D34 -> 5.0270506 | C4: =+'YR REPORTS'!E34 -> 4.9998957 | D4: =+'YR REPORTS'!F34 -> 3.2544973 | E4: =+'YR REPORTS'!G34 -> 3.8866974 | F4: =+'YR REPORTS'!H34 -> 3.9856295 | G4: =+'YR REPORTS'!I34 -> 5.1371488 | H4: =+'YR REPORTS'!J34 -> 4.9699161 | I4: =+'YR REPORTS'!K34 -> 4.5444506 | ... N4: =+'YR REPORTS'!P34 -> 4.7920672 | X4: PGC UNIT COMMODITY COST | Y4: =+'YR REPORTS'!U34 -> 4.8075052 | Z4: =+'YR REPORTS'!V34 -> 4.8284107 | AA4: =+'YR REPORTS'!W34 -> 4.5339802 | AB4: =+'YR REPORTS'!X34 -> 4.6262158 | AC4: =+'YR REPORTS'!Y34 -> 4.7476 | AD4: =+'YR REPORTS'!Z34 -> 4.9756593 | AE4: =+'YR REPORTS'!AA34 -> 5.0475756 | AF4: =+'YR REPORTS'!AB34 -> 5.0373464 | ... AK4: =+'YR REPORTS'!AG34 -> 4.9363184
A5: UNIT DEMAND COST | B5: =+'YR REPORTS'!D36 -> 7.1747255 | C5: =+'YR REPORTS'!E36 -> 6.679018 | D5: =+'YR REPORTS'!F36 -> 6.1215509 | E5: =+'YR REPORTS'!G36 -> 3.5989808 | F5: =+'YR REPORTS'!H36 -> 1.436078 | G5: =+'YR REPORTS'!I36 -> 0.64300148 | H5: =+'YR REPORTS'!J36 -> 0.6467479 | I5: =+'YR REPORTS'!K36 -> 1.0008187 | ... N5: =+'YR REPORTS'!P36 -> 1.6505905 | X5: PGC UNIT DEMAND COST | Y5: =+'YR REPORTS'!U36 -> 7.3938776 | Z5: =+'YR REPORTS'!V36 -> 7.3938776 | AA5: =+'YR REPORTS'!W36 -> 6.0441527 | AB5: =+'YR REPORTS'!X36 -> 2.5850157 | AC5: =+'YR REPORTS'!Y36 -> 1.5391792 | AD5: =+'YR REPORTS'!Z36 -> 1.0317828 | AE5: =+'YR REPORTS'!AA36 -> 0.89999582 | AF5: =+'YR REPORTS'!AB36 -> 1.1003908 | ... AK5: =+'YR REPORTS'!AG36 -> 1.9296919
A6: UNIT COST | B6: =+'YR REPORTS'!D37 -> 12.201776 | C6: =+'YR REPORTS'!E37 -> 11.678914 | D6: =+'YR REPORTS'!F37 -> 9.3760482 | E6: =+'YR REPORTS'!G37 -> 7.4856782 | F6: =+'YR REPORTS'!H37 -> 5.4217075 | G6: =+'YR REPORTS'!I37 -> 5.7801503 | H6: =+'YR REPORTS'!J37 -> 5.616664 | I6: =+'YR REPORTS'!K37 -> 5.5452693 | ... N6: =+'YR REPORTS'!P37 -> 6.4426577 | X6: PGC UNIT COST | Y6: =+'YR REPORTS'!U37 -> 12.201383 | Z6: =+'YR REPORTS'!V37 -> 12.222288 | AA6: =+'YR REPORTS'!W37 -> 10.578133 | AB6: =+'YR REPORTS'!X37 -> 7.2112315 | AC6: =+'YR REPORTS'!Y37 -> 6.2867792 | AD6: =+'YR REPORTS'!Z37 -> 6.007442 | AE6: =+'YR REPORTS'!AA37 -> 5.9475714 | AF6: =+'YR REPORTS'!AB37 -> 6.1377372 | ... AK6: =+'YR REPORTS'!AG37 -> 6.8660102 | AN6: RS UNIT COST | AO6: =+'YR REPORTS'!AK37 -> 12.505497 | AP6: =+'YR REPORTS'!AL37 -> 12.534286 | AQ6: =+'YR REPORTS'!AM37 -> 11.205581 | AR6: =+'YR REPORTS'!AN37 -> 7.8180438 | AS6: =+'YR REPORTS'!AO37 -> 6.970053 | AT6: =+'YR REPORTS'!AP37 -> 6.4970139 | AU6: =+'YR REPORTS'!AQ37 -> 6.4505252 | AV6: =+'YR REPORTS'!AR37 -> 6.631995 | ... AZ6: =+'YR REPORTS'!AV37 -> 13.170168
A7: PROJ AVG UNIT DEMAND COST | B7: =+'YR REPORTS'!D39 -> 1.7844604 | C7: =+'YR REPORTS'!E39 -> 1.7844604 | D7: =+'YR REPORTS'!F39 -> 1.7844604 | E7: =+'YR REPORTS'!G39 -> 1.7844604 | F7: =+'YR REPORTS'!H39 -> 1.7844604 | G7: =+'YR REPORTS'!I39 -> 1.7844604 | H7: =+'YR REPORTS'!J39 -> 1.7844604 | I7: =+'YR REPORTS'!K39 -> 1.7844604 | ... N7: =+'YR REPORTS'!P39 -> 1.7844604 | X7: PROJ AVG UNIT DEMAND COST | Y7: =+'YR REPORTS'!U39 -> 1.9296919 | Z7: =+'YR REPORTS'!V39 -> 1.9296919 | AA7: =+'YR REPORTS'!W39 -> 1.9296919 | AB7: =+'YR REPORTS'!X39 -> 1.9296919 | AC7: =+'YR REPORTS'!Y39 -> 1.9296919 | AD7: =+'YR REPORTS'!Z39 -> 1.9296919 | AE7: =+'YR REPORTS'!AA39 -> 1.9296919 | AF7: =+'YR REPORTS'!AB39 -> 1.9296919 | ... AK7: =+'YR REPORTS'!AG39 -> 1.9296919
